BEGIN:VCALENDAR
VERSION:2.0
PRODID:-//cSPACE Projects - ECPv6.15.20//NONSGML v1.0//EN
CALSCALE:GREGORIAN
METHOD:PUBLISH
X-ORIGINAL-URL:https://cspaceprojects.com
X-WR-CALDESC:Events for cSPACE Projects
REFRESH-INTERVAL;VALUE=DURATION:PT1H
X-Robots-Tag:noindex
X-PUBLISHED-TTL:PT1H
BEGIN:VTIMEZONE
TZID:America/Edmonton
BEGIN:DAYLIGHT
TZOFFSETFROM:-0700
TZOFFSETTO:-0600
TZNAME:MDT
DTSTART:20230312T090000
END:DAYLIGHT
BEGIN:STANDARD
TZOFFSETFROM:-0600
TZOFFSETTO:-0700
TZNAME:MST
DTSTART:20231105T080000
END:STANDARD
BEGIN:DAYLIGHT
TZOFFSETFROM:-0700
TZOFFSETTO:-0600
TZNAME:MDT
DTSTART:20240310T090000
END:DAYLIGHT
BEGIN:STANDARD
TZOFFSETFROM:-0600
TZOFFSETTO:-0700
TZNAME:MST
DTSTART:20241103T080000
END:STANDARD
BEGIN:DAYLIGHT
TZOFFSETFROM:-0700
TZOFFSETTO:-0600
TZNAME:MDT
DTSTART:20250309T090000
END:DAYLIGHT
BEGIN:STANDARD
TZOFFSETFROM:-0600
TZOFFSETTO:-0700
TZNAME:MST
DTSTART:20251102T080000
END:STANDARD
END:VTIMEZONE
BEGIN:VEVENT
DTSTART;TZID=America/Edmonton:20240203T200000
DTEND;TZID=America/Edmonton:20240203T220000
DTSTAMP:20260423T232541
CREATED:20240105T171608Z
LAST-MODIFIED:20240204T234455Z
UID:10000770-1706990400-1706997600@cspaceprojects.com
SUMMARY:Arabian Nights (ليالي عربية) – 2/3/24
DESCRIPTION:Unleash the Magic of Arabia! Join our vibrant alcohol-free Arabic Music Fiesta and experience captivating rhythms\, and pure musical bliss.\n\n\nNote: This event is strictly alcohol-free\, ensuring a safe and enjoyable environment for all. This event is a photographed/videographed event so by attending this\, you are aware that you may appear in photos or videos. \nGet ready to dance the night away! Join us for an unforgettable night celebrating the rich tapestry of Arabian culture through captivating melodies and pulsating rhythms. Immerse yourself in the enchanting world of Arabic music and let the music carry you. This is an experience you won’t want to miss! Discover the warmth of Arabian hospitality and the joy of shared moments. \nWhat to Expect: \n\nNon-stop dancefloor (standing only) bliss with top-notch Arabic beats\nA vibrant and inclusive atmosphere for everyone\nLive DJ performance by Sabrology that will keep you moving all night long\nDress Code in Effect: Dress To Impress\n\nExperience the allure of Arabia’s finest musical treasures as Sabrology transports you on a melodic journey like no other. From traditional classics to contemporary bops\, there’s a tune for every soul to dance to. Be part of this magical celebration of music and culture and let’s make this night truly special together! \nFor any questions\, please contact: sabrology101@gmail.com \nWatch Out for Ticket Scammers! \n\nOnly purchase tickets online from this Eventrbrite link below\nDo not purchase from someone you do not know\nPurchasing tickets from someone else is at your own risk i.e. Sabrology will not be held liable for any financial or non-financial impacts stemming directly from your actions\n\nStay connected & follow @djsabrology on Instagram. \nTickets & more info: https://www.eventbrite.com/e/arabian-nights-2324-tickets-738575066907?aff=oddtdtcreator
URL:https://cspaceprojects.com/event/arabian-nights-%d9%84%d9%8a%d8%a7%d9%84%d9%8a-%d8%b9%d8%b1%d8%a8%d9%8a%d8%a9-2-3-24/
LOCATION:cSPACE Marda Loop (formerly cSPACE King Edward)\, 1721 29 Avenue Southwest\, #4th Flr\, Calgary\, AB\, T2T 6T7\, Canada
CATEGORIES:Studio Theatre
ATTACH;FMTTYPE=image/jpeg:https://cspaceprojects.com/wp-content/uploads/2024/01/ce24805370b2d7f4acb8f00d2b3e4855-1-nBDljx.tmp_.jpg
END:VEVENT
END:VCALENDAR