BEGIN:VCALENDAR
VERSION:2.0
PRODID:-//cSPACE Projects - ECPv6.15.20//NONSGML v1.0//EN
CALSCALE:GREGORIAN
METHOD:PUBLISH
X-ORIGINAL-URL:https://cspaceprojects.com
X-WR-CALDESC:Events for cSPACE Projects
REFRESH-INTERVAL;VALUE=DURATION:PT1H
X-Robots-Tag:noindex
X-PUBLISHED-TTL:PT1H
BEGIN:VTIMEZONE
TZID:America/Edmonton
BEGIN:DAYLIGHT
TZOFFSETFROM:-0700
TZOFFSETTO:-0600
TZNAME:MDT
DTSTART:20240310T090000
END:DAYLIGHT
BEGIN:STANDARD
TZOFFSETFROM:-0600
TZOFFSETTO:-0700
TZNAME:MST
DTSTART:20241103T080000
END:STANDARD
BEGIN:DAYLIGHT
TZOFFSETFROM:-0700
TZOFFSETTO:-0600
TZNAME:MDT
DTSTART:20250309T090000
END:DAYLIGHT
BEGIN:STANDARD
TZOFFSETFROM:-0600
TZOFFSETTO:-0700
TZNAME:MST
DTSTART:20251102T080000
END:STANDARD
BEGIN:DAYLIGHT
TZOFFSETFROM:-0700
TZOFFSETTO:-0600
TZNAME:MDT
DTSTART:20260308T090000
END:DAYLIGHT
BEGIN:STANDARD
TZOFFSETFROM:-0600
TZOFFSETTO:-0700
TZNAME:MST
DTSTART:20261101T080000
END:STANDARD
END:VTIMEZONE
BEGIN:VTIMEZONE
TZID:UTC
BEGIN:STANDARD
TZOFFSETFROM:+0000
TZOFFSETTO:+0000
TZNAME:UTC
DTSTART:20240101T000000
END:STANDARD
END:VTIMEZONE
BEGIN:VEVENT
DTSTART;TZID=America/Edmonton:20250824T120000
DTEND;TZID=America/Edmonton:20250824T160000
DTSTAMP:20260419T125545
CREATED:20250621T183216Z
LAST-MODIFIED:20250824T234711Z
UID:10001724-1756036800-1756051200@cspaceprojects.com
SUMMARY:Flavours & Finds Summer Market
DESCRIPTION:Sip\, snack\, & shop local at Flavours & Finds Summer Market – an afternoon of locally crafted food\, drink\, and specialty goods.\n\n\nWelcome to the Flavours & Finds Summer Market\, hosted by Dine Find! Enjoy the summer weather at cSPACE in Marda Loop wiht this unique market featuring handmade goods and locally-crafted food & drink. Discover our curated lineup of vendors offering everything from skincare\, ceramics\, art\, and candles to jewelry and one-of-a-kind gifts. Grab a drink in our beer garden and try something sweet (or savoury) from one of our featured food businesses\, all in a lovely indoor and outdoor space designed for lingering. \n  \n➜ Refreshing drinks & tasty snacks \n➜ Handmade candles & soaps \n➜ Bath salts & body care \n➜ Ceramics & home goods \n➜ Jewelry\, clothing\, & accessories \n➜ Beer Garden Area \n➜ Gluten-free & vegan treats \n➜ Art prints & cards \n  \nWhether you’re here to shop local\, try new snacks\, or simply soak in the vibes\, this is the place to be. \n  \nFollow our Instagram for giveaways\, vendor spotlights\, and market updates! \n  \n📍cSPACE\, Marda Loop \n🗓️ August 24th\, 2025 \n🕙 12pm-4pm \n🎟️ Free tickets \n  \nLet’s shop\, snack\, and celebrate local together.
URL:https://cspaceprojects.com/event/flavours-finds-summer-market/
LOCATION:cSPACE Marda Loop\, 1721 29 Avenue Southwest\, Calgary\, AB\, T2T 6T7\, Canada
ATTACH;FMTTYPE=image/jpeg:https://cspaceprojects.com/wp-content/uploads/2025/06/fef45b8fcc8aa5cfad039b02d6642717-1-kpNRPH.jpg
END:VEVENT
BEGIN:VEVENT
DTSTART;TZID=UTC:20250515T180000
DTEND;TZID=UTC:20250515T220000
DTSTAMP:20260419T125545
CREATED:20250417T113445Z
LAST-MODIFIED:20250515T231849Z
UID:10001607-1747332000-1747346400@cspaceprojects.com
SUMMARY:Flavours & Finds Night Market
DESCRIPTION:Flavours & Finds Night Market\nJoin us for an evening of local magic at Dine Find’s Flavours & Finds Night Market — a vibrant evening of handmade artisan goods\, community connection\, and inclusive eats. \nDiscover a curated lineup of vendors offering everything from ceramics\, art prints\, and candles to jewelry and one-of-a-kind gifts. Grab a mocktail and try something sweet (or savory) — all in a beautifully lit\, cozy space designed for lingering. \nWhether you’re here to support local businesses\, find healthy treats\, or simply soak in the vibes\, this is the place to be. \n📍 cSPACE Studio Theatre\n🛍️ Local Vendors\n🌱 Gluten-free and Vegetarian Snacks\n🍹 Sprit-free Sips\n🎶 Chill Music & Cozy Atmosphere\n📱 Live Demos & Interactive Booths \nLet’s shop\, snack\, and celebrate local — together. \nfor more info: https://www.eventbrite.ca/e/flavours-finds-night-market-tickets-1305659937019
URL:https://cspaceprojects.com/event/flavours-finds-night-market/
LOCATION:cSPACE Marda Loop-  Studio Theatre\, 1721 29th Ave. SW\, Calgary\, AB\, T2T 6T7\, Canada
CATEGORIES:Studio Theatre
ATTACH;FMTTYPE=image/jpeg:https://cspaceprojects.com/wp-content/uploads/2025/04/flavours-finds-5.0-mbu9yO.jpg
END:VEVENT
END:VCALENDAR