BEGIN:VCALENDAR
VERSION:2.0
PRODID:-//cSPACE Projects - ECPv6.15.20//NONSGML v1.0//EN
CALSCALE:GREGORIAN
METHOD:PUBLISH
X-WR-CALNAME:cSPACE Projects
X-ORIGINAL-URL:https://cspaceprojects.com
X-WR-CALDESC:Events for cSPACE Projects
REFRESH-INTERVAL;VALUE=DURATION:PT1H
X-Robots-Tag:noindex
X-PUBLISHED-TTL:PT1H
BEGIN:VTIMEZONE
TZID:UTC
BEGIN:STANDARD
TZOFFSETFROM:+0000
TZOFFSETTO:+0000
TZNAME:UTC
DTSTART:20230101T000000
END:STANDARD
END:VTIMEZONE
BEGIN:VEVENT
DTSTART;TZID=UTC:20240430T080000
DTEND;TZID=UTC:20240512T200000
DTSTAMP:20260422T115004
CREATED:20240401T172939Z
LAST-MODIFIED:20240430T231326Z
UID:10001010-1714464000-1715544000@cspaceprojects.com
SUMMARY:Alison Frank’s Love Aquatic
DESCRIPTION:cSPACE Marda Loop\nLevel 2 Gallery\nApril 29-May 11\, 2024 \nLove Aquatic is an art exhibition featuring the painting\, drawing and photography by Alison Frank. It is the merger of her work as a visual artist and as a professional mermaid. Her paintings in this collection are inspired by the beauty experienced and captured through her freediving as a mermaid. The underwater world is a tranquil escape where time and daily pressures seem to dissolve. Water and the gravity free environment have many therapeutic healing benefits from fitness to pain relief. This solstice has been one component\, for her\, in managing a diagnosis with Multiple Sclerosis in a holistic approach. To this underwater world\, she adds her surreal and playful mix of characters. Children gravitate to water and the joy of swimming. As adults\, we often lose our affinity for this magical place. She visually shares the ephemeral beauty of the way water reflects light in a way we can never experience above the surface. Through this exhibition\, she hopes to connect to viewers in a way that might inspire them to revisit the water and experience it’s many benefits. \nInstagram: @snowbunnymermaid
URL:https://cspaceprojects.com/event/alison-franks-love-aquatic-38/
LOCATION:cSPACE Marda Loop (formerly cSPACE King Edward)\, 29 Avenue Southwest\, Calgary\, AB\, Canada\, 1721 29 Avenue Southwest\, Calgary\, AB\, T2T 6T7\, Canada
CATEGORIES:Gallery Level 2
ATTACH;FMTTYPE=image/jpeg:https://cspaceprojects.com/wp-content/uploads/2024/03/alison-frank-love-aquatic-artist-exhibition-4uyVQE.tmp_.jpg
END:VEVENT
BEGIN:VEVENT
DTSTART;TZID=UTC:20240502T180000
DTEND;TZID=UTC:20240502T210000
DTSTAMP:20260422T115004
CREATED:20240326T231327Z
LAST-MODIFIED:20240502T235820Z
UID:10000945-1714672800-1714683600@cspaceprojects.com
SUMMARY:Patternmaking 101
DESCRIPTION:Like making your own clothes but have a hard time finding patterns with that perfect fit? Come learn the foundational concepts of pattern making through flat pattern drafting & 3D form alteration\, and tailoring. Learn how to take proper measurements\, adjust patterns\, cut\, and sew a muslin to create a custom pattern. \nThis course is five 3-hour sessions. The next sessions are: \nThursday April 11\, 25 & May 2\, 9\, 16 – 6 pm to 9 pm \n*Equivalent experience or Pattern Making 101 is the recommended prerequisite for all other pattern making courses offered by Riyoko. \n*Students are encouraged to bring their own supplies (pencil\, eraser\, pins\, measuring tape\, fabric scissors\, paper scissors) except rulers (which are available for purchase in the Riyoko Work/Shop\, and during the class) and paper and fabric\, which is supplied by Riyoko Work/Shop. \nRiyoko Studio\, 1721 29 Ave SW\, Suite 445
URL:https://cspaceprojects.com/event/patternmaking-101-3/
LOCATION:cSPACE Marda Loop (formerly cSPACE King Edward)\, 29 Avenue Southwest\, Calgary\, AB\, Canada\, 1721 29 Avenue Southwest\, Calgary\, AB\, T2T 6T7\, Canada
CATEGORIES:Riyoko Suite #445
ATTACH;FMTTYPE=image/jpeg:https://cspaceprojects.com/wp-content/uploads/2024/03/patternmaking101shopify-phMDNd.tmp_.jpg
ORGANIZER;CN="Riyoko Work/Shop":MAILTO:info@riyoko.ca
END:VEVENT
BEGIN:VEVENT
DTSTART;TZID=UTC:20240504T080000
DTEND;TZID=UTC:20240504T170000
DTSTAMP:20260422T115004
CREATED:20240327T212853Z
LAST-MODIFIED:20240504T232946Z
UID:10000963-1714809600-1714842000@cspaceprojects.com
SUMMARY:Riyoko Work/Shop hosts an Open Studio
DESCRIPTION:Welcome to Open Studio! \nNeed a bit more room to spread out your projects? Or just want company? Come work on your patternmaking and sewing projects in the beautiful Riyoko Work/Shop studio for an afternoon. Maybe you have projects that you have questions on? Get to know other participants and chat sewing and construction! Bring a couple friends and a have a little fun getting creative! \nThis course is one 5-hour session. The next session is: \nSaturday April 6 – 10 am to 3 pm \nand/or \nSaturday May 4 – 10 am to 3 pm \n$15/ session \n* We do have four sewing machines to rent ($10/ session). They must be reserved ahead of time. Please note the rental request \n* Please bring your own supplies\, and if machines are not available\, please bring your own. \n* We will also be in studio to answer simple questions and offer advice. \n* Book in for 5 hours\, but come whenever you want in that time.
URL:https://cspaceprojects.com/event/riyoko-work-shop-hosts-an-open-studio-2/
LOCATION:cSPACE Marda Loop (formerly cSPACE King Edward)\, 29 Avenue Southwest\, Calgary\, AB\, Canada\, 1721 29 Avenue Southwest\, Calgary\, AB\, T2T 6T7\, Canada
CATEGORIES:Riyoko Suite #445
ATTACH;FMTTYPE=image/jpeg:https://cspaceprojects.com/wp-content/uploads/2024/03/open_studio_square-zEry2w.tmp_.jpg
ORGANIZER;CN="Riyoko Work/Shop":MAILTO:info@riyoko.ca
END:VEVENT
BEGIN:VEVENT
DTSTART;TZID=UTC:20240506T180000
DTEND;TZID=UTC:20240506T210000
DTSTAMP:20260422T115004
CREATED:20240330T035842Z
LAST-MODIFIED:20240506T225828Z
UID:10001009-1715018400-1715029200@cspaceprojects.com
SUMMARY:Sewing 101 with Riyoko Work/Shop
DESCRIPTION:Come learn how to sew\, and start making your own projects! Join us in the spacious and inspiring new Riyoko Work/Shop and learn the fundamental beginner skills to get on your way to exploring and creating! In this class\, students will learn their way around the machine through various projects and gain the foundational sewing skills to translate into future projects for themselves. Students will learn how to read patterns\, and how to choose fabrics and patterns right for the projects they are making. They will make a lined gift bag\, pyjama pants\, and learn how to hem pants\, and sew zippers. The skills of sewing can seem daunting\, but with the right instruction\, it can be fun and sew much easier than you think! \nThis course is three 3-hour sessions. The next sessions is: \nApril 22\, 29 & May 6 – 6 pm to 9 pm \n*No prior sewing skills are needed for this class. This class is for adults\, if you have a teen that is interested\, please let us know\, and we will let you know when a teen class will be available. \n*Class fees include most all supplies except fabric scissors and pj pant material\, and students are encouraged to bring their own sewing machines. \n*Don’t have a sewing machine? No problem! Just let us know and we can have one ready for you. Sewing machine rentals are $10/ per class \n*We are dedicated to providing a safe\, spacious and clean environment for the students to work in. We sanitize high touch surfaces and shared tools before each class.
URL:https://cspaceprojects.com/event/sewing-101-with-riyoko-work-shop-3/
LOCATION:cSPACE Marda Loop (formerly cSPACE King Edward)\, 29 Avenue Southwest\, Calgary\, AB\, Canada\, 1721 29 Avenue Southwest\, Calgary\, AB\, T2T 6T7\, Canada
CATEGORIES:Riyoko Suite #445
ATTACH;FMTTYPE=image/jpeg:https://cspaceprojects.com/wp-content/uploads/2024/03/sewing101_shopify-RLMdd0.tmp_.jpg
ORGANIZER;CN="Riyoko Work/Shop":MAILTO:info@riyoko.ca
END:VEVENT
BEGIN:VEVENT
DTSTART;TZID=UTC:20240507T180000
DTEND;TZID=UTC:20240507T210000
DTSTAMP:20260422T115004
CREATED:20240326T231327Z
LAST-MODIFIED:20240327T202849Z
UID:10000947-1715104800-1715115600@cspaceprojects.com
SUMMARY:All About Sleeves: Sleeve Pattern Making Workshop
DESCRIPTION:Riyoko Work/Shop hosts All About Sleeves.  \nThis is a great follow-up to Pattern Making 101 offering skills to continue learning about fitting a beautifully tailored garment. Topics of discussion will include: \n1) proper measuring of the arm and how to alter the pattern accordingly\n2) how to calculate the perfect amount of sleeve cap ease\n3) what to do with those elbow darts!\n4) common and popular sleeve designs \nWorking hands-on\, students will develop their own reference pattern making notes. This course will be jam packed with serious skills. \nNext sessions is: \nTuesday April 16\, 23 & 30 – 6 pm to 9 pm \n*Prerequisite for this class is intermediate experience\, or Patternmaking 101 (https://riyoko.ca/products/patternmaking-103) \n*Class fees include all supplies except rulers\, tape\, and fabric scissors. Rulers are available for purchase from the instructor during the class.
URL:https://cspaceprojects.com/event/all-about-sleeves-sleeve-pattern-making-workshop-4/
LOCATION:cSPACE Marda Loop (formerly cSPACE King Edward)\, 29 Avenue Southwest\, Calgary\, AB\, Canada\, 1721 29 Avenue Southwest\, Calgary\, AB\, T2T 6T7\, Canada
CATEGORIES:Riyoko Suite #445
ATTACH;FMTTYPE=image/jpeg:https://cspaceprojects.com/wp-content/uploads/2024/03/allaboutsleeves_webshop-RBAgsc.tmp_.jpg
ORGANIZER;CN="Riyoko Work/Shop":MAILTO:info@riyoko.ca
END:VEVENT
BEGIN:VEVENT
DTSTART;TZID=UTC:20240509T180000
DTEND;TZID=UTC:20240509T210000
DTSTAMP:20260422T115004
CREATED:20240326T231328Z
LAST-MODIFIED:20240509T235919Z
UID:10000948-1715277600-1715288400@cspaceprojects.com
SUMMARY:Patternmaking 101
DESCRIPTION:Like making your own clothes but have a hard time finding patterns with that perfect fit? Come learn the foundational concepts of pattern making through flat pattern drafting & 3D form alteration\, and tailoring. Learn how to take proper measurements\, adjust patterns\, cut\, and sew a muslin to create a custom pattern. \nThis course is five 3-hour sessions. The next sessions are: \nThursday April 11\, 25 & May 2\, 9\, 16 – 6 pm to 9 pm \n*Equivalent experience or Pattern Making 101 is the recommended prerequisite for all other pattern making courses offered by Riyoko. \n*Students are encouraged to bring their own supplies (pencil\, eraser\, pins\, measuring tape\, fabric scissors\, paper scissors) except rulers (which are available for purchase in the Riyoko Work/Shop\, and during the class) and paper and fabric\, which is supplied by Riyoko Work/Shop. \nRiyoko Studio\, 1721 29 Ave SW\, Suite 445
URL:https://cspaceprojects.com/event/patternmaking-101-4/
LOCATION:cSPACE Marda Loop (formerly cSPACE King Edward)\, 29 Avenue Southwest\, Calgary\, AB\, Canada\, 1721 29 Avenue Southwest\, Calgary\, AB\, T2T 6T7\, Canada
CATEGORIES:Riyoko Suite #445
ATTACH;FMTTYPE=image/jpeg:https://cspaceprojects.com/wp-content/uploads/2024/03/patternmaking101shopify-phMDNd.tmp_.jpg
ORGANIZER;CN="Riyoko Work/Shop":MAILTO:info@riyoko.ca
END:VEVENT
BEGIN:VEVENT
DTSTART;TZID=UTC:20240511T143000
DTEND;TZID=UTC:20240511T163000
DTSTAMP:20260422T115004
CREATED:20240506T204421Z
LAST-MODIFIED:20240511T232843Z
UID:10001043-1715437800-1715445000@cspaceprojects.com
SUMMARY:Women! Life! Freedom!
DESCRIPTION:cSPACE Marda Loop\nRGO Treehouse South \nWomen! Life! Freedom! is an empowering intergenerational therapeutic art event specially curated for the Calgary Persian Community. Join Tara Vahab and Sepidar Yeganeh Farid for a session filled with creativity\, healing\, and connection as we come together to reflect on the past 1.5 years events in Iran. We are hopping to bring some peace and joy by celebrating womanhood\, life\, and freedom through art\, songwriting\, karaeko\,dance\, discussions and short creative activities \nThis in-person event is a unique opportunity to bond with fellow community members and express yourself through various art forms. Let’s create\, heal\, and grow together!
URL:https://cspaceprojects.com/event/women-life-freedom/
LOCATION:cSPACE Marda Loop – RGO Treehouse\, Suite #475
CATEGORIES:RGO Treehouse South
ATTACH;FMTTYPE=image/jpeg:https://cspaceprojects.com/wp-content/uploads/2024/05/1_20240326_124443_0000-K3VtVl.tmp_.jpg
END:VEVENT
BEGIN:VEVENT
DTSTART;TZID=UTC:20240514T180000
DTEND;TZID=UTC:20240514T210000
DTSTAMP:20260422T115004
CREATED:20240326T231328Z
LAST-MODIFIED:20240327T202849Z
UID:10000949-1715709600-1715720400@cspaceprojects.com
SUMMARY:All About Sleeves: Sleeve Pattern Making Workshop
DESCRIPTION:Riyoko Work/Shop hosts All About Sleeves.  \nThis is a great follow-up to Pattern Making 101 offering skills to continue learning about fitting a beautifully tailored garment. Topics of discussion will include: \n1) proper measuring of the arm and how to alter the pattern accordingly\n2) how to calculate the perfect amount of sleeve cap ease\n3) what to do with those elbow darts!\n4) common and popular sleeve designs \nWorking hands-on\, students will develop their own reference pattern making notes. This course will be jam packed with serious skills. \nNext sessions is: \nTuesday April 16\, 23 & 30 – 6 pm to 9 pm \n*Prerequisite for this class is intermediate experience\, or Patternmaking 101 (https://riyoko.ca/products/patternmaking-103) \n*Class fees include all supplies except rulers\, tape\, and fabric scissors. Rulers are available for purchase from the instructor during the class.
URL:https://cspaceprojects.com/event/all-about-sleeves-sleeve-pattern-making-workshop-5/
LOCATION:cSPACE Marda Loop (formerly cSPACE King Edward)\, 29 Avenue Southwest\, Calgary\, AB\, Canada\, 1721 29 Avenue Southwest\, Calgary\, AB\, T2T 6T7\, Canada
CATEGORIES:Riyoko Suite #445
ATTACH;FMTTYPE=image/jpeg:https://cspaceprojects.com/wp-content/uploads/2024/03/allaboutsleeves_webshop-RBAgsc.tmp_.jpg
ORGANIZER;CN="Riyoko Work/Shop":MAILTO:info@riyoko.ca
END:VEVENT
BEGIN:VEVENT
DTSTART;TZID=UTC:20240516T180000
DTEND;TZID=UTC:20240516T210000
DTSTAMP:20260422T115004
CREATED:20240326T231328Z
LAST-MODIFIED:20240516T225818Z
UID:10000950-1715882400-1715893200@cspaceprojects.com
SUMMARY:Patternmaking 101
DESCRIPTION:Like making your own clothes but have a hard time finding patterns with that perfect fit? Come learn the foundational concepts of pattern making through flat pattern drafting & 3D form alteration\, and tailoring. Learn how to take proper measurements\, adjust patterns\, cut\, and sew a muslin to create a custom pattern. \nThis course is five 3-hour sessions. The next sessions are: \nThursday April 11\, 25 & May 2\, 9\, 16 – 6 pm to 9 pm \n*Equivalent experience or Pattern Making 101 is the recommended prerequisite for all other pattern making courses offered by Riyoko. \n*Students are encouraged to bring their own supplies (pencil\, eraser\, pins\, measuring tape\, fabric scissors\, paper scissors) except rulers (which are available for purchase in the Riyoko Work/Shop\, and during the class) and paper and fabric\, which is supplied by Riyoko Work/Shop. \nRiyoko Studio\, 1721 29 Ave SW\, Suite 445
URL:https://cspaceprojects.com/event/patternmaking-101-5/
LOCATION:cSPACE Marda Loop (formerly cSPACE King Edward)\, 29 Avenue Southwest\, Calgary\, AB\, Canada\, 1721 29 Avenue Southwest\, Calgary\, AB\, T2T 6T7\, Canada
CATEGORIES:Riyoko Suite #445
ATTACH;FMTTYPE=image/jpeg:https://cspaceprojects.com/wp-content/uploads/2024/03/patternmaking101shopify-phMDNd.tmp_.jpg
ORGANIZER;CN="Riyoko Work/Shop":MAILTO:info@riyoko.ca
END:VEVENT
BEGIN:VEVENT
DTSTART;TZID=UTC:20240521T180000
DTEND;TZID=UTC:20240521T210000
DTSTAMP:20260422T115004
CREATED:20240326T231328Z
LAST-MODIFIED:20240327T202850Z
UID:10000951-1716314400-1716325200@cspaceprojects.com
SUMMARY:All About Sleeves: Sleeve Pattern Making Workshop
DESCRIPTION:Riyoko Work/Shop hosts All About Sleeves.  \nThis is a great follow-up to Pattern Making 101 offering skills to continue learning about fitting a beautifully tailored garment. Topics of discussion will include: \n1) proper measuring of the arm and how to alter the pattern accordingly\n2) how to calculate the perfect amount of sleeve cap ease\n3) what to do with those elbow darts!\n4) common and popular sleeve designs \nWorking hands-on\, students will develop their own reference pattern making notes. This course will be jam packed with serious skills. \nNext sessions is: \nTuesday April 16\, 23 & 30 – 6 pm to 9 pm \n*Prerequisite for this class is intermediate experience\, or Patternmaking 101 (https://riyoko.ca/products/patternmaking-103) \n*Class fees include all supplies except rulers\, tape\, and fabric scissors. Rulers are available for purchase from the instructor during the class.
URL:https://cspaceprojects.com/event/all-about-sleeves-sleeve-pattern-making-workshop-6/
LOCATION:cSPACE Marda Loop (formerly cSPACE King Edward)\, 29 Avenue Southwest\, Calgary\, AB\, Canada\, 1721 29 Avenue Southwest\, Calgary\, AB\, T2T 6T7\, Canada
CATEGORIES:Riyoko Suite #445
ATTACH;FMTTYPE=image/jpeg:https://cspaceprojects.com/wp-content/uploads/2024/03/allaboutsleeves_webshop-RBAgsc.tmp_.jpg
ORGANIZER;CN="Riyoko Work/Shop":MAILTO:info@riyoko.ca
END:VEVENT
BEGIN:VEVENT
DTSTART;TZID=UTC:20240523T180000
DTEND;TZID=UTC:20240523T210000
DTSTAMP:20260422T115004
CREATED:20240326T231328Z
LAST-MODIFIED:20240327T202850Z
UID:10000952-1716487200-1716498000@cspaceprojects.com
SUMMARY:Patternmaking 101
DESCRIPTION:Like making your own clothes but have a hard time finding patterns with that perfect fit? Come learn the foundational concepts of pattern making through flat pattern drafting & 3D form alteration\, and tailoring. Learn how to take proper measurements\, adjust patterns\, cut\, and sew a muslin to create a custom pattern. \nThis course is five 3-hour sessions. The next sessions are: \nThursday April 11\, 25 & May 2\, 9\, 16 – 6 pm to 9 pm \n*Equivalent experience or Pattern Making 101 is the recommended prerequisite for all other pattern making courses offered by Riyoko. \n*Students are encouraged to bring their own supplies (pencil\, eraser\, pins\, measuring tape\, fabric scissors\, paper scissors) except rulers (which are available for purchase in the Riyoko Work/Shop\, and during the class) and paper and fabric\, which is supplied by Riyoko Work/Shop. \nRiyoko Studio\, 1721 29 Ave SW\, Suite 445
URL:https://cspaceprojects.com/event/patternmaking-101-6/
LOCATION:cSPACE Marda Loop (formerly cSPACE King Edward)\, 29 Avenue Southwest\, Calgary\, AB\, Canada\, 1721 29 Avenue Southwest\, Calgary\, AB\, T2T 6T7\, Canada
CATEGORIES:Riyoko Suite #445
ATTACH;FMTTYPE=image/jpeg:https://cspaceprojects.com/wp-content/uploads/2024/03/patternmaking101shopify-phMDNd.tmp_.jpg
ORGANIZER;CN="Riyoko Work/Shop":MAILTO:info@riyoko.ca
END:VEVENT
BEGIN:VEVENT
DTSTART;VALUE=DATE:20240528
DTEND;VALUE=DATE:20240611
DTSTAMP:20260422T115004
CREATED:20240404T232901Z
LAST-MODIFIED:20240528T234421Z
UID:10001013-1716854400-1718063999@cspaceprojects.com
SUMMARY:2 PERSPECTIVES  ART EXHIBITION
DESCRIPTION:Patricia Salat & Miguel Barros\nArt Exhibition\n“2 PERSPECTIVES”\nMay 28th – June 10th 2024\ncSPACE Marda Loop Level 1 Gallery \nTwo friends\, both visual artists\, living their lives apart have united to share a passion for art and concern for the environment. Together they embarked on a unique project that would intertwine their individual interpretations of the natural world\, bringing their own distinct life experiences and creative perspectives. Recognizing the importance of preserving and cherishing the natural landscape that binds us all together.
URL:https://cspaceprojects.com/event/2-perspectives-art-exhibition/
LOCATION:cSPACE Marda Loop\, 1721 29 Avenue Southwest\, Calgary\, AB\, T2T 6T7\, Canada
CATEGORIES:Gallery Level 1
ATTACH;FMTTYPE=image/jpeg:https://cspaceprojects.com/wp-content/uploads/2024/04/2-perspectives-announcement-square-TrTD1G.tmp_.jpg
END:VEVENT
BEGIN:VEVENT
DTSTART;TZID=UTC:20240528T180000
DTEND;TZID=UTC:20240528T210000
DTSTAMP:20260422T115004
CREATED:20240326T231329Z
LAST-MODIFIED:20240327T202850Z
UID:10000953-1716919200-1716930000@cspaceprojects.com
SUMMARY:All About Sleeves: Sleeve Pattern Making Workshop
DESCRIPTION:Riyoko Work/Shop hosts All About Sleeves.  \nThis is a great follow-up to Pattern Making 101 offering skills to continue learning about fitting a beautifully tailored garment. Topics of discussion will include: \n1) proper measuring of the arm and how to alter the pattern accordingly\n2) how to calculate the perfect amount of sleeve cap ease\n3) what to do with those elbow darts!\n4) common and popular sleeve designs \nWorking hands-on\, students will develop their own reference pattern making notes. This course will be jam packed with serious skills. \nNext sessions is: \nTuesday April 16\, 23 & 30 – 6 pm to 9 pm \n*Prerequisite for this class is intermediate experience\, or Patternmaking 101 (https://riyoko.ca/products/patternmaking-103) \n*Class fees include all supplies except rulers\, tape\, and fabric scissors. Rulers are available for purchase from the instructor during the class.
URL:https://cspaceprojects.com/event/all-about-sleeves-sleeve-pattern-making-workshop-7/
LOCATION:cSPACE Marda Loop (formerly cSPACE King Edward)\, 29 Avenue Southwest\, Calgary\, AB\, Canada\, 1721 29 Avenue Southwest\, Calgary\, AB\, T2T 6T7\, Canada
CATEGORIES:Riyoko Suite #445
ATTACH;FMTTYPE=image/jpeg:https://cspaceprojects.com/wp-content/uploads/2024/03/allaboutsleeves_webshop-RBAgsc.tmp_.jpg
ORGANIZER;CN="Riyoko Work/Shop":MAILTO:info@riyoko.ca
END:VEVENT
BEGIN:VEVENT
DTSTART;TZID=UTC:20240530T180000
DTEND;TZID=UTC:20240530T210000
DTSTAMP:20260422T115004
CREATED:20240326T231329Z
LAST-MODIFIED:20240327T202850Z
UID:10000954-1717092000-1717102800@cspaceprojects.com
SUMMARY:Patternmaking 101
DESCRIPTION:Like making your own clothes but have a hard time finding patterns with that perfect fit? Come learn the foundational concepts of pattern making through flat pattern drafting & 3D form alteration\, and tailoring. Learn how to take proper measurements\, adjust patterns\, cut\, and sew a muslin to create a custom pattern. \nThis course is five 3-hour sessions. The next sessions are: \nThursday April 11\, 25 & May 2\, 9\, 16 – 6 pm to 9 pm \n*Equivalent experience or Pattern Making 101 is the recommended prerequisite for all other pattern making courses offered by Riyoko. \n*Students are encouraged to bring their own supplies (pencil\, eraser\, pins\, measuring tape\, fabric scissors\, paper scissors) except rulers (which are available for purchase in the Riyoko Work/Shop\, and during the class) and paper and fabric\, which is supplied by Riyoko Work/Shop. \nRiyoko Studio\, 1721 29 Ave SW\, Suite 445
URL:https://cspaceprojects.com/event/patternmaking-101-7/
LOCATION:cSPACE Marda Loop (formerly cSPACE King Edward)\, 29 Avenue Southwest\, Calgary\, AB\, Canada\, 1721 29 Avenue Southwest\, Calgary\, AB\, T2T 6T7\, Canada
CATEGORIES:Riyoko Suite #445
ATTACH;FMTTYPE=image/jpeg:https://cspaceprojects.com/wp-content/uploads/2024/03/patternmaking101shopify-phMDNd.tmp_.jpg
ORGANIZER;CN="Riyoko Work/Shop":MAILTO:info@riyoko.ca
END:VEVENT
END:VCALENDAR