BEGIN:VCALENDAR
VERSION:2.0
PRODID:-//cSPACE Projects - ECPv6.15.20//NONSGML v1.0//EN
CALSCALE:GREGORIAN
METHOD:PUBLISH
X-WR-CALNAME:cSPACE Projects
X-ORIGINAL-URL:https://cspaceprojects.com
X-WR-CALDESC:Events for cSPACE Projects
REFRESH-INTERVAL;VALUE=DURATION:PT1H
X-Robots-Tag:noindex
X-PUBLISHED-TTL:PT1H
BEGIN:VTIMEZONE
TZID:UTC
BEGIN:STANDARD
TZOFFSETFROM:+0000
TZOFFSETTO:+0000
TZNAME:UTC
DTSTART:20220101T000000
END:STANDARD
END:VTIMEZONE
BEGIN:VTIMEZONE
TZID:America/Edmonton
BEGIN:DAYLIGHT
TZOFFSETFROM:-0700
TZOFFSETTO:-0600
TZNAME:MDT
DTSTART:20220313T090000
END:DAYLIGHT
BEGIN:STANDARD
TZOFFSETFROM:-0600
TZOFFSETTO:-0700
TZNAME:MST
DTSTART:20221106T080000
END:STANDARD
BEGIN:DAYLIGHT
TZOFFSETFROM:-0700
TZOFFSETTO:-0600
TZNAME:MDT
DTSTART:20230312T090000
END:DAYLIGHT
BEGIN:STANDARD
TZOFFSETFROM:-0600
TZOFFSETTO:-0700
TZNAME:MST
DTSTART:20231105T080000
END:STANDARD
BEGIN:DAYLIGHT
TZOFFSETFROM:-0700
TZOFFSETTO:-0600
TZNAME:MDT
DTSTART:20240310T090000
END:DAYLIGHT
BEGIN:STANDARD
TZOFFSETFROM:-0600
TZOFFSETTO:-0700
TZNAME:MST
DTSTART:20241103T080000
END:STANDARD
END:VTIMEZONE
BEGIN:VEVENT
DTSTART;TZID=UTC:20250708T090000
DTEND;TZID=UTC:20250708T110000
DTSTAMP:20260423T082255
CREATED:20250628T170118Z
LAST-MODIFIED:20250708T234613Z
UID:10001730-1751965200-1751972400@cspaceprojects.com
SUMMARY:Arts Community Pancake Palooza
DESCRIPTION:Giddy-up arts and culture mavericks! Join us Tuesday\, July 8\, 2025\, at cSPACE Marda Loop’s Art Park for Calgary’s only Stampede Breakfast created by artists\, for arts champions. This vibrant\, all-ages morning gathering will serve up classic pancakes\, live music and lively conversations\, with a generous helping of community spirit. It’s a celebration of Calgary’s arts and culture sector—its creators\, supporters\, and future-builders. \nThis free\, public event welcomes everyone\, with a special invitation to: \n\nArtists and creators (all disciplines\, all career stages)\nArts workers & administrators\nArts-serving organizations and collectives\nPatrons\, funders\, and community investors in Calgary’s creative sector.\n\nLet’s foster meaningful connections across Calgary’s arts community—one pancake at a time. \nLive Music by: Irene Poole \nDate: Tuesday\, July 8\, 2025\nTime: 9 – 11 AM\nLocation: cSPACE Marda Loop 1721 29 Avenue SW\nRSVP & Mark your calendars! \nPresented with the support of: cSPACE Projects\, Rozsa Foundation\, The Calgary Foundation\, Alliance Francaise\, Aroma Cafe \n  \nNew in 2025: Community Showcase Opportunity \nThis year’s breakfast will feature a Community Showcase for arts groups and organizations to: \n\nPromote upcoming seasons or initiatives\nShare career\, volunteer\, or engagement opportunities\nConnect directly with Calgary’s creative workforce and their audiences\n\nUp to 24 showcase spots available under four shared tents (first come\, first serve). Please note: this is a non-sales opportunity to build visibility\, not a market. Interested groups are welcome to email opportunities@cspaceprojects.com
URL:https://cspaceprojects.com/event/arts-community-pancake-palooza/
LOCATION:cSPACE Marda Loop – Art Park
CATEGORIES:Art Park
ATTACH;FMTTYPE=image/jpeg:https://cspaceprojects.com/wp-content/uploads/2025/06/pancake-palooza-2025_8.5x11-poster_noqr-LFfu3O.jpg
ORGANIZER;CN="cSPACE Marda Loop":MAILTO:info@cspaceprojects.com
END:VEVENT
BEGIN:VEVENT
DTSTART;TZID=UTC:20240711T090000
DTEND;TZID=UTC:20240711T110000
DTSTAMP:20260423T082255
CREATED:20240608T001433Z
LAST-MODIFIED:20240711T234321Z
UID:10001208-1720688400-1720695600@cspaceprojects.com
SUMMARY:Pancake Breakfast for Artists & Friends
DESCRIPTION:cSPACE Marda Loop\nArt Park\nJuly 11th\n9am-11am \nJoin us for an arts-friendly pancake breakfast during this year’s Stampede. Enjoy delicious pancakes\, live music\, connect with artists\, and celebrate the vibrant community in the heart of Marda Loop. Fun\, food\, and creativity await!
URL:https://cspaceprojects.com/event/pancake-breakfast-for-artists-friends/
LOCATION:cSPACE Marda Loop – Art Park
CATEGORIES:Art Park
ATTACH;FMTTYPE=image/jpeg:https://cspaceprojects.com/wp-content/uploads/2024/06/pancake-breakfast-d2wDvD.tmp_.jpg
ORGANIZER;CN="cSPACE Marda Loop":MAILTO:info@cspaceprojects.com
END:VEVENT
BEGIN:VEVENT
DTSTART;TZID=UTC:20230714T090000
DTEND;TZID=UTC:20230714T110000
DTSTAMP:20260423T082255
CREATED:20230712T234315Z
LAST-MODIFIED:20230714T232942Z
UID:10000260-1689325200-1689332400@cspaceprojects.com
SUMMARY:Pancake Palooza!
DESCRIPTION:🎨🎶 Arts & Culture Stampede Pancake Breakfast: Fuel Your Creativity!\n\n\nAttention artists and cultural practitioners! Enjoy the only Stampede Breakfast in town made by artists\, for artists. Join us for a morning filled with delicious food\, engaging conversations\, and a celebration of Calgary’s vibrant arts and culture community! \nMix with other artists and cultural sector entrepreneurs at this pancake breakfast at cSPACE Marda Loop sponsored by the inspiring creatives at Rozsa Foundation\, Alliance Française\, Casa Mexico\, Aroma Café\, and cSPACE Projects. \nGet energized by the musical performance of harmony-driven\, acoustic prog-rock inspired busking Bluegrass band\, Rotary Park. \nMark your calendars and join us for this delightful morning of community\, creativity\, and collaboration with other artists and members of the cultural community. \n📅 Date: Friday\, July 14\, 2023 \n⏰ Time: 9am-11am \n📍 Location: cSPACE Marda Loop\, 1721-29th Avenue SW \nWe can’t wait to welcome you to the cSPACE Marda Loop Pancake-Palooza! 🎉
URL:https://cspaceprojects.com/event/pancake-palooza/
LOCATION:cSPACE Marda Loop\, 1721 29 Avenue Southwest\, Calgary\, AB\, T2T 6T7\, Canada
CATEGORIES:Art Park
ATTACH;FMTTYPE=image/jpeg:https://cspaceprojects.com/wp-content/uploads/2023/07/ig-event-zDPhi1.tmp_.jpg
END:VEVENT
BEGIN:VEVENT
DTSTART;TZID=America/Edmonton:20230708T193000
DTEND;TZID=America/Edmonton:20230708T223000
DTSTAMP:20260423T082255
CREATED:20230707T175922Z
LAST-MODIFIED:20230709T234356Z
UID:10000255-1688844600-1688855400@cspaceprojects.com
SUMMARY:A SECRET STAMPEDE SHOW (INDIE FOLK EDITION)
DESCRIPTION:cSPACE Eau Claire & Astral Swans Present: A very special\, secret\, Stampede Show. Shhhh! \nCome celebrate (a less corporate approach to the Stampede)! \nSaturday July 8th\nDoors at 7pm \nFeaturing a very secret headliner in an intimate 40 person venue w/special guest opener Silverring.
URL:https://cspaceprojects.com/event/a-secret-stampede-show-indie-folk-edition/
LOCATION:cSPACE Eau Claire Neighbourhood Hub\, 381 2 Avenue Southwest\, Calgary\, AB\, T2P 0C5\, Canada
CATEGORIES:Musical Performance
ATTACH;FMTTYPE=image/jpeg:https://cspaceprojects.com/wp-content/uploads/2023/07/1cee95ec6a7ebdb77c28142a92d4823c-LOt8eT.tmp_.jpg
ORGANIZER;CN="Astral Swans":MAILTO:astralswans@gmail.com
END:VEVENT
END:VCALENDAR