BEGIN:VCALENDAR
VERSION:2.0
PRODID:-//cSPACE Projects - ECPv6.15.20//NONSGML v1.0//EN
CALSCALE:GREGORIAN
METHOD:PUBLISH
X-WR-CALNAME:cSPACE Projects
X-ORIGINAL-URL:https://cspaceprojects.com
X-WR-CALDESC:Events for cSPACE Projects
REFRESH-INTERVAL;VALUE=DURATION:PT1H
X-Robots-Tag:noindex
X-PUBLISHED-TTL:PT1H
BEGIN:VTIMEZONE
TZID:UTC
BEGIN:STANDARD
TZOFFSETFROM:+0000
TZOFFSETTO:+0000
TZNAME:UTC
DTSTART:20230101T000000
END:STANDARD
END:VTIMEZONE
BEGIN:VEVENT
DTSTART;TZID=UTC:20240526T150000
DTEND;TZID=UTC:20240526T163000
DTSTAMP:20260423T002534
CREATED:20240519T202821Z
LAST-MODIFIED:20240526T234322Z
UID:10001052-1716735600-1716741000@cspaceprojects.com
SUMMARY:Astralis Quartet presents Old Strathcona
DESCRIPTION:John Lowry\, violin\nEdmund Chung\, violin\nMarcin Swoboda\, viola\nDaniel Poceta\, cello \nThe title work for this concert\, Old Strathcona\, is a new quartet by Kristin Flores\, a well known composer\, violinist and teacher in the Calgary area. The music is descriptive of the Old Strathcona neighbourhood in Edmonton. Also to be performed are youthful and exuberant works of Felix Mendelssohn and Calgary composer Roydon Tse\, recently returned to Calgary after completing his PhD at University of Toronto. \n$25 general admission\, $12 students\nTickets also available by email (astralis.cms@gmail.com) & by phone or text (403-891-5615)
URL:https://cspaceprojects.com/event/astralis-quartet-presents-old-strathcona/
LOCATION:cSPACE Marda Loop-  Studio Theatre\, 1721 29th Ave. SW\, Calgary\, AB\, T2T 6T7\, Canada
CATEGORIES:Studio Theatre
ATTACH;FMTTYPE=image/jpeg:https://cspaceprojects.com/wp-content/uploads/2024/05/aq-oldstrathcona-poster-LeC9kD.tmp_.jpg
END:VEVENT
END:VCALENDAR