BEGIN:VCALENDAR
VERSION:2.0
PRODID:-//cSPACE Projects - ECPv6.15.20//NONSGML v1.0//EN
CALSCALE:GREGORIAN
METHOD:PUBLISH
X-ORIGINAL-URL:https://cspaceprojects.com
X-WR-CALDESC:Events for cSPACE Projects
REFRESH-INTERVAL;VALUE=DURATION:PT1H
X-Robots-Tag:noindex
X-PUBLISHED-TTL:PT1H
BEGIN:VTIMEZONE
TZID:UTC
BEGIN:STANDARD
TZOFFSETFROM:+0000
TZOFFSETTO:+0000
TZNAME:UTC
DTSTART:20250101T000000
END:STANDARD
END:VTIMEZONE
BEGIN:VTIMEZONE
TZID:America/Edmonton
BEGIN:DAYLIGHT
TZOFFSETFROM:-0700
TZOFFSETTO:-0600
TZNAME:MDT
DTSTART:20240310T090000
END:DAYLIGHT
BEGIN:STANDARD
TZOFFSETFROM:-0600
TZOFFSETTO:-0700
TZNAME:MST
DTSTART:20241103T080000
END:STANDARD
BEGIN:DAYLIGHT
TZOFFSETFROM:-0700
TZOFFSETTO:-0600
TZNAME:MDT
DTSTART:20250309T090000
END:DAYLIGHT
BEGIN:STANDARD
TZOFFSETFROM:-0600
TZOFFSETTO:-0700
TZNAME:MST
DTSTART:20251102T080000
END:STANDARD
BEGIN:DAYLIGHT
TZOFFSETFROM:-0700
TZOFFSETTO:-0600
TZNAME:MDT
DTSTART:20260308T090000
END:DAYLIGHT
BEGIN:STANDARD
TZOFFSETFROM:-0600
TZOFFSETTO:-0700
TZNAME:MST
DTSTART:20261101T080000
END:STANDARD
END:VTIMEZONE
BEGIN:VEVENT
DTSTART;TZID=UTC:20260213T170000
DTEND;TZID=UTC:20260213T200000
DTSTAMP:20260424T014507
CREATED:20260129T183109Z
LAST-MODIFIED:20260213T224922Z
UID:10001974-1771002000-1771012800@cspaceprojects.com
SUMMARY:RECEPTION: Living Designs Exhibition hosted by Studio C
DESCRIPTION:RECEPTION: Living Designs Exhibition hosted by Studio C\ncSPACE Marda Loop\nLevel 2 – Studio C\nFeb 13\, 2026\n5:00 PM – 8:00 PM \n  \nA Family Legacy of Beadwork and Regalia – The Ayoungman – Hunt Family \nCelebrate the living legacy of the Ayoungman-Hunt family\, whose beadwork and regalia carry generations of Blackfoot knowledge\, identity\, and artistry. This event honours their stories and living cultural practices through an exhibition\, reception\, and powwow demonstration. \nPresented as part of Bridging Cultures\, a series that creates accessible opportunities to learn from and connect with Indigenous artists\, traditions\, and community leaders. Hosted at Studio C\, Prospect’s inclusive art space in Calgary. \nEveryone is welcome. \nReception: February 13\, 5:00 PM – 8:00 PM \nPowwow Demonstration: 5:00 PM–6:00 PM \nThis Reception is part of a Studio C exhibition running February 12–March 6\, 2026 
URL:https://cspaceprojects.com/event/reception-living-designs/
LOCATION:cSPACE Marda Loop\, 1721 29 Avenue Southwest\, Calgary\, AB\, T2T 6T7\, Canada
CATEGORIES:Studio C - 2nd Floor
ATTACH;FMTTYPE=image/png:https://cspaceprojects.com/wp-content/uploads/2026/02/studio-c-gallery-reception-living-designs-events-calendar-graphic-J38vLp.png
ORGANIZER;CN="Studio C":MAILTO:studioc@prospectnow.ca
END:VEVENT
BEGIN:VEVENT
DTSTART;TZID=America/Edmonton:20250426T140000
DTEND;TZID=America/Edmonton:20250426T160000
DTSTAMP:20260424T014507
CREATED:20250417T113438Z
LAST-MODIFIED:20250429T115215Z
UID:10001606-1745676000-1745683200@cspaceprojects.com
SUMMARY:Opening  Reception Makers Dozen: Earring Edition
DESCRIPTION:Opening Reception Makers Dozen: Earring Edition\nEveryone is invited to this free reception for Makers Dozen: Earring Edition\n\n\nJoin the Alberta Craft Gallery in Calgary and the artists in attendance for the reception for Makers Dozen: Earring Edition. \nThe Makers’ Dozen collective connects 13 jewellery artists from Southern Alberta\, each contributing their unique vision\, techniques\, and craftsmanship to a shared creative space. Makers’ Dozen – Earring Edition highlights not only the stunning final pieces but also the artists themselves and their creative processes. Featuring 65 pairs of earrings\, it invites visitors to explore a diversity of approaches\, ranging from traditional goldsmithing and intricate beading to experimental metalwork. \nThis is a free event and everyone is welcome to attend. No ticket is needed. \n  \nReception: Saturday\, April 26\, 2025 | 2 -4pm \nAlberta Craft Calgary Gallery \ncSPACE – Marda Loop\, 2nd floor\, 1729 – 29 Avenue SW \nParking lot and accessible entrance is off 29 Avenue. Street parking is free around the building. \n  \nExhibition dates April 19 – June 21\, 2025
URL:https://cspaceprojects.com/event/opening-reception-makers-dozen-earring-edition/
LOCATION:Alberta Craft Gallery & Shop – Calgary\, 280\, 1721 29 AVE SW Calgary\, Calgary\, AB\, T2T 6T7\, Canada
CATEGORIES:Alberta Craft Gallery Level 2
ATTACH;FMTTYPE=image/jpeg:https://cspaceprojects.com/wp-content/uploads/2025/04/working-8.5-x-8.5-in-bXZlI5.jpg
END:VEVENT
END:VCALENDAR