BEGIN:VCALENDAR
VERSION:2.0
PRODID:-//cSPACE Projects - ECPv6.15.20//NONSGML v1.0//EN
CALSCALE:GREGORIAN
METHOD:PUBLISH
X-WR-CALNAME:cSPACE Projects
X-ORIGINAL-URL:https://cspaceprojects.com
X-WR-CALDESC:Events for cSPACE Projects
REFRESH-INTERVAL;VALUE=DURATION:PT1H
X-Robots-Tag:noindex
X-PUBLISHED-TTL:PT1H
BEGIN:VTIMEZONE
TZID:UTC
BEGIN:STANDARD
TZOFFSETFROM:+0000
TZOFFSETTO:+0000
TZNAME:UTC
DTSTART:20250101T000000
END:STANDARD
END:VTIMEZONE
BEGIN:VEVENT
DTSTART;TZID=UTC:20260205T100000
DTEND;TZID=UTC:20260205T120000
DTSTAMP:20260421T110135
CREATED:20251107T001826Z
LAST-MODIFIED:20260205T234915Z
UID:10001923-1770285600-1770292800@cspaceprojects.com
SUMMARY:CALL Member Weekly Guitar Jam
DESCRIPTION:Invitation to Calgary Association of Lifelong Learners (CALL) members.\nBring your guitar and a favourite song and join other CALL members for Guitar Jam. Weekly events are held in the CALL room\, Suite #310\, at cSPACE Marda Loop. \nThursdays 10am-12pm. \nTo learn more please email: info@calgarylifelonglearners.ca \nNot yet a CALL member? Now is a great time to join and enjoy a full year of “making music” or joining other Interest Groups at cSPACE Marda Loop. Annual fee $50 — learn more: https://calgarylifelonglearners.ca/Membership
URL:https://cspaceprojects.com/event/call-member-weekly-guitar-jam-74/
LOCATION:cSPACE Marda Loop\, 1721 29 Avenue Southwest\, Calgary\, AB\, T2T 6T7\, Canada
CATEGORIES:Suite #310
ATTACH;FMTTYPE=image/jpeg:https://cspaceprojects.com/wp-content/uploads/2024/09/guitar-jam-yh9uRE.tmp_.jpg
ORGANIZER;CN="Calgary Association of Lifelong Learners":MAILTO:communications@calgarylifelonglearners.ca
END:VEVENT
BEGIN:VEVENT
DTSTART;TZID=UTC:20260212T100000
DTEND;TZID=UTC:20260212T120000
DTSTAMP:20260421T110135
CREATED:20251114T001947Z
LAST-MODIFIED:20260212T230415Z
UID:10001925-1770890400-1770897600@cspaceprojects.com
SUMMARY:CALL Member Weekly Guitar Jam
DESCRIPTION:Invitation to Calgary Association of Lifelong Learners (CALL) members.\nBring your guitar and a favourite song and join other CALL members for Guitar Jam. Weekly events are held in the CALL room\, Suite #310\, at cSPACE Marda Loop. \nThursdays 10am-12pm. \nTo learn more please email: info@calgarylifelonglearners.ca \nNot yet a CALL member? Now is a great time to join and enjoy a full year of “making music” or joining other Interest Groups at cSPACE Marda Loop. Annual fee $50 — learn more: https://calgarylifelonglearners.ca/Membership
URL:https://cspaceprojects.com/event/call-member-weekly-guitar-jam-75/
LOCATION:cSPACE Marda Loop\, 1721 29 Avenue Southwest\, Calgary\, AB\, T2T 6T7\, Canada
CATEGORIES:Suite #310
ATTACH;FMTTYPE=image/jpeg:https://cspaceprojects.com/wp-content/uploads/2024/09/guitar-jam-yh9uRE.tmp_.jpg
ORGANIZER;CN="Calgary Association of Lifelong Learners":MAILTO:communications@calgarylifelonglearners.ca
END:VEVENT
BEGIN:VEVENT
DTSTART;TZID=UTC:20260219T100000
DTEND;TZID=UTC:20260219T120000
DTSTAMP:20260421T110135
CREATED:20251121T002424Z
LAST-MODIFIED:20260219T230708Z
UID:10001927-1771495200-1771502400@cspaceprojects.com
SUMMARY:CALL Member Weekly Guitar Jam
DESCRIPTION:Invitation to Calgary Association of Lifelong Learners (CALL) members.\nBring your guitar and a favourite song and join other CALL members for Guitar Jam. Weekly events are held in the CALL room\, Suite #310\, at cSPACE Marda Loop. \nThursdays 10am-12pm. \nTo learn more please email: info@calgarylifelonglearners.ca \nNot yet a CALL member? Now is a great time to join and enjoy a full year of “making music” or joining other Interest Groups at cSPACE Marda Loop. Annual fee $50 — learn more: https://calgarylifelonglearners.ca/Membership
URL:https://cspaceprojects.com/event/call-member-weekly-guitar-jam-76/
LOCATION:cSPACE Marda Loop\, 1721 29 Avenue Southwest\, Calgary\, AB\, T2T 6T7\, Canada
CATEGORIES:Suite #310
ATTACH;FMTTYPE=image/jpeg:https://cspaceprojects.com/wp-content/uploads/2024/09/guitar-jam-yh9uRE.tmp_.jpg
ORGANIZER;CN="Calgary Association of Lifelong Learners":MAILTO:communications@calgarylifelonglearners.ca
END:VEVENT
BEGIN:VEVENT
DTSTART;TZID=UTC:20260226T100000
DTEND;TZID=UTC:20260226T120000
DTSTAMP:20260421T110135
CREATED:20251128T013916Z
LAST-MODIFIED:20260226T233712Z
UID:10001941-1772100000-1772107200@cspaceprojects.com
SUMMARY:CALL Member Weekly Guitar Jam
DESCRIPTION:Invitation to Calgary Association of Lifelong Learners (CALL) members.\nBring your guitar and a favourite song and join other CALL members for Guitar Jam. Weekly events are held in the CALL room\, Suite #310\, at cSPACE Marda Loop. \nThursdays 10am-12pm. \nTo learn more please email: info@calgarylifelonglearners.ca \nNot yet a CALL member? Now is a great time to join and enjoy a full year of “making music” or joining other Interest Groups at cSPACE Marda Loop. Annual fee $50 — learn more: https://calgarylifelonglearners.ca/Membership
URL:https://cspaceprojects.com/event/call-member-weekly-guitar-jam-77/
LOCATION:cSPACE Marda Loop\, 1721 29 Avenue Southwest\, Calgary\, AB\, T2T 6T7\, Canada
CATEGORIES:Suite #310
ATTACH;FMTTYPE=image/jpeg:https://cspaceprojects.com/wp-content/uploads/2024/09/guitar-jam-yh9uRE.tmp_.jpg
ORGANIZER;CN="Calgary Association of Lifelong Learners":MAILTO:communications@calgarylifelonglearners.ca
END:VEVENT
END:VCALENDAR