BEGIN:VCALENDAR
VERSION:2.0
PRODID:-//cSPACE Projects - ECPv6.15.20//NONSGML v1.0//EN
CALSCALE:GREGORIAN
METHOD:PUBLISH
X-WR-CALNAME:cSPACE Projects
X-ORIGINAL-URL:https://cspaceprojects.com
X-WR-CALDESC:Events for cSPACE Projects
REFRESH-INTERVAL;VALUE=DURATION:PT1H
X-Robots-Tag:noindex
X-PUBLISHED-TTL:PT1H
BEGIN:VTIMEZONE
TZID:UTC
BEGIN:STANDARD
TZOFFSETFROM:+0000
TZOFFSETTO:+0000
TZNAME:UTC
DTSTART:20240101T000000
END:STANDARD
END:VTIMEZONE
BEGIN:VEVENT
DTSTART;TZID=UTC:20251002T100000
DTEND;TZID=UTC:20251002T120000
DTSTAMP:20260422T213535
CREATED:20250704T000130Z
LAST-MODIFIED:20251002T231709Z
UID:10001734-1759399200-1759406400@cspaceprojects.com
SUMMARY:CALL Member Weekly Guitar Jam
DESCRIPTION:Invitation to Calgary Association of Lifelong Learners (CALL) members.\nBring your guitar and a favourite song and join other CALL members for Guitar Jam. Weekly events are held in the CALL room\, Suite #310\, at cSPACE Marda Loop. \nThursdays 10am-12pm. \nNot yet a CALL member? Now is a great time to join and enjoy a full year of “making music” or joining other Interest Groups at cSPACE Marda Loop. Annual fee $50 — learn more: https://calgarylifelonglearners.ca/Membership
URL:https://cspaceprojects.com/event/call-member-weekly-guitar-jam-56/
LOCATION:cSPACE Marda Loop\, 1721 29 Avenue Southwest\, Calgary\, AB\, T2T 6T7\, Canada
CATEGORIES:Suite #310
ATTACH;FMTTYPE=image/jpeg:https://cspaceprojects.com/wp-content/uploads/2024/09/guitar-jam-yh9uRE.tmp_.jpg
ORGANIZER;CN="Calgary Association of Lifelong Learners":MAILTO:communications@calgarylifelonglearners.ca
END:VEVENT
BEGIN:VEVENT
DTSTART;TZID=UTC:20251009T100000
DTEND;TZID=UTC:20251009T120000
DTSTAMP:20260422T213535
CREATED:20250711T000132Z
LAST-MODIFIED:20251009T233206Z
UID:10001742-1760004000-1760011200@cspaceprojects.com
SUMMARY:CALL Member Weekly Guitar Jam
DESCRIPTION:Invitation to Calgary Association of Lifelong Learners (CALL) members.\nBring your guitar and a favourite song and join other CALL members for Guitar Jam. Weekly events are held in the CALL room\, Suite #310\, at cSPACE Marda Loop. \nThursdays 10am-12pm. \nNot yet a CALL member? Now is a great time to join and enjoy a full year of “making music” or joining other Interest Groups at cSPACE Marda Loop. Annual fee $50 — learn more: https://calgarylifelonglearners.ca/Membership
URL:https://cspaceprojects.com/event/call-member-weekly-guitar-jam-57/
LOCATION:cSPACE Marda Loop\, 1721 29 Avenue Southwest\, Calgary\, AB\, T2T 6T7\, Canada
CATEGORIES:Suite #310
ATTACH;FMTTYPE=image/jpeg:https://cspaceprojects.com/wp-content/uploads/2024/09/guitar-jam-yh9uRE.tmp_.jpg
ORGANIZER;CN="Calgary Association of Lifelong Learners":MAILTO:communications@calgarylifelonglearners.ca
END:VEVENT
BEGIN:VEVENT
DTSTART;TZID=UTC:20251016T100000
DTEND;TZID=UTC:20251016T120000
DTSTAMP:20260422T213535
CREATED:20250718T001637Z
LAST-MODIFIED:20251016T223215Z
UID:10001751-1760608800-1760616000@cspaceprojects.com
SUMMARY:CALL Member Weekly Guitar Jam
DESCRIPTION:Invitation to Calgary Association of Lifelong Learners (CALL) members.\nBring your guitar and a favourite song and join other CALL members for Guitar Jam. Weekly events are held in the CALL room\, Suite #310\, at cSPACE Marda Loop. \nThursdays 10am-12pm. \nNot yet a CALL member? Now is a great time to join and enjoy a full year of “making music” or joining other Interest Groups at cSPACE Marda Loop. Annual fee $50 — learn more: https://calgarylifelonglearners.ca/Membership
URL:https://cspaceprojects.com/event/call-member-weekly-guitar-jam-58/
LOCATION:cSPACE Marda Loop\, 1721 29 Avenue Southwest\, Calgary\, AB\, T2T 6T7\, Canada
CATEGORIES:Suite #310
ATTACH;FMTTYPE=image/jpeg:https://cspaceprojects.com/wp-content/uploads/2024/09/guitar-jam-yh9uRE.tmp_.jpg
ORGANIZER;CN="Calgary Association of Lifelong Learners":MAILTO:communications@calgarylifelonglearners.ca
END:VEVENT
BEGIN:VEVENT
DTSTART;TZID=UTC:20251023T100000
DTEND;TZID=UTC:20251023T120000
DTSTAMP:20260422T213535
CREATED:20250725T003128Z
LAST-MODIFIED:20251023T230333Z
UID:10001757-1761213600-1761220800@cspaceprojects.com
SUMMARY:CALL Member Weekly Guitar Jam
DESCRIPTION:Invitation to Calgary Association of Lifelong Learners (CALL) members.\nBring your guitar and a favourite song and join other CALL members for Guitar Jam. Weekly events are held in the CALL room\, Suite #310\, at cSPACE Marda Loop. \nThursdays 10am-12pm. \nNot yet a CALL member? Now is a great time to join and enjoy a full year of “making music” or joining other Interest Groups at cSPACE Marda Loop. Annual fee $50 — learn more: https://calgarylifelonglearners.ca/Membership
URL:https://cspaceprojects.com/event/call-member-weekly-guitar-jam-59/
LOCATION:cSPACE Marda Loop\, 1721 29 Avenue Southwest\, Calgary\, AB\, T2T 6T7\, Canada
CATEGORIES:Suite #310
ATTACH;FMTTYPE=image/jpeg:https://cspaceprojects.com/wp-content/uploads/2024/09/guitar-jam-yh9uRE.tmp_.jpg
ORGANIZER;CN="Calgary Association of Lifelong Learners":MAILTO:communications@calgarylifelonglearners.ca
END:VEVENT
BEGIN:VEVENT
DTSTART;TZID=UTC:20251030T100000
DTEND;TZID=UTC:20251030T120000
DTSTAMP:20260422T213535
CREATED:20250801T002727Z
LAST-MODIFIED:20251030T230317Z
UID:10001766-1761818400-1761825600@cspaceprojects.com
SUMMARY:CALL Member Weekly Guitar Jam
DESCRIPTION:Invitation to Calgary Association of Lifelong Learners (CALL) members.\nBring your guitar and a favourite song and join other CALL members for Guitar Jam. Weekly events are held in the CALL room\, Suite #310\, at cSPACE Marda Loop. \nThursdays 10am-12pm. \nNot yet a CALL member? Now is a great time to join and enjoy a full year of “making music” or joining other Interest Groups at cSPACE Marda Loop. Annual fee $50 — learn more: https://calgarylifelonglearners.ca/Membership
URL:https://cspaceprojects.com/event/call-member-weekly-guitar-jam-60/
LOCATION:cSPACE Marda Loop\, 1721 29 Avenue Southwest\, Calgary\, AB\, T2T 6T7\, Canada
CATEGORIES:Suite #310
ATTACH;FMTTYPE=image/jpeg:https://cspaceprojects.com/wp-content/uploads/2024/09/guitar-jam-yh9uRE.tmp_.jpg
ORGANIZER;CN="Calgary Association of Lifelong Learners":MAILTO:communications@calgarylifelonglearners.ca
END:VEVENT
END:VCALENDAR