BEGIN:VCALENDAR
VERSION:2.0
PRODID:-//cSPACE Projects - ECPv6.15.20//NONSGML v1.0//EN
CALSCALE:GREGORIAN
METHOD:PUBLISH
X-WR-CALNAME:cSPACE Projects
X-ORIGINAL-URL:https://cspaceprojects.com
X-WR-CALDESC:Events for cSPACE Projects
REFRESH-INTERVAL;VALUE=DURATION:PT1H
X-Robots-Tag:noindex
X-PUBLISHED-TTL:PT1H
BEGIN:VTIMEZONE
TZID:UTC
BEGIN:STANDARD
TZOFFSETFROM:+0000
TZOFFSETTO:+0000
TZNAME:UTC
DTSTART:20240101T000000
END:STANDARD
END:VTIMEZONE
BEGIN:VEVENT
DTSTART;TZID=UTC:20251130T150000
DTEND;TZID=UTC:20251130T180000
DTSTAMP:20260420T161525
CREATED:20251031T193344Z
LAST-MODIFIED:20251130T233853Z
UID:10001910-1764514800-1764525600@cspaceprojects.com
SUMMARY:Astralis Quartet Presents: Entr’acte
DESCRIPTION:Season Opener: Entr’acte\ncSPACE Marda Loop\nStudio Theatre\nNovember 30\, 2025\n3:30 PM – 6:00 PM \nJoin us for the first concert\, Entr’acte\, featuring a stunning blend of old and new masterworks. \nDate & Time: Sunday\, November 30 at 3:00 PM \nVenue: cSpace Marda Loop – Studio Theatre 1721 – 29 Avenue SW \nTickets: $35 General Admission $10 Students \nTickets for Entr’acte\nProgramme Details\nThe program is built around the title work\, Caroline Shaw’s evocative Entr’acte. It features the masterworks of the string quartet genre—Haydn’s Quartet in F major\, Op. 77\, No. 2—alongside the delicate harmonies of John Dowland’s 16th-century Lachrimae Antiquae. \nWe are also excited to feature Blank Canvas by Calgary’s own Roydon Tse. Roydon\, recently appointed Professor of Composition at the University of Saskatchewan\, will be in attendance to speak about his work and meet audience members. \nPerforming Ensemble\nAstralis Quartet: \n\n\nJohn Lowry\, violin \n\n\nEric Auerbach\, violin \n\n\nJeremy Bauman\, viola \n\n\nAndrea Case\, cello \n\n\nLearn more at: www.astralisquartet.ca
URL:https://cspaceprojects.com/event/entracte/
LOCATION:cSPACE Marda Loop\, 1721 29 Avenue Southwest\, Calgary\, AB\, T2T 6T7\, Canada
CATEGORIES:Studio Theatre
ATTACH;FMTTYPE=image/jpeg:https://cspaceprojects.com/wp-content/uploads/2025/10/entracte-1-OPrVyX.jpg
END:VEVENT
END:VCALENDAR