BEGIN:VCALENDAR
VERSION:2.0
PRODID:-//cSPACE Projects - ECPv6.15.20//NONSGML v1.0//EN
CALSCALE:GREGORIAN
METHOD:PUBLISH
X-WR-CALNAME:cSPACE Projects
X-ORIGINAL-URL:https://cspaceprojects.com
X-WR-CALDESC:Events for cSPACE Projects
REFRESH-INTERVAL;VALUE=DURATION:PT1H
X-Robots-Tag:noindex
X-PUBLISHED-TTL:PT1H
BEGIN:VTIMEZONE
TZID:UTC
BEGIN:STANDARD
TZOFFSETFROM:+0000
TZOFFSETTO:+0000
TZNAME:UTC
DTSTART:20230101T000000
END:STANDARD
END:VTIMEZONE
BEGIN:VEVENT
DTSTART;TZID=UTC:20240302T190000
DTEND;TZID=UTC:20240302T213000
DTSTAMP:20260422T083335
CREATED:20240216T222853Z
LAST-MODIFIED:20240227T162817Z
UID:10000834-1709406000-1709415000@cspaceprojects.com
SUMMARY:OKAN at cSPACE Marda Loop
DESCRIPTION:Taking their name from the word for heart in the Afro-Cuban religion of Santeria\, OKAN\, is a Juno-Award winning women-led ensemble that fuses Afro-Cuban roots with jazz\, folk and global rhythms in songs about immigration\, courage and love. You won’t be able to resist dancing along to their warm Cuban-Canadian vibes. Don’t miss them for their last stop on the West Coast. \nJoin the BJP Music Foundation at cSPACE for this unique performance\, and support our work in bringing exceptional jazz-inspired talent to Calgary!
URL:https://cspaceprojects.com/event/okan-at-cspace-marda-loop/
LOCATION:cSPACE Marda Loop-  Studio Theatre\, 1721 29th Ave. SW\, Calgary\, AB\, T2T 6T7\, Canada
CATEGORIES:Studio Theatre
ATTACH;FMTTYPE=image/jpeg:https://cspaceprojects.com/wp-content/uploads/2024/02/4.-okan-with-flowers_ksenija-hotic-resized-scaled-vB1BVP.tmp_.jpg
END:VEVENT
BEGIN:VEVENT
DTSTART;TZID=UTC:20240302T190000
DTEND;TZID=UTC:20240302T213000
DTSTAMP:20260422T083335
CREATED:20240227T172836Z
LAST-MODIFIED:20240302T235818Z
UID:10000835-1709406000-1709415000@cspaceprojects.com
SUMMARY:OKAN at cSPACE Marda Loop
DESCRIPTION:Taking their name from the word for heart in the Afro-Cuban religion of Santeria\, OKAN\, is a Juno-Award winning women-led ensemble that fuses Afro-Cuban roots with jazz\, folk and global rhythms in songs about immigration\, courage and love. You won’t be able to resist dancing along to their warm Cuban-Canadian vibes. Don’t miss them for their last stop on the West Coast. \nJoin the BJP Music Foundation at cSPACE for this unique performance\, and support our work in bringing exceptional jazz-inspired talent to Calgary!
URL:https://cspaceprojects.com/event/okan-at-cspace-marda-loop-2/
LOCATION:cSPACE Marda Loop-  Studio Theatre\, 1721 29th Ave. SW\, Calgary\, AB\, T2T 6T7\, Canada
CATEGORIES:Studio Theatre
ATTACH;FMTTYPE=image/jpeg:https://cspaceprojects.com/wp-content/uploads/2024/02/4.-okan-with-flowers_ksenija-hotic-resized-1-scaled-N9xmhl.tmp_.jpg
END:VEVENT
END:VCALENDAR