BEGIN:VCALENDAR
VERSION:2.0
PRODID:-//cSPACE Projects - ECPv6.15.20//NONSGML v1.0//EN
CALSCALE:GREGORIAN
METHOD:PUBLISH
X-WR-CALNAME:cSPACE Projects
X-ORIGINAL-URL:https://cspaceprojects.com
X-WR-CALDESC:Events for cSPACE Projects
REFRESH-INTERVAL;VALUE=DURATION:PT1H
X-Robots-Tag:noindex
X-PUBLISHED-TTL:PT1H
BEGIN:VTIMEZONE
TZID:UTC
BEGIN:STANDARD
TZOFFSETFROM:+0000
TZOFFSETTO:+0000
TZNAME:UTC
DTSTART:20220101T000000
END:STANDARD
END:VTIMEZONE
BEGIN:VEVENT
DTSTART;TZID=UTC:20250413T150000
DTEND;TZID=UTC:20250413T170000
DTSTAMP:20260424T224001
CREATED:20250212T171122Z
LAST-MODIFIED:20250416T163316Z
UID:10001522-1744556400-1744563600@cspaceprojects.com
SUMMARY:Echoes of Romanticism
DESCRIPTION:The Instrumental Society of Calgary presents Echoes of Romanticism\n\n\n\n\n\n\n\n\n\nSunday\, April 13th\, 2025\nDoors at 2:30 PM\nShow at 3:00 PM \nLOCATION\ncSPACE Marda Loop\n1721 29 Ave SW\, Calgary\, AB T2T 6T7 \n\nARTISTS\nCHOI-KIM DUO\nArnold Choi\, cello\nKatherine Mihyun Kim\, piano \n\n\n\n\n\n\n\nBUY TICKETS\n\n\n\n\n\n\n\nPROGRAM \nThis concert presents a journey through three distinct musical styles for cello and piano. We begin with Nadia Boulanger’s Trois Pièces\, three brief but evocative works that showcase her refined melodic and harmonic sensibility. Franz Schubert’s Arpeggione Sonata follows\, a lyrical masterpiece known for its singing melodies and graceful interplay between cello and piano\, full of charm and emotional depth.  \nThe program concludes with Sergei Rachmaninoff’s Cello Sonata in G minor\, Op. 19\, a work of sweeping intensity and rich harmonies\, where both instruments share a powerful and expressive dialogue\, culminating in a triumphant finale.  \nThese pieces explore the full emotional range of the cello-piano repertoire\, from Boulanger’s elegant miniatures to the dramatic heights of Rachmaninoff.\n \nMore info/tix: https://www.instrumentalsociety.ca/echoesofromanticism
URL:https://cspaceprojects.com/event/echoes-of-romanticism/
LOCATION:cSPACE Marda Loop-  Studio Theatre\, 1721 29th Ave. SW\, Calgary\, AB\, T2T 6T7\, Canada
ATTACH;FMTTYPE=image/png:https://cspaceprojects.com/wp-content/uploads/2025/02/echoes-of-romanticism-RrVoTm.tmp_.png
END:VEVENT
BEGIN:VEVENT
DTSTART;TZID=UTC:20250307T193000
DTEND;TZID=UTC:20250307T210000
DTSTAMP:20260424T224001
CREATED:20250212T171107Z
LAST-MODIFIED:20250306T091123Z
UID:10001519-1741375800-1741381200@cspaceprojects.com
SUMMARY:Sonic Discoveries: New Music Marathon
DESCRIPTION:The Instrumental Society of Calgary presents Sonic Discoveries: New Music Marathon\n\nSHOW\nDoors at 7:00 PM\nShow at 7:30 PM \nLOCATION\ncSPACE Marda Loop\n1721 29 Ave SW\, Calgary\, AB T2T 6T7 \nARTISTS\nPRAIRIE SAXOPHONE INITIATIVE: Chinley Hinacay + Matthew Robinson\nALMOST NOISE: Chris Sies\, percussion + Darren Young\, guitar \nJoin us for an exhilarating journey into the world of contemporary music at the Sonic Discoveries New Music Marathon! This event showcases two dynamic duos pushing the boundaries of sound and expression. The Prairie Saxophone Initiative\, featuring saxophonists Chinley Hinacay and Matthew Robinson\, will present an array of fresh and innovative works\, while percussionist Chris Sies and guitarist Darren Young will create captivating textures and rhythms in their own set. This will be a marathon of new music that celebrates the artistry and boldness of today’s musical pioneers. Don’t miss this opportunity to experience an evening with the modern music scene! \nMore info/tix: https://www.showpass.com/sonicdiscoveries/
URL:https://cspaceprojects.com/event/sonic-discoveries-new-music-marathon/
LOCATION:cSPACE Marda Loop-  Studio Theatre\, 1721 29th Ave. SW\, Calgary\, AB\, T2T 6T7\, Canada
CATEGORIES:Studio Theatre
ATTACH;FMTTYPE=image/png:https://cspaceprojects.com/wp-content/uploads/2025/02/sonic-discoveries-zLGOcr.tmp_.png
END:VEVENT
BEGIN:VEVENT
DTSTART;TZID=UTC:20231105T150000
DTEND;TZID=UTC:20231105T170000
DTSTAMP:20260424T224001
CREATED:20231013T230321Z
LAST-MODIFIED:20231105T231327Z
UID:10000661-1699196400-1699203600@cspaceprojects.com
SUMMARY:Astralis presents works for string quartet
DESCRIPTION:Astralis presents: of heaven; of earth\nWorks for string quartet by Mozart\, Marcin Swoboda and Jeffrey Ryan.\n\nFor tickets please reach out to John Lowry at jglowry@gmail.com.
URL:https://cspaceprojects.com/event/astralis-presents-works-for-string-quartet/
LOCATION:cSPACE Marda Loop-  Studio Theatre\, 1721 29th Ave. SW\, Calgary\, AB\, T2T 6T7\, Canada
CATEGORIES:Studio Theatre
ATTACH;FMTTYPE=image/jpeg:https://cspaceprojects.com/wp-content/uploads/2023/10/astral-stage-heaven-and-earth-4-G9qjwC.tmp_.jpg
ORGANIZER;CN="Astralis":MAILTO:jglowry@gmail.com.
END:VEVENT
BEGIN:VEVENT
DTSTART;TZID=UTC:20230604T150000
DTEND;TZID=UTC:20230604T170000
DTSTAMP:20260424T224001
CREATED:20230518T161140Z
LAST-MODIFIED:20230604T232917Z
UID:10000144-1685890800-1685898000@cspaceprojects.com
SUMMARY:Little Red Riding Hood and Other Adventures
DESCRIPTION:Presented by The Instrumental Society of Calgary \nFEATURING: StoryMusic with Kensington Sinfonia \n\n\nJoin us for a musical afternoon for the whole family! Our friends at the Kensington Sinfonia and StoryMusic have created an accessible and family friendly concert that features special guests and musical surprises! Classical music and fairy tales come together in this afternoon of imagination and adventure. \nStoryMusic brings the magic of classical gems together with storytelling to create an imaginative adventure for the whole family! Suitable for children of all ages.
URL:https://cspaceprojects.com/event/little-red-riding-hood-and-other-adventures/
LOCATION:cSPACE Marda Loop\, 1721 29 Avenue Southwest\, Calgary\, AB\, T2T 6T7\, Canada
CATEGORIES:Studio Theatre
ATTACH;FMTTYPE=image/jpeg:https://cspaceprojects.com/wp-content/uploads/2023/05/redridinghood-NlhwQB.tmp_.jpg
END:VEVENT
END:VCALENDAR