BEGIN:VCALENDAR
VERSION:2.0
PRODID:-//cSPACE Projects - ECPv6.15.20//NONSGML v1.0//EN
CALSCALE:GREGORIAN
METHOD:PUBLISH
X-WR-CALNAME:cSPACE Projects
X-ORIGINAL-URL:https://cspaceprojects.com
X-WR-CALDESC:Events for cSPACE Projects
REFRESH-INTERVAL;VALUE=DURATION:PT1H
X-Robots-Tag:noindex
X-PUBLISHED-TTL:PT1H
BEGIN:VTIMEZONE
TZID:UTC
BEGIN:STANDARD
TZOFFSETFROM:+0000
TZOFFSETTO:+0000
TZNAME:UTC
DTSTART:20230101T000000
END:STANDARD
END:VTIMEZONE
BEGIN:VEVENT
DTSTART;TZID=UTC:20240921T100000
DTEND;TZID=UTC:20240921T160000
DTSTAMP:20260424T082515
CREATED:20240827T034836Z
LAST-MODIFIED:20240920T053125Z
UID:10001299-1726912800-1726934400@cspaceprojects.com
SUMMARY:Four Winds Fall Marketplace Pop Up Event
DESCRIPTION:cSPACE Marda Loop\nArt Park \nFour Winds Indigenous Showcase & Market will be hosting a one day pop-up event on September 21 from 10 AM to 4 PM.\nWe will be featuring a variety of Indigenous vendors selling beadwork\, hand sewn items\, clothing\, traditional crafts\, jewelry\, food items\, housewares\, decor and much more! The event will also include powwow showcases throughout the day with dancers of many traditional Indigenous styles as well as our youth dance crew. \nTiming:\nSaturday\, September 21\, 2024\n10 am – 4 pm \nSchedule: \n\n10am Market opens\n11am Honour song to begin the day\n1pm Tootoosis Powwow Showcase\n3pm Youth Powwow Showcase\n4pm Market closes\n\nLocation:\ncSPACE Marda Loop – Art Park\n1721 – 29th Avenue SW (Art Park is at the front of the building\, off of 30th Avenue SW) \nFree street parking around the building; overflow at the Marda Loop Community Association
URL:https://cspaceprojects.com/event/four-winds-showcase-and-market-pop-up-event/
LOCATION:cSPACE Marda Loop – Art Park
CATEGORIES:Art Park
ATTACH;FMTTYPE=image/jpeg:https://cspaceprojects.com/wp-content/uploads/2024/08/img_3711-2tVAEh.tmp_.jpg
END:VEVENT
END:VCALENDAR