BEGIN:VCALENDAR
VERSION:2.0
PRODID:-//cSPACE Projects - ECPv6.15.20//NONSGML v1.0//EN
CALSCALE:GREGORIAN
METHOD:PUBLISH
X-ORIGINAL-URL:https://cspaceprojects.com
X-WR-CALDESC:Events for cSPACE Projects
REFRESH-INTERVAL;VALUE=DURATION:PT1H
X-Robots-Tag:noindex
X-PUBLISHED-TTL:PT1H
BEGIN:VTIMEZONE
TZID:UTC
BEGIN:STANDARD
TZOFFSETFROM:+0000
TZOFFSETTO:+0000
TZNAME:UTC
DTSTART:20240101T000000
END:STANDARD
END:VTIMEZONE
BEGIN:VEVENT
DTSTART;TZID=UTC:20250127T190000
DTEND;TZID=UTC:20250127T210000
DTSTAMP:20260420T082822
CREATED:20241224T230342Z
LAST-MODIFIED:20250119T180224Z
UID:10001447-1738004400-1738011600@cspaceprojects.com
SUMMARY:Dungeons & Dragons Unleashed
DESCRIPTION:Calling All Adult Adventurers!\nDungeons & Dragons Unleashed is an in-person adventure for all skill levels. \n4 weeks | Monday | 7pm-9pm | At the Alexandra Writers’ Centre at cSPACE Marda Loop. \nContact info@alexandrawriters.org for more!
URL:https://cspaceprojects.com/event/dungeons-dragons-unleashed-4/
LOCATION:cSPACE Marda Loop\, 1721 29 Avenue Southwest\, Calgary\, AB\, T2T 6T7\, Canada
ATTACH;FMTTYPE=image/jpeg:https://cspaceprojects.com/wp-content/uploads/2024/12/dungeons-and-dragons-for-everyone-SbrkHa.tmp_.jpg
ORGANIZER;CN="Alexandra Writers Centre Society":MAILTO:info@alexandrawriters.org
END:VEVENT
BEGIN:VEVENT
DTSTART;TZID=UTC:20250120T190000
DTEND;TZID=UTC:20250120T210000
DTSTAMP:20260420T082822
CREATED:20241224T230341Z
LAST-MODIFIED:20250119T180223Z
UID:10001446-1737399600-1737406800@cspaceprojects.com
SUMMARY:Dungeons & Dragons Unleashed
DESCRIPTION:Calling All Adult Adventurers!\nDungeons & Dragons Unleashed is an in-person adventure for all skill levels. \n4 weeks | Monday | 7pm-9pm | At the Alexandra Writers’ Centre at cSPACE Marda Loop. \nContact info@alexandrawriters.org for more!
URL:https://cspaceprojects.com/event/dungeons-dragons-unleashed-3/
LOCATION:cSPACE Marda Loop\, 1721 29 Avenue Southwest\, Calgary\, AB\, T2T 6T7\, Canada
ATTACH;FMTTYPE=image/jpeg:https://cspaceprojects.com/wp-content/uploads/2024/12/dungeons-and-dragons-for-everyone-SbrkHa.tmp_.jpg
ORGANIZER;CN="Alexandra Writers Centre Society":MAILTO:info@alexandrawriters.org
END:VEVENT
BEGIN:VEVENT
DTSTART;TZID=UTC:20250113T190000
DTEND;TZID=UTC:20250113T210000
DTSTAMP:20260420T082822
CREATED:20241224T230340Z
LAST-MODIFIED:20250113T062400Z
UID:10001445-1736794800-1736802000@cspaceprojects.com
SUMMARY:Dungeons & Dragons Unleashed
DESCRIPTION:Calling All Adult Adventurers!\nDungeons & Dragons Unleashed is an in-person adventure for all skill levels. \n4 weeks | Monday | 7pm-9pm | At the Alexandra Writers’ Centre at cSPACE Marda Loop. \nContact info@alexandrawriters.org for more!
URL:https://cspaceprojects.com/event/dungeons-dragons-unleashed-2/
LOCATION:cSPACE Marda Loop\, 1721 29 Avenue Southwest\, Calgary\, AB\, T2T 6T7\, Canada
ATTACH;FMTTYPE=image/jpeg:https://cspaceprojects.com/wp-content/uploads/2024/12/dungeons-and-dragons-for-everyone-SbrkHa.tmp_.jpg
ORGANIZER;CN="Alexandra Writers Centre Society":MAILTO:info@alexandrawriters.org
END:VEVENT
BEGIN:VEVENT
DTSTART;TZID=UTC:20250106T190000
DTEND;TZID=UTC:20250106T210000
DTSTAMP:20260420T082822
CREATED:20241224T230338Z
LAST-MODIFIED:20250106T160000Z
UID:10001444-1736190000-1736197200@cspaceprojects.com
SUMMARY:Dungeons & Dragons Unleashed
DESCRIPTION:Calling All Adult Adventurers!\nDungeons & Dragons Unleashed is an in-person adventure for all skill levels. \n4 weeks | Monday | 7pm-9pm | At the Alexandra Writers’ Centre at cSPACE Marda Loop. \nContact info@alexandrawriters.org for more!
URL:https://cspaceprojects.com/event/dungeons-dragons-unleashed/
LOCATION:cSPACE Marda Loop\, 1721 29 Avenue Southwest\, Calgary\, AB\, T2T 6T7\, Canada
ATTACH;FMTTYPE=image/jpeg:https://cspaceprojects.com/wp-content/uploads/2024/12/dungeons-and-dragons-for-everyone-SbrkHa.tmp_.jpg
ORGANIZER;CN="Alexandra Writers Centre Society":MAILTO:info@alexandrawriters.org
END:VEVENT
END:VCALENDAR