BEGIN:VCALENDAR
VERSION:2.0
PRODID:-//cSPACE Projects - ECPv6.15.20//NONSGML v1.0//EN
CALSCALE:GREGORIAN
METHOD:PUBLISH
X-ORIGINAL-URL:https://cspaceprojects.com
X-WR-CALDESC:Events for cSPACE Projects
REFRESH-INTERVAL;VALUE=DURATION:PT1H
X-Robots-Tag:noindex
X-PUBLISHED-TTL:PT1H
BEGIN:VTIMEZONE
TZID:UTC
BEGIN:STANDARD
TZOFFSETFROM:+0000
TZOFFSETTO:+0000
TZNAME:UTC
DTSTART:20250101T000000
END:STANDARD
END:VTIMEZONE
BEGIN:VEVENT
DTSTART;TZID=UTC:20260503T110000
DTEND;TZID=UTC:20260503T120000
DTSTAMP:20260425T203642
CREATED:20260425T182509Z
LAST-MODIFIED:20260425T192509Z
UID:10002050-1777806000-1777809600@cspaceprojects.com
SUMMARY:CONCERT: Mandy Faye Album Release Concert – Music for Calgary Kids and Families
DESCRIPTION:CONCERT: Mandy Faye Album Release Concert – Music for Calgary Kids and Families\ncSPACE Marda Loop\nStudio Theatre – Level 1\nMay 3\, 2026\n11:00 AM  \n\n\n\n\n\n\n\n\n\n\n\nMusic for the whole family! Sing\, dance and play along with Mandy and their band as they celebrate the release of the new album\, My Friends! \n\n\n\n\nGet ready to sing\, dance\, and play along — Mandy Faye just released a new album My Friends\, and Calgary families are invited to celebrate! \nJoin Mandy Faye and their band for a live concert experience designed especially for kids and families in Calgary. This is more than just a show — it’s an interactive musical celebration where little ones are encouraged to move\, clap and sing at the top of their lungs. \nWhat to Expect \nCome ready to have fun! Mandy Faye’s high-energy\, heartfelt performances are crafted to delight children while keeping the whole family entertained. Expect catchy original songs played by a live band\, audience participation and the joyful energy that only a live album release concert can bring. \nAbout the Album — My Friends \nMy Friends is a brand new collection of original songs celebrating friendship\, kindness\, and the magic of music. Every track was written with young listeners in mind — fun\, meaningful and impossible not to dance to. The album release concert is your chance to hear these songs live for the very first time alongside fellow Calgary families. \nAbout Mandy Faye \nMandy Faye is a Calgary-based children’s musician dedicated to creating joyful\, inclusive musical experiences for kids and families across Alberta. Best described as The Wiggles meets Diana Krall\, Mandy has a passion for connecting young audiences to the power of live music. \nThis Event is Perfect For: \n\nKids ages under 10 and their families\nParents and caregivers looking for a fun\, screen-free afternoon\nEducators looking to cover more of the music curriculum in a novel way\n\n\n\n\n\n\n\n\n\n\n\n\nShow Times: \n\nMay 3rd – 11:00 AM\nMay 4th – 10:30 AM\n\nTicket Pricing: \nGeneral AdmissionCA$20.60 (includes CA$2.60 fee)Free for children under 18 monthsSales end: May 3\, 2026 \nFamily DiscountsFamily of 3 – CA$49.40 (includes CA$4.40 fee)Family of 4 – CA$65.40 (includes CA$5.40 fee)Family of 5 – CA$81.41 (includes CA$6.41 fee)Family of 6 – CA$97.41 (includes CA$7.41 fee)Sales end: May 3\, 2026 \nNotes \n\nEveryone attending requires a ticket\nFamily tickets must be for members of the same household (at least one adult required)\nTickets are non-refundable\nAll performances may be recorded\n\nLearn More + Buy Tickets:\nhttps://www.eventbrite.ca/e/mandy-faye-album-release-concert-music-for-calgary-kids-and-families-tickets-1986373273934?aff=oddtdtcreator&keep_tld=true \n 
URL:https://cspaceprojects.com/event/concert-mandy-faye-album-release-concert-music-for-calgary-kids-and-families/
LOCATION:cSPACE Marda Loop-  Studio Theatre\, 1721 29th Ave. SW\, Calgary\, AB\, T2T 6T7\, Canada
CATEGORIES:Studio Theatre
ATTACH;FMTTYPE=image/jpeg:https://cspaceprojects.com/wp-content/uploads/2026/04/mandy-faye-album-release-concert-music-for-calgary-kids-and-families-y0TDpd.jpg
END:VEVENT
BEGIN:VEVENT
DTSTART;TZID=UTC:20260504T103000
DTEND;TZID=UTC:20260504T113000
DTSTAMP:20260425T203642
CREATED:20260425T182512Z
LAST-MODIFIED:20260425T192509Z
UID:10002051-1777890600-1777894200@cspaceprojects.com
SUMMARY:CONCERT: Mandy Faye Album Release Concert – Music for Calgary Kids and Families
DESCRIPTION:CONCERT: Mandy Faye Album Release Concert – Music for Calgary Kids and Families\ncSPACE Marda Loop\nStudio Theatre – Level 1\nMay 4\, 2026\n10:30 AM  \n\n\n\n\n\n\n\n\n\n\n\nMusic for the whole family! Sing\, dance and play along with Mandy and their band as they celebrate the release of the new album\, My Friends! \n\n\n\n\nGet ready to sing\, dance\, and play along — Mandy Faye just released a new album My Friends\, and Calgary families are invited to celebrate! \nJoin Mandy Faye and their band for a live concert experience designed especially for kids and families in Calgary. This is more than just a show — it’s an interactive musical celebration where little ones are encouraged to move\, clap and sing at the top of their lungs. \nWhat to Expect \nCome ready to have fun! Mandy Faye’s high-energy\, heartfelt performances are crafted to delight children while keeping the whole family entertained. Expect catchy original songs played by a live band\, audience participation and the joyful energy that only a live album release concert can bring. \nAbout the Album — My Friends \nMy Friends is a brand new collection of original songs celebrating friendship\, kindness\, and the magic of music. Every track was written with young listeners in mind — fun\, meaningful and impossible not to dance to. The album release concert is your chance to hear these songs live for the very first time alongside fellow Calgary families. \nAbout Mandy Faye \nMandy Faye is a Calgary-based children’s musician dedicated to creating joyful\, inclusive musical experiences for kids and families across Alberta. Best described as The Wiggles meets Diana Krall\, Mandy has a passion for connecting young audiences to the power of live music. \nThis Event is Perfect For: \n\nKids ages under 10 and their families\nParents and caregivers looking for a fun\, screen-free afternoon\nEducators looking to cover more of the music curriculum in a novel way\n\n\n\n\n\n\n\n\n\n\n\n\nShow Times: \n\nMay 3rd – 11:00 AM\nMay 4th – 10:30 AM\n\nTicket Pricing: \nGeneral AdmissionCA$20.60 (includes CA$2.60 fee)Free for children under 18 monthsSales end: May 3\, 2026 \nFamily DiscountsFamily of 3 – CA$49.40 (includes CA$4.40 fee)Family of 4 – CA$65.40 (includes CA$5.40 fee)Family of 5 – CA$81.41 (includes CA$6.41 fee)Family of 6 – CA$97.41 (includes CA$7.41 fee)Sales end: May 3\, 2026 \nNotes \n\nEveryone attending requires a ticket\nFamily tickets must be for members of the same household (at least one adult required)\nTickets are non-refundable\nAll performances may be recorded\n\nLearn More + Buy Tickets:\nhttps://www.eventbrite.ca/e/mandy-faye-album-release-concert-music-for-calgary-kids-and-families-tickets-1986373273934?aff=oddtdtcreator&keep_tld=true \n 
URL:https://cspaceprojects.com/event/concert-mandy-faye-album-release-concert-music-for-calgary-kids-and-families-2/
LOCATION:cSPACE Marda Loop-  Studio Theatre\, 1721 29th Ave. SW\, Calgary\, AB\, T2T 6T7\, Canada
CATEGORIES:Studio Theatre
ATTACH;FMTTYPE=image/jpeg:https://cspaceprojects.com/wp-content/uploads/2026/04/mandy-faye-album-release-concert-music-for-calgary-kids-and-families-y0TDpd.jpg
END:VEVENT
END:VCALENDAR