BEGIN:VCALENDAR
VERSION:2.0
PRODID:-//cSPACE Projects - ECPv6.15.20//NONSGML v1.0//EN
CALSCALE:GREGORIAN
METHOD:PUBLISH
X-WR-CALNAME:cSPACE Projects
X-ORIGINAL-URL:https://cspaceprojects.com
X-WR-CALDESC:Events for cSPACE Projects
REFRESH-INTERVAL;VALUE=DURATION:PT1H
X-Robots-Tag:noindex
X-PUBLISHED-TTL:PT1H
BEGIN:VTIMEZONE
TZID:America/Edmonton
BEGIN:DAYLIGHT
TZOFFSETFROM:-0700
TZOFFSETTO:-0600
TZNAME:MDT
DTSTART:20230312T090000
END:DAYLIGHT
BEGIN:STANDARD
TZOFFSETFROM:-0600
TZOFFSETTO:-0700
TZNAME:MST
DTSTART:20231105T080000
END:STANDARD
BEGIN:DAYLIGHT
TZOFFSETFROM:-0700
TZOFFSETTO:-0600
TZNAME:MDT
DTSTART:20240310T090000
END:DAYLIGHT
BEGIN:STANDARD
TZOFFSETFROM:-0600
TZOFFSETTO:-0700
TZNAME:MST
DTSTART:20241103T080000
END:STANDARD
BEGIN:DAYLIGHT
TZOFFSETFROM:-0700
TZOFFSETTO:-0600
TZNAME:MDT
DTSTART:20250309T090000
END:DAYLIGHT
BEGIN:STANDARD
TZOFFSETFROM:-0600
TZOFFSETTO:-0700
TZNAME:MST
DTSTART:20251102T080000
END:STANDARD
END:VTIMEZONE
BEGIN:VEVENT
DTSTART;TZID=America/Edmonton:20240401T080000
DTEND;TZID=America/Edmonton:20240401T080000
DTSTAMP:20260423T224710
CREATED:20240321T231321Z
LAST-MODIFIED:20240401T234531Z
UID:10000916-1711958400-1711958400@cspaceprojects.com
SUMMARY:An Exhibition of New Works by Peter Moller
DESCRIPTION:cSPACE Marda Loop\, Level 1 Gallery\nArtist Reception Thursday March 28th\, 2024\, 6pm-8pm\n\nNew works including paintings\, drawings\, sculpture-installation and a selection of digital illustrations from the Egg Press archive.\n\nWelcome to An Exhibition of New Works by Peter Moller!\n\nCome join us from Mon\, Mar 25 to April 15\, 2024 at cSPACE Marda Loop to experience the latest creations by artist\, Peter Moller. New works include paintings\, drawings\, sculpture-installation and a selection of digital illustrations from the Egg Press archive.\n\nOpening event Thursday\, March 28\, 2024\, 6 – 8 pm with live musical performance by Allison Lynch and Augustine Yates.
URL:https://cspaceprojects.com/event/an-exhibition-of-new-works-by-peter-moller-7/
LOCATION:cSPACE Marda Loop (formerly cSPACE King Edward)\, 1721 29 Avenue Southwest\, #4th Flr\, Calgary\, AB\, T2T 6T7\, Canada
CATEGORIES:Gallery Level 1
ATTACH;FMTTYPE=image/jpeg:https://cspaceprojects.com/wp-content/uploads/2024/03/3e99d6a71d1f4c6bb3eb3ed9c53ea380-DSgqIW.tmp_.jpg
END:VEVENT
BEGIN:VEVENT
DTSTART;TZID=America/Edmonton:20240402T080000
DTEND;TZID=America/Edmonton:20240402T080000
DTSTAMP:20260423T224710
CREATED:20240321T231321Z
LAST-MODIFIED:20240402T234322Z
UID:10000917-1712044800-1712044800@cspaceprojects.com
SUMMARY:An Exhibition of New Works by Peter Moller
DESCRIPTION:cSPACE Marda Loop\, Level 1 Gallery\nArtist Reception Thursday March 28th\, 2024\, 6pm-8pm\n\nNew works including paintings\, drawings\, sculpture-installation and a selection of digital illustrations from the Egg Press archive.\n\nWelcome to An Exhibition of New Works by Peter Moller!\n\nCome join us from Mon\, Mar 25 to April 15\, 2024 at cSPACE Marda Loop to experience the latest creations by artist\, Peter Moller. New works include paintings\, drawings\, sculpture-installation and a selection of digital illustrations from the Egg Press archive.\n\nOpening event Thursday\, March 28\, 2024\, 6 – 8 pm with live musical performance by Allison Lynch and Augustine Yates.
URL:https://cspaceprojects.com/event/an-exhibition-of-new-works-by-peter-moller-8/
LOCATION:cSPACE Marda Loop (formerly cSPACE King Edward)\, 1721 29 Avenue Southwest\, #4th Flr\, Calgary\, AB\, T2T 6T7\, Canada
CATEGORIES:Gallery Level 1
ATTACH;FMTTYPE=image/jpeg:https://cspaceprojects.com/wp-content/uploads/2024/03/3e99d6a71d1f4c6bb3eb3ed9c53ea380-DSgqIW.tmp_.jpg
END:VEVENT
BEGIN:VEVENT
DTSTART;TZID=America/Edmonton:20240403T080000
DTEND;TZID=America/Edmonton:20240403T080000
DTSTAMP:20260423T224710
CREATED:20240321T231321Z
LAST-MODIFIED:20240403T231327Z
UID:10000918-1712131200-1712131200@cspaceprojects.com
SUMMARY:An Exhibition of New Works by Peter Moller
DESCRIPTION:cSPACE Marda Loop\, Level 1 Gallery\nArtist Reception Thursday March 28th\, 2024\, 6pm-8pm\n\nNew works including paintings\, drawings\, sculpture-installation and a selection of digital illustrations from the Egg Press archive.\n\nWelcome to An Exhibition of New Works by Peter Moller!\n\nCome join us from Mon\, Mar 25 to April 15\, 2024 at cSPACE Marda Loop to experience the latest creations by artist\, Peter Moller. New works include paintings\, drawings\, sculpture-installation and a selection of digital illustrations from the Egg Press archive.\n\nOpening event Thursday\, March 28\, 2024\, 6 – 8 pm with live musical performance by Allison Lynch and Augustine Yates.
URL:https://cspaceprojects.com/event/an-exhibition-of-new-works-by-peter-moller-9/
LOCATION:cSPACE Marda Loop (formerly cSPACE King Edward)\, 1721 29 Avenue Southwest\, #4th Flr\, Calgary\, AB\, T2T 6T7\, Canada
CATEGORIES:Gallery Level 1
ATTACH;FMTTYPE=image/jpeg:https://cspaceprojects.com/wp-content/uploads/2024/03/3e99d6a71d1f4c6bb3eb3ed9c53ea380-DSgqIW.tmp_.jpg
END:VEVENT
BEGIN:VEVENT
DTSTART;TZID=America/Edmonton:20240404T080000
DTEND;TZID=America/Edmonton:20240404T080000
DTSTAMP:20260423T224710
CREATED:20240321T231321Z
LAST-MODIFIED:20240404T232852Z
UID:10000919-1712217600-1712217600@cspaceprojects.com
SUMMARY:An Exhibition of New Works by Peter Moller
DESCRIPTION:cSPACE Marda Loop\, Level 1 Gallery\nArtist Reception Thursday March 28th\, 2024\, 6pm-8pm\n\nNew works including paintings\, drawings\, sculpture-installation and a selection of digital illustrations from the Egg Press archive.\n\nWelcome to An Exhibition of New Works by Peter Moller!\n\nCome join us from Mon\, Mar 25 to April 15\, 2024 at cSPACE Marda Loop to experience the latest creations by artist\, Peter Moller. New works include paintings\, drawings\, sculpture-installation and a selection of digital illustrations from the Egg Press archive.\n\nOpening event Thursday\, March 28\, 2024\, 6 – 8 pm with live musical performance by Allison Lynch and Augustine Yates.
URL:https://cspaceprojects.com/event/an-exhibition-of-new-works-by-peter-moller-10/
LOCATION:cSPACE Marda Loop (formerly cSPACE King Edward)\, 1721 29 Avenue Southwest\, #4th Flr\, Calgary\, AB\, T2T 6T7\, Canada
CATEGORIES:Gallery Level 1
ATTACH;FMTTYPE=image/jpeg:https://cspaceprojects.com/wp-content/uploads/2024/03/3e99d6a71d1f4c6bb3eb3ed9c53ea380-DSgqIW.tmp_.jpg
END:VEVENT
BEGIN:VEVENT
DTSTART;TZID=America/Edmonton:20240405T080000
DTEND;TZID=America/Edmonton:20240405T080000
DTSTAMP:20260423T224710
CREATED:20240321T231322Z
LAST-MODIFIED:20240405T231411Z
UID:10000920-1712304000-1712304000@cspaceprojects.com
SUMMARY:An Exhibition of New Works by Peter Moller
DESCRIPTION:cSPACE Marda Loop\, Level 1 Gallery\nArtist Reception Thursday March 28th\, 2024\, 6pm-8pm\n\nNew works including paintings\, drawings\, sculpture-installation and a selection of digital illustrations from the Egg Press archive.\n\nWelcome to An Exhibition of New Works by Peter Moller!\n\nCome join us from Mon\, Mar 25 to April 15\, 2024 at cSPACE Marda Loop to experience the latest creations by artist\, Peter Moller. New works include paintings\, drawings\, sculpture-installation and a selection of digital illustrations from the Egg Press archive.\n\nOpening event Thursday\, March 28\, 2024\, 6 – 8 pm with live musical performance by Allison Lynch and Augustine Yates.
URL:https://cspaceprojects.com/event/an-exhibition-of-new-works-by-peter-moller-11/
LOCATION:cSPACE Marda Loop (formerly cSPACE King Edward)\, 1721 29 Avenue Southwest\, #4th Flr\, Calgary\, AB\, T2T 6T7\, Canada
CATEGORIES:Gallery Level 1
ATTACH;FMTTYPE=image/jpeg:https://cspaceprojects.com/wp-content/uploads/2024/03/3e99d6a71d1f4c6bb3eb3ed9c53ea380-DSgqIW.tmp_.jpg
END:VEVENT
BEGIN:VEVENT
DTSTART;TZID=America/Edmonton:20240406T080000
DTEND;TZID=America/Edmonton:20240406T080000
DTSTAMP:20260423T224710
CREATED:20240321T231322Z
LAST-MODIFIED:20240406T234323Z
UID:10000921-1712390400-1712390400@cspaceprojects.com
SUMMARY:An Exhibition of New Works by Peter Moller
DESCRIPTION:cSPACE Marda Loop\, Level 1 Gallery\nArtist Reception Thursday March 28th\, 2024\, 6pm-8pm\n\nNew works including paintings\, drawings\, sculpture-installation and a selection of digital illustrations from the Egg Press archive.\n\nWelcome to An Exhibition of New Works by Peter Moller!\n\nCome join us from Mon\, Mar 25 to April 15\, 2024 at cSPACE Marda Loop to experience the latest creations by artist\, Peter Moller. New works include paintings\, drawings\, sculpture-installation and a selection of digital illustrations from the Egg Press archive.\n\nOpening event Thursday\, March 28\, 2024\, 6 – 8 pm with live musical performance by Allison Lynch and Augustine Yates.
URL:https://cspaceprojects.com/event/an-exhibition-of-new-works-by-peter-moller-12/
LOCATION:cSPACE Marda Loop (formerly cSPACE King Edward)\, 1721 29 Avenue Southwest\, #4th Flr\, Calgary\, AB\, T2T 6T7\, Canada
CATEGORIES:Gallery Level 1
ATTACH;FMTTYPE=image/jpeg:https://cspaceprojects.com/wp-content/uploads/2024/03/3e99d6a71d1f4c6bb3eb3ed9c53ea380-DSgqIW.tmp_.jpg
END:VEVENT
BEGIN:VEVENT
DTSTART;TZID=America/Edmonton:20240408T080000
DTEND;TZID=America/Edmonton:20240408T080000
DTSTAMP:20260423T224710
CREATED:20240321T231322Z
LAST-MODIFIED:20240408T235824Z
UID:10000922-1712563200-1712563200@cspaceprojects.com
SUMMARY:An Exhibition of New Works by Peter Moller
DESCRIPTION:cSPACE Marda Loop\, Level 1 Gallery\nArtist Reception Thursday March 28th\, 2024\, 6pm-8pm\n\nNew works including paintings\, drawings\, sculpture-installation and a selection of digital illustrations from the Egg Press archive.\n\nWelcome to An Exhibition of New Works by Peter Moller!\n\nCome join us from Mon\, Mar 25 to April 15\, 2024 at cSPACE Marda Loop to experience the latest creations by artist\, Peter Moller. New works include paintings\, drawings\, sculpture-installation and a selection of digital illustrations from the Egg Press archive.\n\nOpening event Thursday\, March 28\, 2024\, 6 – 8 pm with live musical performance by Allison Lynch and Augustine Yates.
URL:https://cspaceprojects.com/event/an-exhibition-of-new-works-by-peter-moller-13/
LOCATION:cSPACE Marda Loop (formerly cSPACE King Edward)\, 1721 29 Avenue Southwest\, #4th Flr\, Calgary\, AB\, T2T 6T7\, Canada
CATEGORIES:Gallery Level 1
ATTACH;FMTTYPE=image/jpeg:https://cspaceprojects.com/wp-content/uploads/2024/03/3e99d6a71d1f4c6bb3eb3ed9c53ea380-DSgqIW.tmp_.jpg
END:VEVENT
BEGIN:VEVENT
DTSTART;TZID=America/Edmonton:20240409T080000
DTEND;TZID=America/Edmonton:20240409T080000
DTSTAMP:20260423T224710
CREATED:20240321T231322Z
LAST-MODIFIED:20240409T235817Z
UID:10000923-1712649600-1712649600@cspaceprojects.com
SUMMARY:An Exhibition of New Works by Peter Moller
DESCRIPTION:cSPACE Marda Loop\, Level 1 Gallery\nArtist Reception Thursday March 28th\, 2024\, 6pm-8pm\n\nNew works including paintings\, drawings\, sculpture-installation and a selection of digital illustrations from the Egg Press archive.\n\nWelcome to An Exhibition of New Works by Peter Moller!\n\nCome join us from Mon\, Mar 25 to April 15\, 2024 at cSPACE Marda Loop to experience the latest creations by artist\, Peter Moller. New works include paintings\, drawings\, sculpture-installation and a selection of digital illustrations from the Egg Press archive.\n\nOpening event Thursday\, March 28\, 2024\, 6 – 8 pm with live musical performance by Allison Lynch and Augustine Yates.
URL:https://cspaceprojects.com/event/an-exhibition-of-new-works-by-peter-moller-14/
LOCATION:cSPACE Marda Loop (formerly cSPACE King Edward)\, 1721 29 Avenue Southwest\, #4th Flr\, Calgary\, AB\, T2T 6T7\, Canada
CATEGORIES:Gallery Level 1
ATTACH;FMTTYPE=image/jpeg:https://cspaceprojects.com/wp-content/uploads/2024/03/3e99d6a71d1f4c6bb3eb3ed9c53ea380-DSgqIW.tmp_.jpg
END:VEVENT
BEGIN:VEVENT
DTSTART;TZID=America/Edmonton:20240410T080000
DTEND;TZID=America/Edmonton:20240410T080000
DTSTAMP:20260423T224710
CREATED:20240321T231322Z
LAST-MODIFIED:20240410T231337Z
UID:10000924-1712736000-1712736000@cspaceprojects.com
SUMMARY:An Exhibition of New Works by Peter Moller
DESCRIPTION:cSPACE Marda Loop\, Level 1 Gallery\nArtist Reception Thursday March 28th\, 2024\, 6pm-8pm\n\nNew works including paintings\, drawings\, sculpture-installation and a selection of digital illustrations from the Egg Press archive.\n\nWelcome to An Exhibition of New Works by Peter Moller!\n\nCome join us from Mon\, Mar 25 to April 15\, 2024 at cSPACE Marda Loop to experience the latest creations by artist\, Peter Moller. New works include paintings\, drawings\, sculpture-installation and a selection of digital illustrations from the Egg Press archive.\n\nOpening event Thursday\, March 28\, 2024\, 6 – 8 pm with live musical performance by Allison Lynch and Augustine Yates.
URL:https://cspaceprojects.com/event/an-exhibition-of-new-works-by-peter-moller-15/
LOCATION:cSPACE Marda Loop (formerly cSPACE King Edward)\, 1721 29 Avenue Southwest\, #4th Flr\, Calgary\, AB\, T2T 6T7\, Canada
CATEGORIES:Gallery Level 1
ATTACH;FMTTYPE=image/jpeg:https://cspaceprojects.com/wp-content/uploads/2024/03/3e99d6a71d1f4c6bb3eb3ed9c53ea380-DSgqIW.tmp_.jpg
END:VEVENT
BEGIN:VEVENT
DTSTART;TZID=America/Edmonton:20240411T080000
DTEND;TZID=America/Edmonton:20240411T080000
DTSTAMP:20260423T224710
CREATED:20240321T231323Z
LAST-MODIFIED:20240411T234325Z
UID:10000925-1712822400-1712822400@cspaceprojects.com
SUMMARY:An Exhibition of New Works by Peter Moller
DESCRIPTION:cSPACE Marda Loop\, Level 1 Gallery\nArtist Reception Thursday March 28th\, 2024\, 6pm-8pm\n\nNew works including paintings\, drawings\, sculpture-installation and a selection of digital illustrations from the Egg Press archive.\n\nWelcome to An Exhibition of New Works by Peter Moller!\n\nCome join us from Mon\, Mar 25 to April 15\, 2024 at cSPACE Marda Loop to experience the latest creations by artist\, Peter Moller. New works include paintings\, drawings\, sculpture-installation and a selection of digital illustrations from the Egg Press archive.\n\nOpening event Thursday\, March 28\, 2024\, 6 – 8 pm with live musical performance by Allison Lynch and Augustine Yates.
URL:https://cspaceprojects.com/event/an-exhibition-of-new-works-by-peter-moller-16/
LOCATION:cSPACE Marda Loop (formerly cSPACE King Edward)\, 1721 29 Avenue Southwest\, #4th Flr\, Calgary\, AB\, T2T 6T7\, Canada
CATEGORIES:Gallery Level 1
ATTACH;FMTTYPE=image/jpeg:https://cspaceprojects.com/wp-content/uploads/2024/03/3e99d6a71d1f4c6bb3eb3ed9c53ea380-DSgqIW.tmp_.jpg
END:VEVENT
BEGIN:VEVENT
DTSTART;TZID=America/Edmonton:20240412T080000
DTEND;TZID=America/Edmonton:20240412T080000
DTSTAMP:20260423T224710
CREATED:20240321T231323Z
LAST-MODIFIED:20240412T235820Z
UID:10000926-1712908800-1712908800@cspaceprojects.com
SUMMARY:An Exhibition of New Works by Peter Moller
DESCRIPTION:cSPACE Marda Loop\, Level 1 Gallery\nArtist Reception Thursday March 28th\, 2024\, 6pm-8pm\n\nNew works including paintings\, drawings\, sculpture-installation and a selection of digital illustrations from the Egg Press archive.\n\nWelcome to An Exhibition of New Works by Peter Moller!\n\nCome join us from Mon\, Mar 25 to April 15\, 2024 at cSPACE Marda Loop to experience the latest creations by artist\, Peter Moller. New works include paintings\, drawings\, sculpture-installation and a selection of digital illustrations from the Egg Press archive.\n\nOpening event Thursday\, March 28\, 2024\, 6 – 8 pm with live musical performance by Allison Lynch and Augustine Yates.
URL:https://cspaceprojects.com/event/an-exhibition-of-new-works-by-peter-moller-17/
LOCATION:cSPACE Marda Loop (formerly cSPACE King Edward)\, 1721 29 Avenue Southwest\, #4th Flr\, Calgary\, AB\, T2T 6T7\, Canada
CATEGORIES:Gallery Level 1
ATTACH;FMTTYPE=image/jpeg:https://cspaceprojects.com/wp-content/uploads/2024/03/3e99d6a71d1f4c6bb3eb3ed9c53ea380-DSgqIW.tmp_.jpg
END:VEVENT
BEGIN:VEVENT
DTSTART;TZID=America/Edmonton:20240413T080000
DTEND;TZID=America/Edmonton:20240413T080000
DTSTAMP:20260423T224710
CREATED:20240321T231323Z
LAST-MODIFIED:20240413T231321Z
UID:10000927-1712995200-1712995200@cspaceprojects.com
SUMMARY:An Exhibition of New Works by Peter Moller
DESCRIPTION:cSPACE Marda Loop\, Level 1 Gallery\nArtist Reception Thursday March 28th\, 2024\, 6pm-8pm\n\nNew works including paintings\, drawings\, sculpture-installation and a selection of digital illustrations from the Egg Press archive.\n\nWelcome to An Exhibition of New Works by Peter Moller!\n\nCome join us from Mon\, Mar 25 to April 15\, 2024 at cSPACE Marda Loop to experience the latest creations by artist\, Peter Moller. New works include paintings\, drawings\, sculpture-installation and a selection of digital illustrations from the Egg Press archive.\n\nOpening event Thursday\, March 28\, 2024\, 6 – 8 pm with live musical performance by Allison Lynch and Augustine Yates.
URL:https://cspaceprojects.com/event/an-exhibition-of-new-works-by-peter-moller-18/
LOCATION:cSPACE Marda Loop (formerly cSPACE King Edward)\, 1721 29 Avenue Southwest\, #4th Flr\, Calgary\, AB\, T2T 6T7\, Canada
CATEGORIES:Gallery Level 1
ATTACH;FMTTYPE=image/jpeg:https://cspaceprojects.com/wp-content/uploads/2024/03/3e99d6a71d1f4c6bb3eb3ed9c53ea380-DSgqIW.tmp_.jpg
END:VEVENT
END:VCALENDAR