BEGIN:VCALENDAR
VERSION:2.0
PRODID:-//cSPACE Projects - ECPv6.15.20//NONSGML v1.0//EN
CALSCALE:GREGORIAN
METHOD:PUBLISH
X-WR-CALNAME:cSPACE Projects
X-ORIGINAL-URL:https://cspaceprojects.com
X-WR-CALDESC:Events for cSPACE Projects
REFRESH-INTERVAL;VALUE=DURATION:PT1H
X-Robots-Tag:noindex
X-PUBLISHED-TTL:PT1H
BEGIN:VTIMEZONE
TZID:UTC
BEGIN:STANDARD
TZOFFSETFROM:+0000
TZOFFSETTO:+0000
TZNAME:UTC
DTSTART:20230101T000000
END:STANDARD
END:VTIMEZONE
BEGIN:VEVENT
DTSTART;TZID=UTC:20240708T090000
DTEND;TZID=UTC:20240708T160000
DTSTAMP:20260420T014021
CREATED:20240705T181317Z
LAST-MODIFIED:20240708T225831Z
UID:10001231-1720429200-1720454400@cspaceprojects.com
SUMMARY:Quest Theatre Summer Camps for Kids
DESCRIPTION:Unlock Your Child’s Creativity: One-Week Theatre Camps with Quest Theatre\nKids can be shy or enthusiastic\, intellectual\, or physical\, imaginative\, or quiet – but they all have great stories to tell. Creating a show in one-week time is an exhilarating experience! Each class at camp is facilitated by two professional artists that love sharing their expertise in and passion for theatre making with young people. Quest Theatre camps support all levels of creative development and nurture the organic ridiculous and brilliant ideas of your child! \nMore info and registration here: https://www.questtheatre.org/summer-camps
URL:https://cspaceprojects.com/event/quest-theatre-summer-camps-for-kids/
LOCATION:cSPACE Marda Loop\, 1721 29 Avenue Southwest\, Calgary\, AB\, T2T 6T7\, Canada
ATTACH;FMTTYPE=image/jpeg:https://cspaceprojects.com/wp-content/uploads/2024/07/untitled-design-2-NfCJBQ.tmp_.jpg
END:VEVENT
BEGIN:VEVENT
DTSTART;TZID=UTC:20240709T090000
DTEND;TZID=UTC:20240709T160000
DTSTAMP:20260420T014021
CREATED:20240705T181321Z
LAST-MODIFIED:20240709T232821Z
UID:10001232-1720515600-1720540800@cspaceprojects.com
SUMMARY:Quest Theatre Summer Camps for Kids
DESCRIPTION:Unlock Your Child’s Creativity: One-Week Theatre Camps with Quest Theatre\nKids can be shy or enthusiastic\, intellectual\, or physical\, imaginative\, or quiet – but they all have great stories to tell. Creating a show in one-week time is an exhilarating experience! Each class at camp is facilitated by two professional artists that love sharing their expertise in and passion for theatre making with young people. Quest Theatre camps support all levels of creative development and nurture the organic ridiculous and brilliant ideas of your child! \nMore info and registration here: https://www.questtheatre.org/summer-camps
URL:https://cspaceprojects.com/event/quest-theatre-summer-camps-for-kids-2/
LOCATION:cSPACE Marda Loop\, 1721 29 Avenue Southwest\, Calgary\, AB\, T2T 6T7\, Canada
ATTACH;FMTTYPE=image/jpeg:https://cspaceprojects.com/wp-content/uploads/2024/07/untitled-design-2-NfCJBQ.tmp_.jpg
END:VEVENT
BEGIN:VEVENT
DTSTART;TZID=UTC:20240710T090000
DTEND;TZID=UTC:20240710T160000
DTSTAMP:20260420T014021
CREATED:20240705T181322Z
LAST-MODIFIED:20240710T231319Z
UID:10001233-1720602000-1720627200@cspaceprojects.com
SUMMARY:Quest Theatre Summer Camps for Kids
DESCRIPTION:Unlock Your Child’s Creativity: One-Week Theatre Camps with Quest Theatre\nKids can be shy or enthusiastic\, intellectual\, or physical\, imaginative\, or quiet – but they all have great stories to tell. Creating a show in one-week time is an exhilarating experience! Each class at camp is facilitated by two professional artists that love sharing their expertise in and passion for theatre making with young people. Quest Theatre camps support all levels of creative development and nurture the organic ridiculous and brilliant ideas of your child! \nMore info and registration here: https://www.questtheatre.org/summer-camps
URL:https://cspaceprojects.com/event/quest-theatre-summer-camps-for-kids-3/
LOCATION:cSPACE Marda Loop\, 1721 29 Avenue Southwest\, Calgary\, AB\, T2T 6T7\, Canada
ATTACH;FMTTYPE=image/jpeg:https://cspaceprojects.com/wp-content/uploads/2024/07/untitled-design-2-NfCJBQ.tmp_.jpg
END:VEVENT
BEGIN:VEVENT
DTSTART;TZID=UTC:20240711T090000
DTEND;TZID=UTC:20240711T160000
DTSTAMP:20260420T014021
CREATED:20240705T181322Z
LAST-MODIFIED:20240711T234321Z
UID:10001234-1720688400-1720713600@cspaceprojects.com
SUMMARY:Quest Theatre Summer Camps for Kids
DESCRIPTION:Unlock Your Child’s Creativity: One-Week Theatre Camps with Quest Theatre\nKids can be shy or enthusiastic\, intellectual\, or physical\, imaginative\, or quiet – but they all have great stories to tell. Creating a show in one-week time is an exhilarating experience! Each class at camp is facilitated by two professional artists that love sharing their expertise in and passion for theatre making with young people. Quest Theatre camps support all levels of creative development and nurture the organic ridiculous and brilliant ideas of your child! \nMore info and registration here: https://www.questtheatre.org/summer-camps
URL:https://cspaceprojects.com/event/quest-theatre-summer-camps-for-kids-4/
LOCATION:cSPACE Marda Loop\, 1721 29 Avenue Southwest\, Calgary\, AB\, T2T 6T7\, Canada
ATTACH;FMTTYPE=image/jpeg:https://cspaceprojects.com/wp-content/uploads/2024/07/untitled-design-2-NfCJBQ.tmp_.jpg
END:VEVENT
BEGIN:VEVENT
DTSTART;TZID=UTC:20240712T090000
DTEND;TZID=UTC:20240712T160000
DTSTAMP:20260420T014021
CREATED:20240705T181322Z
LAST-MODIFIED:20240712T231322Z
UID:10001235-1720774800-1720800000@cspaceprojects.com
SUMMARY:Quest Theatre Summer Camps for Kids
DESCRIPTION:Unlock Your Child’s Creativity: One-Week Theatre Camps with Quest Theatre\nKids can be shy or enthusiastic\, intellectual\, or physical\, imaginative\, or quiet – but they all have great stories to tell. Creating a show in one-week time is an exhilarating experience! Each class at camp is facilitated by two professional artists that love sharing their expertise in and passion for theatre making with young people. Quest Theatre camps support all levels of creative development and nurture the organic ridiculous and brilliant ideas of your child! \nMore info and registration here: https://www.questtheatre.org/summer-camps
URL:https://cspaceprojects.com/event/quest-theatre-summer-camps-for-kids-5/
LOCATION:cSPACE Marda Loop\, 1721 29 Avenue Southwest\, Calgary\, AB\, T2T 6T7\, Canada
ATTACH;FMTTYPE=image/jpeg:https://cspaceprojects.com/wp-content/uploads/2024/07/untitled-design-2-NfCJBQ.tmp_.jpg
END:VEVENT
BEGIN:VEVENT
DTSTART;TZID=UTC:20240715T090000
DTEND;TZID=UTC:20240715T160000
DTSTAMP:20260420T014021
CREATED:20240705T181323Z
LAST-MODIFIED:20240715T004321Z
UID:10001236-1721034000-1721059200@cspaceprojects.com
SUMMARY:Quest Theatre Summer Camps for Kids
DESCRIPTION:Unlock Your Child’s Creativity: One-Week Theatre Camps with Quest Theatre\nKids can be shy or enthusiastic\, intellectual\, or physical\, imaginative\, or quiet – but they all have great stories to tell. Creating a show in one-week time is an exhilarating experience! Each class at camp is facilitated by two professional artists that love sharing their expertise in and passion for theatre making with young people. Quest Theatre camps support all levels of creative development and nurture the organic ridiculous and brilliant ideas of your child! \nMore info and registration here: https://www.questtheatre.org/summer-camps
URL:https://cspaceprojects.com/event/quest-theatre-summer-camps-for-kids-6/
LOCATION:cSPACE Marda Loop\, 1721 29 Avenue Southwest\, Calgary\, AB\, T2T 6T7\, Canada
ATTACH;FMTTYPE=image/jpeg:https://cspaceprojects.com/wp-content/uploads/2024/07/untitled-design-2-NfCJBQ.tmp_.jpg
END:VEVENT
BEGIN:VEVENT
DTSTART;TZID=UTC:20240716T090000
DTEND;TZID=UTC:20240716T160000
DTSTAMP:20260420T014021
CREATED:20240705T181323Z
LAST-MODIFIED:20240715T004321Z
UID:10001237-1721120400-1721145600@cspaceprojects.com
SUMMARY:Quest Theatre Summer Camps for Kids
DESCRIPTION:Unlock Your Child’s Creativity: One-Week Theatre Camps with Quest Theatre\nKids can be shy or enthusiastic\, intellectual\, or physical\, imaginative\, or quiet – but they all have great stories to tell. Creating a show in one-week time is an exhilarating experience! Each class at camp is facilitated by two professional artists that love sharing their expertise in and passion for theatre making with young people. Quest Theatre camps support all levels of creative development and nurture the organic ridiculous and brilliant ideas of your child! \nMore info and registration here: https://www.questtheatre.org/summer-camps
URL:https://cspaceprojects.com/event/quest-theatre-summer-camps-for-kids-7/
LOCATION:cSPACE Marda Loop\, 1721 29 Avenue Southwest\, Calgary\, AB\, T2T 6T7\, Canada
ATTACH;FMTTYPE=image/jpeg:https://cspaceprojects.com/wp-content/uploads/2024/07/untitled-design-2-NfCJBQ.tmp_.jpg
END:VEVENT
BEGIN:VEVENT
DTSTART;TZID=UTC:20240717T090000
DTEND;TZID=UTC:20240717T160000
DTSTAMP:20260420T014021
CREATED:20240705T181324Z
LAST-MODIFIED:20240715T004322Z
UID:10001238-1721206800-1721232000@cspaceprojects.com
SUMMARY:Quest Theatre Summer Camps for Kids
DESCRIPTION:Unlock Your Child’s Creativity: One-Week Theatre Camps with Quest Theatre\nKids can be shy or enthusiastic\, intellectual\, or physical\, imaginative\, or quiet – but they all have great stories to tell. Creating a show in one-week time is an exhilarating experience! Each class at camp is facilitated by two professional artists that love sharing their expertise in and passion for theatre making with young people. Quest Theatre camps support all levels of creative development and nurture the organic ridiculous and brilliant ideas of your child! \nMore info and registration here: https://www.questtheatre.org/summer-camps
URL:https://cspaceprojects.com/event/quest-theatre-summer-camps-for-kids-8/
LOCATION:cSPACE Marda Loop\, 1721 29 Avenue Southwest\, Calgary\, AB\, T2T 6T7\, Canada
ATTACH;FMTTYPE=image/jpeg:https://cspaceprojects.com/wp-content/uploads/2024/07/untitled-design-2-NfCJBQ.tmp_.jpg
END:VEVENT
BEGIN:VEVENT
DTSTART;TZID=UTC:20240718T090000
DTEND;TZID=UTC:20240718T160000
DTSTAMP:20260420T014021
CREATED:20240705T181324Z
LAST-MODIFIED:20240715T004322Z
UID:10001239-1721293200-1721318400@cspaceprojects.com
SUMMARY:Quest Theatre Summer Camps for Kids
DESCRIPTION:Unlock Your Child’s Creativity: One-Week Theatre Camps with Quest Theatre\nKids can be shy or enthusiastic\, intellectual\, or physical\, imaginative\, or quiet – but they all have great stories to tell. Creating a show in one-week time is an exhilarating experience! Each class at camp is facilitated by two professional artists that love sharing their expertise in and passion for theatre making with young people. Quest Theatre camps support all levels of creative development and nurture the organic ridiculous and brilliant ideas of your child! \nMore info and registration here: https://www.questtheatre.org/summer-camps
URL:https://cspaceprojects.com/event/quest-theatre-summer-camps-for-kids-9/
LOCATION:cSPACE Marda Loop\, 1721 29 Avenue Southwest\, Calgary\, AB\, T2T 6T7\, Canada
ATTACH;FMTTYPE=image/jpeg:https://cspaceprojects.com/wp-content/uploads/2024/07/untitled-design-2-NfCJBQ.tmp_.jpg
END:VEVENT
BEGIN:VEVENT
DTSTART;TZID=UTC:20240719T090000
DTEND;TZID=UTC:20240719T160000
DTSTAMP:20260420T014021
CREATED:20240705T181324Z
LAST-MODIFIED:20240715T004322Z
UID:10001240-1721379600-1721404800@cspaceprojects.com
SUMMARY:Quest Theatre Summer Camps for Kids
DESCRIPTION:Unlock Your Child’s Creativity: One-Week Theatre Camps with Quest Theatre\nKids can be shy or enthusiastic\, intellectual\, or physical\, imaginative\, or quiet – but they all have great stories to tell. Creating a show in one-week time is an exhilarating experience! Each class at camp is facilitated by two professional artists that love sharing their expertise in and passion for theatre making with young people. Quest Theatre camps support all levels of creative development and nurture the organic ridiculous and brilliant ideas of your child! \nMore info and registration here: https://www.questtheatre.org/summer-camps
URL:https://cspaceprojects.com/event/quest-theatre-summer-camps-for-kids-10/
LOCATION:cSPACE Marda Loop\, 1721 29 Avenue Southwest\, Calgary\, AB\, T2T 6T7\, Canada
ATTACH;FMTTYPE=image/jpeg:https://cspaceprojects.com/wp-content/uploads/2024/07/untitled-design-2-NfCJBQ.tmp_.jpg
END:VEVENT
BEGIN:VEVENT
DTSTART;TZID=UTC:20240722T090000
DTEND;TZID=UTC:20240722T160000
DTSTAMP:20260420T014021
CREATED:20240705T181325Z
LAST-MODIFIED:20240722T232820Z
UID:10001241-1721638800-1721664000@cspaceprojects.com
SUMMARY:Quest Theatre Summer Camps for Kids
DESCRIPTION:Unlock Your Child’s Creativity: One-Week Theatre Camps with Quest Theatre\nKids can be shy or enthusiastic\, intellectual\, or physical\, imaginative\, or quiet – but they all have great stories to tell. Creating a show in one-week time is an exhilarating experience! Each class at camp is facilitated by two professional artists that love sharing their expertise in and passion for theatre making with young people. Quest Theatre camps support all levels of creative development and nurture the organic ridiculous and brilliant ideas of your child! \nMore info and registration here: https://www.questtheatre.org/summer-camps
URL:https://cspaceprojects.com/event/quest-theatre-summer-camps-for-kids-11/
LOCATION:cSPACE Marda Loop\, 1721 29 Avenue Southwest\, Calgary\, AB\, T2T 6T7\, Canada
ATTACH;FMTTYPE=image/jpeg:https://cspaceprojects.com/wp-content/uploads/2024/07/untitled-design-2-NfCJBQ.tmp_.jpg
END:VEVENT
BEGIN:VEVENT
DTSTART;TZID=UTC:20240723T090000
DTEND;TZID=UTC:20240723T160000
DTSTAMP:20260420T014021
CREATED:20240705T181325Z
LAST-MODIFIED:20240723T234324Z
UID:10001242-1721725200-1721750400@cspaceprojects.com
SUMMARY:Quest Theatre Summer Camps for Kids
DESCRIPTION:Unlock Your Child’s Creativity: One-Week Theatre Camps with Quest Theatre\nKids can be shy or enthusiastic\, intellectual\, or physical\, imaginative\, or quiet – but they all have great stories to tell. Creating a show in one-week time is an exhilarating experience! Each class at camp is facilitated by two professional artists that love sharing their expertise in and passion for theatre making with young people. Quest Theatre camps support all levels of creative development and nurture the organic ridiculous and brilliant ideas of your child! \nMore info and registration here: https://www.questtheatre.org/summer-camps
URL:https://cspaceprojects.com/event/quest-theatre-summer-camps-for-kids-12/
LOCATION:cSPACE Marda Loop\, 1721 29 Avenue Southwest\, Calgary\, AB\, T2T 6T7\, Canada
ATTACH;FMTTYPE=image/jpeg:https://cspaceprojects.com/wp-content/uploads/2024/07/untitled-design-2-NfCJBQ.tmp_.jpg
END:VEVENT
BEGIN:VEVENT
DTSTART;TZID=UTC:20240724T090000
DTEND;TZID=UTC:20240724T160000
DTSTAMP:20260420T014021
CREATED:20240705T181325Z
LAST-MODIFIED:20240724T231321Z
UID:10001243-1721811600-1721836800@cspaceprojects.com
SUMMARY:Quest Theatre Summer Camps for Kids
DESCRIPTION:Unlock Your Child’s Creativity: One-Week Theatre Camps with Quest Theatre\nKids can be shy or enthusiastic\, intellectual\, or physical\, imaginative\, or quiet – but they all have great stories to tell. Creating a show in one-week time is an exhilarating experience! Each class at camp is facilitated by two professional artists that love sharing their expertise in and passion for theatre making with young people. Quest Theatre camps support all levels of creative development and nurture the organic ridiculous and brilliant ideas of your child! \nMore info and registration here: https://www.questtheatre.org/summer-camps
URL:https://cspaceprojects.com/event/quest-theatre-summer-camps-for-kids-13/
LOCATION:cSPACE Marda Loop\, 1721 29 Avenue Southwest\, Calgary\, AB\, T2T 6T7\, Canada
ATTACH;FMTTYPE=image/jpeg:https://cspaceprojects.com/wp-content/uploads/2024/07/untitled-design-2-NfCJBQ.tmp_.jpg
END:VEVENT
BEGIN:VEVENT
DTSTART;TZID=UTC:20240725T090000
DTEND;TZID=UTC:20240725T160000
DTSTAMP:20260420T014021
CREATED:20240705T181326Z
LAST-MODIFIED:20240725T234442Z
UID:10001244-1721898000-1721923200@cspaceprojects.com
SUMMARY:Quest Theatre Summer Camps for Kids
DESCRIPTION:Unlock Your Child’s Creativity: One-Week Theatre Camps with Quest Theatre\nKids can be shy or enthusiastic\, intellectual\, or physical\, imaginative\, or quiet – but they all have great stories to tell. Creating a show in one-week time is an exhilarating experience! Each class at camp is facilitated by two professional artists that love sharing their expertise in and passion for theatre making with young people. Quest Theatre camps support all levels of creative development and nurture the organic ridiculous and brilliant ideas of your child! \nMore info and registration here: https://www.questtheatre.org/summer-camps
URL:https://cspaceprojects.com/event/quest-theatre-summer-camps-for-kids-14/
LOCATION:cSPACE Marda Loop\, 1721 29 Avenue Southwest\, Calgary\, AB\, T2T 6T7\, Canada
ATTACH;FMTTYPE=image/jpeg:https://cspaceprojects.com/wp-content/uploads/2024/07/untitled-design-2-NfCJBQ.tmp_.jpg
END:VEVENT
BEGIN:VEVENT
DTSTART;TZID=UTC:20240726T090000
DTEND;TZID=UTC:20240726T160000
DTSTAMP:20260420T014021
CREATED:20240705T181326Z
LAST-MODIFIED:20240726T182921Z
UID:10001245-1721984400-1722009600@cspaceprojects.com
SUMMARY:Quest Theatre Summer Camps for Kids
DESCRIPTION:Unlock Your Child’s Creativity: One-Week Theatre Camps with Quest Theatre\nKids can be shy or enthusiastic\, intellectual\, or physical\, imaginative\, or quiet – but they all have great stories to tell. Creating a show in one-week time is an exhilarating experience! Each class at camp is facilitated by two professional artists that love sharing their expertise in and passion for theatre making with young people. Quest Theatre camps support all levels of creative development and nurture the organic ridiculous and brilliant ideas of your child! \nMore info and registration here: https://www.questtheatre.org/summer-camps
URL:https://cspaceprojects.com/event/quest-theatre-summer-camps-for-kids-15/
LOCATION:cSPACE Marda Loop\, 1721 29 Avenue Southwest\, Calgary\, AB\, T2T 6T7\, Canada
ATTACH;FMTTYPE=image/jpeg:https://cspaceprojects.com/wp-content/uploads/2024/07/untitled-design-2-NfCJBQ.tmp_.jpg
END:VEVENT
BEGIN:VEVENT
DTSTART;VALUE=DATE:20240729
DTEND;VALUE=DATE:20240803
DTSTAMP:20260420T014021
CREATED:20240726T192822Z
LAST-MODIFIED:20240729T235835Z
UID:10001279-1722211200-1722643199@cspaceprojects.com
SUMMARY:Quest Theatre Summer Camps for Kids: July 29-August 2
DESCRIPTION:Unlock Your Child’s Creativity: One-Week Theatre Camps with Quest Theatre\nKids can be shy or enthusiastic\, intellectual\, or physical\, imaginative\, or quiet – but they all have great stories to tell. Creating a show in one-week time is an exhilarating experience! Each class at camp is facilitated by two professional artists that love sharing their expertise in and passion for theatre making with young people. Quest Theatre camps support all levels of creative development and nurture the organic ridiculous and brilliant ideas of your child! \nMore info and registration here: https://www.questtheatre.org/summer-camps
URL:https://cspaceprojects.com/event/quest-theatre-summer-camps-for-kids-july-29-august-2/
LOCATION:cSPACE Marda Loop\, 1721 29 Avenue Southwest\, Calgary\, AB\, T2T 6T7\, Canada
ATTACH;FMTTYPE=image/jpeg:https://cspaceprojects.com/wp-content/uploads/2024/07/untitled-design-2-NfCJBQ.tmp_.jpg
END:VEVENT
BEGIN:VEVENT
DTSTART;TZID=UTC:20240729T090000
DTEND;TZID=UTC:20240729T160000
DTSTAMP:20260420T014021
CREATED:20240705T181326Z
LAST-MODIFIED:20240726T182922Z
UID:10001246-1722243600-1722268800@cspaceprojects.com
SUMMARY:Quest Theatre Summer Camps for Kids
DESCRIPTION:Unlock Your Child’s Creativity: One-Week Theatre Camps with Quest Theatre\nKids can be shy or enthusiastic\, intellectual\, or physical\, imaginative\, or quiet – but they all have great stories to tell. Creating a show in one-week time is an exhilarating experience! Each class at camp is facilitated by two professional artists that love sharing their expertise in and passion for theatre making with young people. Quest Theatre camps support all levels of creative development and nurture the organic ridiculous and brilliant ideas of your child! \nMore info and registration here: https://www.questtheatre.org/summer-camps
URL:https://cspaceprojects.com/event/quest-theatre-summer-camps-for-kids-16/
LOCATION:cSPACE Marda Loop\, 1721 29 Avenue Southwest\, Calgary\, AB\, T2T 6T7\, Canada
ATTACH;FMTTYPE=image/jpeg:https://cspaceprojects.com/wp-content/uploads/2024/07/untitled-design-2-NfCJBQ.tmp_.jpg
END:VEVENT
BEGIN:VEVENT
DTSTART;TZID=UTC:20240730T090000
DTEND;TZID=UTC:20240730T160000
DTSTAMP:20260420T014021
CREATED:20240705T181327Z
LAST-MODIFIED:20240726T182923Z
UID:10001247-1722330000-1722355200@cspaceprojects.com
SUMMARY:Quest Theatre Summer Camps for Kids
DESCRIPTION:Unlock Your Child’s Creativity: One-Week Theatre Camps with Quest Theatre\nKids can be shy or enthusiastic\, intellectual\, or physical\, imaginative\, or quiet – but they all have great stories to tell. Creating a show in one-week time is an exhilarating experience! Each class at camp is facilitated by two professional artists that love sharing their expertise in and passion for theatre making with young people. Quest Theatre camps support all levels of creative development and nurture the organic ridiculous and brilliant ideas of your child! \nMore info and registration here: https://www.questtheatre.org/summer-camps
URL:https://cspaceprojects.com/event/quest-theatre-summer-camps-for-kids-17/
LOCATION:cSPACE Marda Loop\, 1721 29 Avenue Southwest\, Calgary\, AB\, T2T 6T7\, Canada
ATTACH;FMTTYPE=image/jpeg:https://cspaceprojects.com/wp-content/uploads/2024/07/untitled-design-2-NfCJBQ.tmp_.jpg
END:VEVENT
BEGIN:VEVENT
DTSTART;TZID=UTC:20240731T090000
DTEND;TZID=UTC:20240731T160000
DTSTAMP:20260420T014021
CREATED:20240705T181327Z
LAST-MODIFIED:20240726T182923Z
UID:10001248-1722416400-1722441600@cspaceprojects.com
SUMMARY:Quest Theatre Summer Camps for Kids
DESCRIPTION:Unlock Your Child’s Creativity: One-Week Theatre Camps with Quest Theatre\nKids can be shy or enthusiastic\, intellectual\, or physical\, imaginative\, or quiet – but they all have great stories to tell. Creating a show in one-week time is an exhilarating experience! Each class at camp is facilitated by two professional artists that love sharing their expertise in and passion for theatre making with young people. Quest Theatre camps support all levels of creative development and nurture the organic ridiculous and brilliant ideas of your child! \nMore info and registration here: https://www.questtheatre.org/summer-camps
URL:https://cspaceprojects.com/event/quest-theatre-summer-camps-for-kids-18/
LOCATION:cSPACE Marda Loop\, 1721 29 Avenue Southwest\, Calgary\, AB\, T2T 6T7\, Canada
ATTACH;FMTTYPE=image/jpeg:https://cspaceprojects.com/wp-content/uploads/2024/07/untitled-design-2-NfCJBQ.tmp_.jpg
END:VEVENT
END:VCALENDAR