BEGIN:VCALENDAR
VERSION:2.0
PRODID:-//cSPACE Projects - ECPv6.15.20//NONSGML v1.0//EN
CALSCALE:GREGORIAN
METHOD:PUBLISH
X-WR-CALNAME:cSPACE Projects
X-ORIGINAL-URL:https://cspaceprojects.com
X-WR-CALDESC:Events for cSPACE Projects
REFRESH-INTERVAL;VALUE=DURATION:PT1H
X-Robots-Tag:noindex
X-PUBLISHED-TTL:PT1H
BEGIN:VTIMEZONE
TZID:UTC
BEGIN:STANDARD
TZOFFSETFROM:+0000
TZOFFSETTO:+0000
TZNAME:UTC
DTSTART:20240101T000000
END:STANDARD
END:VTIMEZONE
BEGIN:VEVENT
DTSTART;TZID=UTC:20250210T180000
DTEND;TZID=UTC:20250210T210000
DTSTAMP:20260423T092748
CREATED:20250205T085439Z
LAST-MODIFIED:20250208T235232Z
UID:10001472-1739210400-1739221200@cspaceprojects.com
SUMMARY:Riyoko Work/Shop: Teen Sew (February/March)
DESCRIPTION:Come learn how to sew and start making your own projects!\nIn this class\, students will learn their way around the machine through various projects and gain the foundational sewing skills to translate into future projects for themselves. Students will learn how to read patterns\, and how to choose fabrics and patterns right for the projects they are making. They will make simple and functional projects like pyjama pants\, and gift pouches ( to hold all the things)! The skills of sewing can seem daunting\, but with the right instruction\, it can be fun and sew much easier than you think! \n\nThis course is three 3-hour sessions. The next sessions is: \nMonday\, February 10\, 24 & March 3 – 6 pm to 9 pm \n* This class is for teens age 12 to 17 years old. Adult classes are 18 years + \n* No prior sewing skills are needed for this class. \n$224 \n\n\nWebsite link:\n\nHttps://riyoko.ca/products/teen-sew-101
URL:https://cspaceprojects.com/event/riyoko-work-shop-teen-sew-february-march/
LOCATION:cSPACE Marda Loop\, 1721 29 Avenue Southwest\, Calgary\, AB\, T2T 6T7\, Canada
CATEGORIES:Riyoko Suite #445
ATTACH;FMTTYPE=image/jpeg:https://cspaceprojects.com/wp-content/uploads/2025/02/riyoko-take-3-yFVod9.tmp_.jpg
ORGANIZER;CN="Riyoko Work/Shop":MAILTO:info@riyoko.ca
END:VEVENT
BEGIN:VEVENT
DTSTART;TZID=UTC:20250223T150000
DTEND;TZID=UTC:20250223T170000
DTSTAMP:20260423T092748
CREATED:20250206T220516Z
LAST-MODIFIED:20250224T130650Z
UID:10001505-1740322800-1740330000@cspaceprojects.com
SUMMARY:Chords for Angel Island – Astralis Concert
DESCRIPTION:Don’t miss the world premiere of some chords for angel island by the brilliant young Canadian composer\, Robert Humber.\nYou will also hear the Quartet in d minor\, a work of genius composed by Mozart at age 17 in Vienna. Last but not least we feature Arche II\, also a youthful work by one of the most celebrated Canadian composers\, our own Allan Gordon Bell. This is the first in a series of AGB compositions to be recorded by Astralis Quartet\, thanks to a generous grant received from Alberta Foundation for the Arts. Both Robert Humber and Allan Gordon Bell will be in attendance to introduce their work.” \nPROGRAMME \nW. A. Mozart String Quartet in d minor\, KV 173\nRobert Humber some chords for angel island (premiere)\nAllan Gordon Bell Arche II\nAstralis Quartet\nJohn Lowry\, violin\nEdmund Chung\, violin\nPeter Blake\, viola (guest artist)\nAndrea Case\, cello
URL:https://cspaceprojects.com/event/chords-for-angel-island-astralis-concert/
LOCATION:cSPACE Marda Loop-  Studio Theatre\, 1721 29th Ave. SW\, Calgary\, AB\, T2T 6T7\, Canada
CATEGORIES:Studio Theatre
ATTACH;FMTTYPE=image/jpeg:https://cspaceprojects.com/wp-content/uploads/2025/02/facebook-some-chords-for-angel-island-U0zugC.tmp_.jpg
ORGANIZER;CN="Astralis":MAILTO:jglowry@gmail.com.
END:VEVENT
BEGIN:VEVENT
DTSTART;TZID=UTC:20250224T180000
DTEND;TZID=UTC:20250224T210000
DTSTAMP:20260423T092748
CREATED:20250205T085443Z
LAST-MODIFIED:20250224T130657Z
UID:10001476-1740420000-1740430800@cspaceprojects.com
SUMMARY:Riyoko Work/Shop: Teen Sew (February/March)
DESCRIPTION:Come learn how to sew and start making your own projects!\nIn this class\, students will learn their way around the machine through various projects and gain the foundational sewing skills to translate into future projects for themselves. Students will learn how to read patterns\, and how to choose fabrics and patterns right for the projects they are making. They will make simple and functional projects like pyjama pants\, and gift pouches ( to hold all the things)! The skills of sewing can seem daunting\, but with the right instruction\, it can be fun and sew much easier than you think! \n\nThis course is three 3-hour sessions. The next sessions is: \nMonday\, February 10\, 24 & March 3 – 6 pm to 9 pm \n* This class is for teens age 12 to 17 years old. Adult classes are 18 years + \n* No prior sewing skills are needed for this class. \n$224 \n\n\nWebsite link:\n\nHttps://riyoko.ca/products/teen-sew-101
URL:https://cspaceprojects.com/event/riyoko-work-shop-teen-sew-february-march-2/
LOCATION:cSPACE Marda Loop\, 1721 29 Avenue Southwest\, Calgary\, AB\, T2T 6T7\, Canada
CATEGORIES:Riyoko Suite #445
ATTACH;FMTTYPE=image/jpeg:https://cspaceprojects.com/wp-content/uploads/2025/02/riyoko-take-3-yFVod9.tmp_.jpg
ORGANIZER;CN="Riyoko Work/Shop":MAILTO:info@riyoko.ca
END:VEVENT
END:VCALENDAR