BEGIN:VCALENDAR
VERSION:2.0
PRODID:-//cSPACE Projects - ECPv6.15.20//NONSGML v1.0//EN
CALSCALE:GREGORIAN
METHOD:PUBLISH
X-WR-CALNAME:cSPACE Projects
X-ORIGINAL-URL:https://cspaceprojects.com
X-WR-CALDESC:Events for cSPACE Projects
REFRESH-INTERVAL;VALUE=DURATION:PT1H
X-Robots-Tag:noindex
X-PUBLISHED-TTL:PT1H
BEGIN:VTIMEZONE
TZID:UTC
BEGIN:STANDARD
TZOFFSETFROM:+0000
TZOFFSETTO:+0000
TZNAME:UTC
DTSTART:20220101T000000
END:STANDARD
END:VTIMEZONE
BEGIN:VEVENT
DTSTART;VALUE=DATE:20231127
DTEND;VALUE=DATE:20231203
DTSTAMP:20260421T212602
CREATED:20231106T181457Z
LAST-MODIFIED:20231127T234319Z
UID:10000702-1701043200-1701561599@cspaceprojects.com
SUMMARY:FCA Juried Winter Exhibition and Sale: Small Works
DESCRIPTION:The Federation of Canadian Artists Calgary Chapter is inviting art lovers to their small works exhibition.  \nWe are delighted to introduce a new FCA juried exhibition at cSPACE\, featuring a specially curated collection of artworks measuring 16×16 inches and smaller – perfect for thoughtful gifts. \nOur talented artists have submitted their finest small paintings for evaluation by a panel of three distinguished Signature Status Artists chosen by the Federation of Canadian Artists\, who have expertly curated this exceptional show for your enjoyment. \nThe exhibition will be accessible for both online viewing and in-person visits at cSPACE Marda Loop from November 27th to December 2nd. You can make online purchases of the available artworks during this period\, or opt for an in-person visit on December 2nd from 2 to 6pm to make your selection.
URL:https://cspaceprojects.com/event/fca-juried-winter-exhibition-and-sale-small-works/
LOCATION:cSPACE Marda Loop\, 1721 29 Avenue Southwest\, Calgary\, AB\, T2T 6T7\, Canada
CATEGORIES:Gallery Level 1,Gallery Level 2
ATTACH;FMTTYPE=image/jpeg:https://cspaceprojects.com/wp-content/uploads/2023/11/unnamed-2-xS7o36.tmp_.jpg
END:VEVENT
BEGIN:VEVENT
DTSTART;TZID=UTC:20231201T173000
DTEND;TZID=UTC:20231201T200000
DTSTAMP:20260421T212602
CREATED:20231024T221323Z
LAST-MODIFIED:20231201T234321Z
UID:10000687-1701451800-1701460800@cspaceprojects.com
SUMMARY:Let’s Art for Smiles
DESCRIPTION:We invite you all to\, Art for Smiles\, an evening where you can have fun\, socialize\, meet like-minded peers\, create art\, and stand a chance to win prizes – all for a very\, very good cause. \nThe funds raised at the event will be dedicated to providing free arts-based Mental Health programming and workshops to youth in vulnerable situations. \nHere’s the plan: \n\nUnleash your artistic spirit at the Arts table\nEngage in friendly competitions (so\, bring your A-game!).\nSocialize while you sip and mingle.\n\nLearn more about the impact that our programs and workshops are making. \nAnd that’s not all—there are exciting prizes too! \nEvent Details:\nDate: 1st Dec\, 2023 (Friday)\nTime: 5.30 pm onwards\nVenue: RGO Treehouse\, cSpace Marda Loop \n\n\n\nTicket Information:\nTickets are available now\, click here to get yours today  – Art for Smiles 2023 Tickets \nLet’s come together to create a brighter and more resilient future for our youth. \nFor donations or more info\, email – contactusacsc@gmail.com
URL:https://cspaceprojects.com/event/lets-art-for-smiles/
LOCATION:cSPACE Marda Loop – RGO Treehouse\, Suite #475
CATEGORIES:RGO Treehouse Full
ATTACH;FMTTYPE=image/jpeg:https://cspaceprojects.com/wp-content/uploads/2023/10/afs-poster-05UBCI.tmp_.jpg
END:VEVENT
BEGIN:VEVENT
DTSTART;VALUE=DATE:20231205
DTEND;VALUE=DATE:20231223
DTSTAMP:20260421T212602
CREATED:20231107T215823Z
LAST-MODIFIED:20231205T231346Z
UID:10000704-1701734400-1703289599@cspaceprojects.com
SUMMARY:Calgary Community Painters Winter Art Show
DESCRIPTION:Come see original art from 16 of our members just in time for holiday gift giving.
URL:https://cspaceprojects.com/event/calgary-community-painters-winter-art-show/
LOCATION:cSPACE Marda Loop\, 1721 29 Avenue Southwest\, Calgary\, AB\, T2T 6T7\, Canada
CATEGORIES:Gallery Level 1
ATTACH;FMTTYPE=image/jpeg:https://cspaceprojects.com/wp-content/uploads/2023/11/img_7254-Z7PI09.tmp_.jpg
END:VEVENT
END:VCALENDAR