BEGIN:VCALENDAR
VERSION:2.0
PRODID:-//cSPACE Projects - ECPv6.15.20//NONSGML v1.0//EN
CALSCALE:GREGORIAN
METHOD:PUBLISH
X-WR-CALNAME:cSPACE Projects
X-ORIGINAL-URL:https://cspaceprojects.com
X-WR-CALDESC:Events for cSPACE Projects
REFRESH-INTERVAL;VALUE=DURATION:PT1H
X-Robots-Tag:noindex
X-PUBLISHED-TTL:PT1H
BEGIN:VTIMEZONE
TZID:UTC
BEGIN:STANDARD
TZOFFSETFROM:+0000
TZOFFSETTO:+0000
TZNAME:UTC
DTSTART:20230101T000000
END:STANDARD
END:VTIMEZONE
BEGIN:VEVENT
DTSTART;TZID=UTC:20240923T151500
DTEND;TZID=UTC:20240923T180000
DTSTAMP:20260420T195808
CREATED:20240907T173435Z
LAST-MODIFIED:20240923T122521Z
UID:10001308-1727104500-1727114400@cspaceprojects.com
SUMMARY:Intermediate Bridge Club
DESCRIPTION:This friendly CALL bridge group has players at intermediate and advanced skill levels.\nSome meet in person at cSPACE Marda Loop\, while some prefer to meet online using BBO and Zoom.\nCALL Members please register on the website. \nNot a CALL Member? Now is a great time to join. Your annual fee provides access to many Interest Groups and monthly Speaker Events.
URL:https://cspaceprojects.com/event/intermediate-bridge-club-3/
LOCATION:cSPACE Marda Loop\, 1721 29 Avenue Southwest\, Calgary\, AB\, T2T 6T7\, Canada
CATEGORIES:Suite #310
ATTACH;FMTTYPE=image/jpeg:https://cspaceprojects.com/wp-content/uploads/2024/09/bridge-qpyU5V.tmp_.jpg
ORGANIZER;CN="Calgary Association of Lifelong Learners":MAILTO:communications@calgarylifelonglearners.ca
END:VEVENT
END:VCALENDAR