BEGIN:VCALENDAR
VERSION:2.0
PRODID:-//cSPACE Projects - ECPv6.15.20//NONSGML v1.0//EN
CALSCALE:GREGORIAN
METHOD:PUBLISH
X-WR-CALNAME:cSPACE Projects
X-ORIGINAL-URL:https://cspaceprojects.com
X-WR-CALDESC:Events for cSPACE Projects
REFRESH-INTERVAL;VALUE=DURATION:PT1H
X-Robots-Tag:noindex
X-PUBLISHED-TTL:PT1H
BEGIN:VTIMEZONE
TZID:UTC
BEGIN:STANDARD
TZOFFSETFROM:+0000
TZOFFSETTO:+0000
TZNAME:UTC
DTSTART:20240101T000000
END:STANDARD
END:VTIMEZONE
BEGIN:VTIMEZONE
TZID:America/Edmonton
BEGIN:DAYLIGHT
TZOFFSETFROM:-0700
TZOFFSETTO:-0600
TZNAME:MDT
DTSTART:20240310T090000
END:DAYLIGHT
BEGIN:STANDARD
TZOFFSETFROM:-0600
TZOFFSETTO:-0700
TZNAME:MST
DTSTART:20241103T080000
END:STANDARD
BEGIN:DAYLIGHT
TZOFFSETFROM:-0700
TZOFFSETTO:-0600
TZNAME:MDT
DTSTART:20250309T090000
END:DAYLIGHT
BEGIN:STANDARD
TZOFFSETFROM:-0600
TZOFFSETTO:-0700
TZNAME:MST
DTSTART:20251102T080000
END:STANDARD
BEGIN:DAYLIGHT
TZOFFSETFROM:-0700
TZOFFSETTO:-0600
TZNAME:MDT
DTSTART:20260308T090000
END:DAYLIGHT
BEGIN:STANDARD
TZOFFSETFROM:-0600
TZOFFSETTO:-0700
TZNAME:MST
DTSTART:20261101T080000
END:STANDARD
END:VTIMEZONE
BEGIN:VEVENT
DTSTART;TZID=UTC:20250912T080000
DTEND;TZID=UTC:20250912T160000
DTSTAMP:20260421T063210
CREATED:20250811T201620Z
LAST-MODIFIED:20250912T233211Z
UID:10001773-1757664000-1757692800@cspaceprojects.com
SUMMARY:2025 ACGC Annual Conference: The Future We Want
DESCRIPTION:As the international cooperation sector faces new challenges everyday\, our values are put at risk. How do we ensure that we are able to continue our peace-building and sustainable development work with integrity? Where do decolonization\, feminism\, and equity stand? What are our priorities moving forward? ACGC invites you to explore these questions at the 2025 Annual Conference\, titled: The Future We Want: Alberta’s Role in International Cooperation in a Rapidly Changing World. This is a space for Alberta’s international cooperation sector to gather together\, engage in meaningful dialogue regarding Alberta’s future\, and hear from experts in the field. \nThis is a hybrid conference taking place in Calgary\, Alberta on September 12th\, 2025. Attendees will be able to join virtually on Zoom or in person. Attendance is free\, and in-person attendees can enjoy breakfast and lunch at the venue. \nACGC’s 2025 Annual General Meeting will be held at lunch time during the Conference\, and we encourage all members to attend and anyone new or interested to come learn about ACGC!
URL:https://cspaceprojects.com/event/2025-acgc-annual-conference-the-future-we-want/
LOCATION:cSPACE Marda Loop-  Studio Theatre\, 1721 29th Ave. SW\, Calgary\, AB\, T2T 6T7\, Canada
CATEGORIES:Gallery Level 1,Studio Theatre
ATTACH;FMTTYPE=image/jpeg:https://cspaceprojects.com/wp-content/uploads/2025/08/https___cdn.evbuc_.com_images_1090918513_4073979620_1_original-gxlfZI.jpg
ORGANIZER;CN="Alberta Council for Global Cooperation":MAILTO:hope.salim@acgc.ca
END:VEVENT
BEGIN:VEVENT
DTSTART;TZID=UTC:20250926T193000
DTEND;TZID=UTC:20250926T210000
DTSTAMP:20260421T063210
CREATED:20250904T233212Z
LAST-MODIFIED:20250926T224707Z
UID:10001793-1758915000-1758920400@cspaceprojects.com
SUMMARY:The Art of Dad: big LITTLE moments
DESCRIPTION:The Art of Dad: big LITTLE moments\nPlease join Jason Thompson for The Art of Dad: big LITTLE moments\, a night of stories and artwork that celebrates the joys and pains of parenting\, while making detours into Godzilla’s eyesight\, the power of Nutella and the art of folding thong underwear. \nFriday\, September 26 \ncSPACE Marda Loop\, Studio Theatre \nDoors @7pm | Show at 7:30pm \nBUY TICKETS\nIt’s the hug you get making dinner when you least expect it. It’s setting your alarm clock at a ridiculous morning hour to sign-up for swim lessons. It’s the joy you feel from watching them learn to tie their shoes\, ride a bike\, and clean the dishes without you asking them to. \nArtist and storyteller Jason Thompson performs his one-man show\, The Art of Dad: big LITTLE moments that celebrates the joys and pains of parenting. Pairing his stories with sketches\, Thompson explores the art of raising a family while making detours into the challenges of folding thong underwear\, Godzilla’s eyesight and the power of Nutella.
URL:https://cspaceprojects.com/event/the-art-of-dad-big-little-moments/
LOCATION:cSPACE Marda Loop-  Studio Theatre\, 1721 29th Ave. SW\, Calgary\, AB\, T2T 6T7\, Canada
CATEGORIES:Studio Theatre
ATTACH;FMTTYPE=image/jpeg:https://cspaceprojects.com/wp-content/uploads/2025/09/showpasssquare-calgary-gkMFVC.jpg
END:VEVENT
BEGIN:VEVENT
DTSTART;TZID=America/Edmonton:20250929T190000
DTEND;TZID=America/Edmonton:20250930T193000
DTSTAMP:20260421T063210
CREATED:20250913T191713Z
LAST-MODIFIED:20250913T191723Z
UID:10001801-1759172400-1759260600@cspaceprojects.com
SUMMARY:Festival of Animated Objects: Cave of Dreams
DESCRIPTION:Festival of Animated Objects: Cave of Dreams\nSeptember 29\, 7:00-7:30pm\nWhat remains when the body is still? When we slip toward our final dream\, beneath the ground\, the layers of prehistoric limestone — among the bones of creatures who once swam the warm water oceans that lay upon the land? \nLet go the comforts of home and follow the tones of the hang drum down into the deep — the realm beneath the surface\, deep in the belly of a forgotten place and time. Enter the darkness . . . see the light. \nThe Cave of Dreams is calling all travellers to where time and space foregather. Will you be one such seeker? Will you? \nThe Festival of Animated Objects\, Canadian Academy of Mask and Puppetry\, and Canmore Cave Tours presents a new\, immersive opera experience\, featuring original choral music by Cassandra J. Dueck. \n  \nTICKETS: https://www.showpass.com/cave-of-dreams/\n  \nCave of Dreams is the invention of a group of artists bound by the night sky and a love affair between the moon and a limestone burrow. After working together on the Iniskim project\, a vision emerged of an experience deep beneath the earth\, with sound and light\, voice and symbol. With guidance from choral master Jean-Louis Bleau\, Cassandra J. Dueck has devised several original compositions to complete the score. Puppetry design and direction is being led by David Lane and Randi Edmundson; Kit Benz rounds out the puppetry performance team. The Ensemble choir is Jessica Sick\, Maddie Aldridge\, James Mills\, and Chris Dueck\, with choral direction by Cassandra J. Dueck. Bruce Barton has been our brave dramaturg; produced by Peter Balkwill and Jean-Louis Bleau. Cave of Dreams would not be possible without the incredible support and shared vision of our producing partner\, Canmore Cave Tours.
URL:https://cspaceprojects.com/event/festival-of-animated-objects-cave-of-dreams/
LOCATION:cSPACE Marda Loop\, 1721 29 Avenue Southwest\, Calgary\, AB\, T2T 6T7\, Canada
CATEGORIES:Studio Theatre
END:VEVENT
END:VCALENDAR