BEGIN:VCALENDAR
VERSION:2.0
PRODID:-//cSPACE Projects - ECPv6.15.20//NONSGML v1.0//EN
CALSCALE:GREGORIAN
METHOD:PUBLISH
X-WR-CALNAME:cSPACE Projects
X-ORIGINAL-URL:https://cspaceprojects.com
X-WR-CALDESC:Events for cSPACE Projects
REFRESH-INTERVAL;VALUE=DURATION:PT1H
X-Robots-Tag:noindex
X-PUBLISHED-TTL:PT1H
BEGIN:VTIMEZONE
TZID:America/Edmonton
BEGIN:DAYLIGHT
TZOFFSETFROM:-0700
TZOFFSETTO:-0600
TZNAME:MDT
DTSTART:20230312T090000
END:DAYLIGHT
BEGIN:STANDARD
TZOFFSETFROM:-0600
TZOFFSETTO:-0700
TZNAME:MST
DTSTART:20231105T080000
END:STANDARD
BEGIN:DAYLIGHT
TZOFFSETFROM:-0700
TZOFFSETTO:-0600
TZNAME:MDT
DTSTART:20240310T090000
END:DAYLIGHT
BEGIN:STANDARD
TZOFFSETFROM:-0600
TZOFFSETTO:-0700
TZNAME:MST
DTSTART:20241103T080000
END:STANDARD
BEGIN:DAYLIGHT
TZOFFSETFROM:-0700
TZOFFSETTO:-0600
TZNAME:MDT
DTSTART:20250309T090000
END:DAYLIGHT
BEGIN:STANDARD
TZOFFSETFROM:-0600
TZOFFSETTO:-0700
TZNAME:MST
DTSTART:20251102T080000
END:STANDARD
END:VTIMEZONE
BEGIN:VTIMEZONE
TZID:UTC
BEGIN:STANDARD
TZOFFSETFROM:+0000
TZOFFSETTO:+0000
TZNAME:UTC
DTSTART:20230101T000000
END:STANDARD
END:VTIMEZONE
BEGIN:VEVENT
DTSTART;TZID=America/Edmonton:20240203T200000
DTEND;TZID=America/Edmonton:20240203T220000
DTSTAMP:20260423T222745
CREATED:20240105T171608Z
LAST-MODIFIED:20240204T234455Z
UID:10000770-1706990400-1706997600@cspaceprojects.com
SUMMARY:Arabian Nights (ليالي عربية) – 2/3/24
DESCRIPTION:Unleash the Magic of Arabia! Join our vibrant alcohol-free Arabic Music Fiesta and experience captivating rhythms\, and pure musical bliss.\n\n\nNote: This event is strictly alcohol-free\, ensuring a safe and enjoyable environment for all. This event is a photographed/videographed event so by attending this\, you are aware that you may appear in photos or videos. \nGet ready to dance the night away! Join us for an unforgettable night celebrating the rich tapestry of Arabian culture through captivating melodies and pulsating rhythms. Immerse yourself in the enchanting world of Arabic music and let the music carry you. This is an experience you won’t want to miss! Discover the warmth of Arabian hospitality and the joy of shared moments. \nWhat to Expect: \n\nNon-stop dancefloor (standing only) bliss with top-notch Arabic beats\nA vibrant and inclusive atmosphere for everyone\nLive DJ performance by Sabrology that will keep you moving all night long\nDress Code in Effect: Dress To Impress\n\nExperience the allure of Arabia’s finest musical treasures as Sabrology transports you on a melodic journey like no other. From traditional classics to contemporary bops\, there’s a tune for every soul to dance to. Be part of this magical celebration of music and culture and let’s make this night truly special together! \nFor any questions\, please contact: sabrology101@gmail.com \nWatch Out for Ticket Scammers! \n\nOnly purchase tickets online from this Eventrbrite link below\nDo not purchase from someone you do not know\nPurchasing tickets from someone else is at your own risk i.e. Sabrology will not be held liable for any financial or non-financial impacts stemming directly from your actions\n\nStay connected & follow @djsabrology on Instagram. \nTickets & more info: https://www.eventbrite.com/e/arabian-nights-2324-tickets-738575066907?aff=oddtdtcreator
URL:https://cspaceprojects.com/event/arabian-nights-%d9%84%d9%8a%d8%a7%d9%84%d9%8a-%d8%b9%d8%b1%d8%a8%d9%8a%d8%a9-2-3-24/
LOCATION:cSPACE Marda Loop (formerly cSPACE King Edward)\, 1721 29 Avenue Southwest\, #4th Flr\, Calgary\, AB\, T2T 6T7\, Canada
CATEGORIES:Studio Theatre
ATTACH;FMTTYPE=image/jpeg:https://cspaceprojects.com/wp-content/uploads/2024/01/ce24805370b2d7f4acb8f00d2b3e4855-1-nBDljx.tmp_.jpg
END:VEVENT
BEGIN:VEVENT
DTSTART;TZID=UTC:20240203T200000
DTEND;TZID=UTC:20240203T220000
DTSTAMP:20260423T222745
CREATED:20240116T004341Z
LAST-MODIFIED:20240203T234348Z
UID:10000785-1706990400-1706997600@cspaceprojects.com
SUMMARY:Arabian Nights (ليالي عربية)
DESCRIPTION:An alcohol-free Arabian music party featuring DJ Sabrology\, an Egyptian DJ local to Calgary\, who’s passion for uniting people in the name of music and community\, has led him to create this series of music parties to advocate for partying without the consumption of alcohol and creating a safe\, inclusive\, and enjoyable space for everyone\, regardless of age\, to dance to the beat of the music and socialize in a public space with friends\, family\, and more. Specifically\, with an objective to cultivate & grow the Arab music scene within Calgary\, Sabrology founded this specific series\, called Arabian Nights\, or ليالي عربية in Arabic\, to celebrate the rich Arabian culture. With its captivating melodies and pulsating rhythms\, you are guaranteed an unforgettable night in the enchanting world of Arabian music and it will be an experience you won’t want to miss out on. \nWhat to Expect:\n– Non-stop dancefloor (standing only) energy with top-notch Arabic music\, from traditional classics to contemporary bops\n– A vibrant and inclusive atmosphere for everyone\n– Live DJ performance by Sabrology\, that will keep you moving all night long\n– Dress Code in Effect: Dress to Impress \nFor any questions\, please contact DJ Sabrology directly via email or by visiting & following his Instagram page @djsabrology for all the details and to see what the first edition of this party looked like.
URL:https://cspaceprojects.com/event/arabian-nights-%d9%84%d9%8a%d8%a7%d9%84%d9%8a-%d8%b9%d8%b1%d8%a8%d9%8a%d8%a9/
LOCATION:cSPACE Marda Loop-  Studio Theatre\, 1721 29th Ave. SW\, Calgary\, AB\, T2T 6T7\, Canada
CATEGORIES:Studio Theatre
ATTACH;FMTTYPE=image/jpeg:https://cspaceprojects.com/wp-content/uploads/2024/01/arabian-nights-2.0-square-uiqwjv.tmp_.jpg
ORGANIZER;CN="DJ Sabrology":MAILTO:sabrology101@gmail.com
END:VEVENT
BEGIN:VEVENT
DTSTART;TZID=UTC:20240210T143000
DTEND;TZID=UTC:20240210T210000
DTSTAMP:20260423T222745
CREATED:20240117T184341Z
LAST-MODIFIED:20240318T165433Z
UID:10000797-1707575400-1707598800@cspaceprojects.com
SUMMARY:Trash2Treasure – A Sustainability Showcase
DESCRIPTION:The Aquativity Project (TAP) is proud to present Trash2Treasure\, a one-of-a-kind sustainability showcase.\nTAP is a student-run Oceanwise initiative dedicated to raising awareness about reducing overconsumption and alleviating eco-anxiety. Trash2Treasure will feature a myriad of talents – from fashion to film to literature – each contributing to the dialogue on sustainable living. \nTrash2Treasure is scheduled to take place in the Studio Theatre at cSPACE Marda Loop\, Calgary on February 10th\, 2024\, with the option of both afternoon and evening shows. Doors will open at 2:30 pm and 6:30pm\, for the first and second shows\, respectively. This showcase is expected to draw the attention of local and international fashion and environmental enthusiasts. \nThe runway will spotlight hand-crafted South Asian pieces made from recycled fabrics\, presenting a diverse array of models\, designs and ideas. Trash2Treasure aims to showcase the dynamic nature of the fashion industry celebrating creativity and sustainability through a South Asian lens. \nIn addition to the runaway presentations\, Trash2Treasure will offer hands-on activities\, refreshments and networking opportunities\, creating an immersive experience for all attendees. This event seeks to spark conversations among industry professionals about over-consumption and sustainable solutions\, allowing participants to witness firsthand the trends that will shape the future of fashion.
URL:https://cspaceprojects.com/event/trash2treasure-a-sustainability-showcase/
LOCATION:cSPACE Marda Loop\, 1721 29 Avenue Southwest\, Calgary\, AB\, T2T 6T7\, Canada
CATEGORIES:Studio Theatre
ATTACH;FMTTYPE=image/jpeg:https://cspaceprojects.com/wp-content/uploads/2024/01/the-aquativity-project-presents-1-LCreG2.tmp_.jpg
ORGANIZER;CN="The Aquativity Project":MAILTO:theaquativityproject.com
END:VEVENT
BEGIN:VEVENT
DTSTART;TZID=UTC:20240211T150000
DTEND;TZID=UTC:20240211T170000
DTSTAMP:20260423T222745
CREATED:20240205T172823Z
LAST-MODIFIED:20240211T234319Z
UID:10000826-1707663600-1707670800@cspaceprojects.com
SUMMARY:Instrumental Society of Calgary presents: Harmonies of the Heart
DESCRIPTION:This concert is a rich exploration of the capacity of music to convey profound emotion – the audience is taken on a journey through different states\, from introspection and me­lancholy to passion and exultation. The programmatic themes of this concert expl­ore the range of hum­an emotions and the power of music to co­nnect us to our inner selves. Harmonies of the Heart is an unforgettable exper­ience that will leave audiences moved\, inspired\, and uplifte­d – a beautiful concert to share with your Valentine! \nTICKETS/MORE INFO HERE. 
URL:https://cspaceprojects.com/event/instrumental-society-of-calgary-presents-harmonies-of-the-heart/
LOCATION:cSPACE Marda Loop-  Studio Theatre\, 1721 29th Ave. SW\, Calgary\, AB\, T2T 6T7\, Canada
CATEGORIES:Studio Theatre
ATTACH;FMTTYPE=image/png:https://cspaceprojects.com/wp-content/uploads/2024/02/harmonies-of-the-heart-ztY6Gg.tmp_.png
END:VEVENT
BEGIN:VEVENT
DTSTART;TZID=UTC:20240213T190000
DTEND;TZID=UTC:20240213T203000
DTSTAMP:20260423T222746
CREATED:20240116T004342Z
LAST-MODIFIED:20240213T231351Z
UID:10000786-1707850800-1707856200@cspaceprojects.com
SUMMARY:Literature and Freedom
DESCRIPTION:The Calgary Institute for the Humanities presents the 6th Annual Naomi Lacey Memorial Lecture\nIn the century between 1750 and 1850\, the idea of freedom became a central concept for the ways in which European writers understood themselves and their literary works. Yet different writers had very different types of freedom in mind. While some focused on the freedom from patronage\, others talked about the freedom from the pressures of the literary market—and still others about the freedom from the rules governing individual genres\, or even a more abstract sense of freedom that readers could experience when reading literature. Drawing on texts by Rousseau\, Goethe\, Schiller\, and others\, this talk assesses how these various types of freedom coalesced into a concept of literature whose legacy is still felt today. \nMartin Wagner (Ph.D.\, Yale University\, 2014) is Professor of German at the University of Calgary. His research focuses on German literary and intellectual history of the eighteenth and nineteenth centuries. His latest book\, A Stage for Debate (University of Toronto Press\, 2023)\, assesses the contribution of the most important German-language stage of the nineteenth century\, Vienna’s Burgtheater\, to the social and political debates in Austria. He currently works on a SSHRC-funded project on the history of obedience in Germany.
URL:https://cspaceprojects.com/event/literature-and-freedom/
LOCATION:cSPACE Marda Loop-  Studio Theatre\, 1721 29th Ave. SW\, Calgary\, AB\, T2T 6T7\, Canada
CATEGORIES:Studio Theatre
ATTACH;FMTTYPE=image/jpeg:https://cspaceprojects.com/wp-content/uploads/2024/01/sorrows-of-werther-600x500-1-HZIFuY.tmp_.jpg
ORGANIZER;CN="Calgary Institute for the Humanities":MAILTO:cih@ucalgary.ca
END:VEVENT
END:VCALENDAR