BEGIN:VCALENDAR
VERSION:2.0
PRODID:-//cSPACE Projects - ECPv6.15.20//NONSGML v1.0//EN
CALSCALE:GREGORIAN
METHOD:PUBLISH
X-WR-CALNAME:cSPACE Projects
X-ORIGINAL-URL:https://cspaceprojects.com
X-WR-CALDESC:Events for cSPACE Projects
REFRESH-INTERVAL;VALUE=DURATION:PT1H
X-Robots-Tag:noindex
X-PUBLISHED-TTL:PT1H
BEGIN:VTIMEZONE
TZID:UTC
BEGIN:STANDARD
TZOFFSETFROM:+0000
TZOFFSETTO:+0000
TZNAME:UTC
DTSTART:20220101T000000
END:STANDARD
END:VTIMEZONE
BEGIN:VEVENT
DTSTART;TZID=UTC:20230610T150000
DTEND;TZID=UTC:20230610T170000
DTSTAMP:20260420T052746
CREATED:20230529T203042Z
LAST-MODIFIED:20230610T230042Z
UID:10000166-1686409200-1686416400@cspaceprojects.com
SUMMARY:FUNNYFEST Taste of the Fest: Kevin Farley
DESCRIPTION:Meet KEVIN FARLEY and Comics and Laugh\nMeet KEVIN FARLEY and other comics and learn what it takes to be a pro comedian. \nGain insights into the comedy industry with comic Kevin Farley at our exclusive Q&A session. Join us as Kevin and other comics shares their experiences\, anecdotes\, and valuable advice in this enlightening and entertaining event. \nTickets and more info in the event link below.
URL:https://cspaceprojects.com/event/taste-of-the-fest-meet-kevin-farley-and-comics-and-laugh/
LOCATION:cSPACE Eau Claire Neighbourhood Hub\, 381 2 Avenue Southwest\, Calgary\, AB\, T2P 0C5\, Canada
CATEGORIES:cSPACE Eau Claire Neighbourhood Hub,Event
ATTACH;FMTTYPE=image/jpeg:https://cspaceprojects.com/wp-content/uploads/2023/06/taste-of-the-fest-june10-cspace-eau-claire-instagram-y3xsD6.tmp_.jpg
END:VEVENT
END:VCALENDAR