BEGIN:VCALENDAR
VERSION:2.0
PRODID:-//cSPACE Projects - ECPv6.15.20//NONSGML v1.0//EN
CALSCALE:GREGORIAN
METHOD:PUBLISH
X-ORIGINAL-URL:https://cspaceprojects.com
X-WR-CALDESC:Events for cSPACE Projects
REFRESH-INTERVAL;VALUE=DURATION:PT1H
X-Robots-Tag:noindex
X-PUBLISHED-TTL:PT1H
BEGIN:VTIMEZONE
TZID:UTC
BEGIN:STANDARD
TZOFFSETFROM:+0000
TZOFFSETTO:+0000
TZNAME:UTC
DTSTART:20240101T000000
END:STANDARD
END:VTIMEZONE
BEGIN:VTIMEZONE
TZID:America/Edmonton
BEGIN:DAYLIGHT
TZOFFSETFROM:-0700
TZOFFSETTO:-0600
TZNAME:MDT
DTSTART:20240310T090000
END:DAYLIGHT
BEGIN:STANDARD
TZOFFSETFROM:-0600
TZOFFSETTO:-0700
TZNAME:MST
DTSTART:20241103T080000
END:STANDARD
BEGIN:DAYLIGHT
TZOFFSETFROM:-0700
TZOFFSETTO:-0600
TZNAME:MDT
DTSTART:20250309T090000
END:DAYLIGHT
BEGIN:STANDARD
TZOFFSETFROM:-0600
TZOFFSETTO:-0700
TZNAME:MST
DTSTART:20251102T080000
END:STANDARD
BEGIN:DAYLIGHT
TZOFFSETFROM:-0700
TZOFFSETTO:-0600
TZNAME:MDT
DTSTART:20260308T090000
END:DAYLIGHT
BEGIN:STANDARD
TZOFFSETFROM:-0600
TZOFFSETTO:-0700
TZNAME:MST
DTSTART:20261101T080000
END:STANDARD
END:VTIMEZONE
BEGIN:VEVENT
DTSTART;VALUE=DATE:20251103
DTEND;VALUE=DATE:20251130
DTSTAMP:20260423T100610
CREATED:20251017T180212Z
LAST-MODIFIED:20251103T214812Z
UID:10001901-1762128000-1764460799@cspaceprojects.com
SUMMARY:EXHIBITION: New Work\, Old Work\, Work by Rita Sirignano and Peter Moller
DESCRIPTION:New Work\, Old Work\, Work by Rita Sirignano and Peter Moller \ncSPACE Marda Loop\nLevel 1 \nNovember 3 – November 29\, 2025\n8:00 AM – 8:00 PM (Closed Sundays) \nOpening Reception: November 5 \nNew Work\, Old Work\, Work presents the work of Rita Sirignano and Peter Moller. \nRita Sirignano and Peter Moller are friends and colleagues. \nOne particular day\, Peter told Rita he was inspired to try some abstract colour painting after having seen some of her works. \nAfter Rita saw his experiments\, they decided that it would be fun to have a co-exhibition presenting recent works\, older pieces\, collaborations and site specific creations at cSpace’s Level 1 Hallway Gallery. An exhibition was born. \nMore from the Artists: \nPeter Moller – www.eggpress.ca \nRita Sirignano – @ritavsirignano
URL:https://cspaceprojects.com/event/exhibition-new-work-old-work-work-by-rita-sirignano-and-peter-moller/
LOCATION:cSPACE Marda Loop\, 1721 29 Avenue Southwest\, Calgary\, AB\, T2T 6T7\, Canada
CATEGORIES:Gallery Level 1
ATTACH;FMTTYPE=image/jpeg:https://cspaceprojects.com/wp-content/uploads/2025/10/rp_800x600-za0zs8.jpg
END:VEVENT
BEGIN:VEVENT
DTSTART;VALUE=DATE:20251126
DTEND;VALUE=DATE:20251130
DTSTAMP:20260423T100610
CREATED:20251012T001726Z
LAST-MODIFIED:20251012T001726Z
UID:10001845-1764115200-1764460799@cspaceprojects.com
SUMMARY:The Last Five Years: A Musical by Jason Robert Brown
DESCRIPTION:The Last 5 Years: A Musical by Jason Robert Brown\ncSPACE Marda Loop\nStudio Theatre\nNovember 6th\, 7th & 9th\, 2025\n7:30 PM – 9:30 PM \n\nNightingale Arts Collective presents The Last Five Years\, by Jason Robert Brown. Starring Lauren Woods and Adam Fisher. \nThis Drama Desk award-winning musical features a live band playing a brilliant score\, under the musical direction of the talented Ian Robertson. \nDirected by Adam Isbell. \nSHOWTIMES:\nBar opens at 6:30 PM\, theatre doors open at 7:00.\n \n\nNovember 6th: at 7:30 pm\nNovember 7th: 7:30\nNovember 9th: 2:00 pm and 7:30 pm.\n\n  \nTICKETS:\nwww.zeffy.com/en-CA/ticketing/the-last-five-years-4
URL:https://cspaceprojects.com/event/the-last-five-years-a-musical-by-jason-robert-brown-20/
LOCATION:cSPACE Marda Loop\, 1721 29 Avenue Southwest\, Calgary\, AB\, T2T 6T7\, Canada
CATEGORIES:Studio Theatre
ATTACH;FMTTYPE=image/jpeg:https://cspaceprojects.com/wp-content/uploads/2025/10/events-calendar-the-last-5-years-vQ437j.jpg
END:VEVENT
BEGIN:VEVENT
DTSTART;VALUE=DATE:20251127
DTEND;VALUE=DATE:20251201
DTSTAMP:20260423T100610
CREATED:20251012T001727Z
LAST-MODIFIED:20251012T001727Z
UID:10001846-1764201600-1764547199@cspaceprojects.com
SUMMARY:The Last Five Years: A Musical by Jason Robert Brown
DESCRIPTION:The Last 5 Years: A Musical by Jason Robert Brown\ncSPACE Marda Loop\nStudio Theatre\nNovember 6th\, 7th & 9th\, 2025\n7:30 PM – 9:30 PM \n\nNightingale Arts Collective presents The Last Five Years\, by Jason Robert Brown. Starring Lauren Woods and Adam Fisher. \nThis Drama Desk award-winning musical features a live band playing a brilliant score\, under the musical direction of the talented Ian Robertson. \nDirected by Adam Isbell. \nSHOWTIMES:\nBar opens at 6:30 PM\, theatre doors open at 7:00.\n \n\nNovember 6th: at 7:30 pm\nNovember 7th: 7:30\nNovember 9th: 2:00 pm and 7:30 pm.\n\n  \nTICKETS:\nwww.zeffy.com/en-CA/ticketing/the-last-five-years-4
URL:https://cspaceprojects.com/event/the-last-five-years-a-musical-by-jason-robert-brown-21/
LOCATION:cSPACE Marda Loop\, 1721 29 Avenue Southwest\, Calgary\, AB\, T2T 6T7\, Canada
CATEGORIES:Studio Theatre
ATTACH;FMTTYPE=image/jpeg:https://cspaceprojects.com/wp-content/uploads/2025/10/events-calendar-the-last-5-years-vQ437j.jpg
END:VEVENT
BEGIN:VEVENT
DTSTART;VALUE=DATE:20251128
DTEND;VALUE=DATE:20251202
DTSTAMP:20260423T100610
CREATED:20251012T001727Z
LAST-MODIFIED:20251012T001727Z
UID:10001847-1764288000-1764633599@cspaceprojects.com
SUMMARY:The Last Five Years: A Musical by Jason Robert Brown
DESCRIPTION:The Last 5 Years: A Musical by Jason Robert Brown\ncSPACE Marda Loop\nStudio Theatre\nNovember 6th\, 7th & 9th\, 2025\n7:30 PM – 9:30 PM \n\nNightingale Arts Collective presents The Last Five Years\, by Jason Robert Brown. Starring Lauren Woods and Adam Fisher. \nThis Drama Desk award-winning musical features a live band playing a brilliant score\, under the musical direction of the talented Ian Robertson. \nDirected by Adam Isbell. \nSHOWTIMES:\nBar opens at 6:30 PM\, theatre doors open at 7:00.\n \n\nNovember 6th: at 7:30 pm\nNovember 7th: 7:30\nNovember 9th: 2:00 pm and 7:30 pm.\n\n  \nTICKETS:\nwww.zeffy.com/en-CA/ticketing/the-last-five-years-4
URL:https://cspaceprojects.com/event/the-last-five-years-a-musical-by-jason-robert-brown-22/
LOCATION:cSPACE Marda Loop\, 1721 29 Avenue Southwest\, Calgary\, AB\, T2T 6T7\, Canada
CATEGORIES:Studio Theatre
ATTACH;FMTTYPE=image/jpeg:https://cspaceprojects.com/wp-content/uploads/2025/10/events-calendar-the-last-5-years-vQ437j.jpg
END:VEVENT
BEGIN:VEVENT
DTSTART;VALUE=DATE:20251129
DTEND;VALUE=DATE:20251203
DTSTAMP:20260423T100610
CREATED:20251012T001727Z
LAST-MODIFIED:20251012T001727Z
UID:10001848-1764374400-1764719999@cspaceprojects.com
SUMMARY:The Last Five Years: A Musical by Jason Robert Brown
DESCRIPTION:The Last 5 Years: A Musical by Jason Robert Brown\ncSPACE Marda Loop\nStudio Theatre\nNovember 6th\, 7th & 9th\, 2025\n7:30 PM – 9:30 PM \n\nNightingale Arts Collective presents The Last Five Years\, by Jason Robert Brown. Starring Lauren Woods and Adam Fisher. \nThis Drama Desk award-winning musical features a live band playing a brilliant score\, under the musical direction of the talented Ian Robertson. \nDirected by Adam Isbell. \nSHOWTIMES:\nBar opens at 6:30 PM\, theatre doors open at 7:00.\n \n\nNovember 6th: at 7:30 pm\nNovember 7th: 7:30\nNovember 9th: 2:00 pm and 7:30 pm.\n\n  \nTICKETS:\nwww.zeffy.com/en-CA/ticketing/the-last-five-years-4
URL:https://cspaceprojects.com/event/the-last-five-years-a-musical-by-jason-robert-brown-23/
LOCATION:cSPACE Marda Loop\, 1721 29 Avenue Southwest\, Calgary\, AB\, T2T 6T7\, Canada
CATEGORIES:Studio Theatre
ATTACH;FMTTYPE=image/jpeg:https://cspaceprojects.com/wp-content/uploads/2025/10/events-calendar-the-last-5-years-vQ437j.jpg
END:VEVENT
BEGIN:VEVENT
DTSTART;TZID=America/Edmonton:20251129T140000
DTEND;TZID=America/Edmonton:20251129T170000
DTSTAMP:20260423T100610
CREATED:20251103T204826Z
LAST-MODIFIED:20251129T233831Z
UID:10001916-1764424800-1764435600@cspaceprojects.com
SUMMARY:Alberta Craft Council Presents: Bling It! Holiday FunRaiser
DESCRIPTION:Alberta Craft Council Presents: Bling It! Holiday FunRaiser\nGet ready to dazzle and shine! We invited you to embrace the glam and sparkle of the season\, so don your most fabulous bling!\n\n\n\nBling it! Making Spirits Bright and Outfits Brighter!  \nREGISTER HERE \nEveryone is invited to our reimagined holiday FunRaiser \n\nRaffles for Beautiful Craft Pieces\nDoor Prizes\nCookies Galore\nMusic by Erin Ross\nMake a Blingy Holiday Ornament\nMocktail/Cocktail Cash Bar\n\nGet ready to dazzle and shine! We invited you to embrace the glam and sparkle of the season\, so don your most fabulous bling! Let your style radiate with brilliance as we celebrate in a spectacle of shimmering vibes and vibrant energy of Alberta Craft. It’s time to stand out and sparkle like never before! \nwww.albertacraft.ab.ca \nTickets for this fundraising event are non-refundable.
URL:https://cspaceprojects.com/event/alberta-craft-council-presents-bling-it-holiday-funraiser/
LOCATION:cSPACE Marda Loop\, 1721 29 Avenue Southwest\, Calgary\, AB\, T2T 6T7\, Canada
CATEGORIES:Alberta Craft Gallery Level 2
ATTACH;FMTTYPE=image/jpeg:https://cspaceprojects.com/wp-content/uploads/2025/11/https___cdn.evbuc_.com_images_1166861583_227747103692_1_original-ToXYkp.jpg
ORGANIZER;CN="cSPACE Marda Loop":MAILTO:info@cspaceprojects.com
END:VEVENT
END:VCALENDAR