BEGIN:VCALENDAR
VERSION:2.0
PRODID:-//cSPACE Projects - ECPv6.15.20//NONSGML v1.0//EN
CALSCALE:GREGORIAN
METHOD:PUBLISH
X-ORIGINAL-URL:https://cspaceprojects.com
X-WR-CALDESC:Events for cSPACE Projects
REFRESH-INTERVAL;VALUE=DURATION:PT1H
X-Robots-Tag:noindex
X-PUBLISHED-TTL:PT1H
BEGIN:VTIMEZONE
TZID:UTC
BEGIN:STANDARD
TZOFFSETFROM:+0000
TZOFFSETTO:+0000
TZNAME:UTC
DTSTART:20240101T000000
END:STANDARD
END:VTIMEZONE
BEGIN:VTIMEZONE
TZID:America/Edmonton
BEGIN:DAYLIGHT
TZOFFSETFROM:-0700
TZOFFSETTO:-0600
TZNAME:MDT
DTSTART:20240310T090000
END:DAYLIGHT
BEGIN:STANDARD
TZOFFSETFROM:-0600
TZOFFSETTO:-0700
TZNAME:MST
DTSTART:20241103T080000
END:STANDARD
BEGIN:DAYLIGHT
TZOFFSETFROM:-0700
TZOFFSETTO:-0600
TZNAME:MDT
DTSTART:20250309T090000
END:DAYLIGHT
BEGIN:STANDARD
TZOFFSETFROM:-0600
TZOFFSETTO:-0700
TZNAME:MST
DTSTART:20251102T080000
END:STANDARD
BEGIN:DAYLIGHT
TZOFFSETFROM:-0700
TZOFFSETTO:-0600
TZNAME:MDT
DTSTART:20260308T090000
END:DAYLIGHT
BEGIN:STANDARD
TZOFFSETFROM:-0600
TZOFFSETTO:-0700
TZNAME:MST
DTSTART:20261101T080000
END:STANDARD
END:VTIMEZONE
BEGIN:VEVENT
DTSTART;VALUE=DATE:20250909
DTEND;VALUE=DATE:20251007
DTSTAMP:20260425T222928
CREATED:20250905T004715Z
LAST-MODIFIED:20250909T234711Z
UID:10001795-1757376000-1759795199@cspaceprojects.com
SUMMARY:Exhibition: Abstrait Liquide by Patricia Lortie
DESCRIPTION:Abstrait Liquide by Patricia Lortie\ncSPACE Marda Loop\nGallery Level 3\nSeptember 9 – October 6\, 2025\n8:00 AM – 8:00 PM (Closed Sundays) \n\n\n\nThe Alliance Française is delighted to host “Abstrait Liquide” by Patricia Lortie. \nHer work — including installations\, paintings\, sculptures\, and videos — explores the body’s connection to natural ecosystems\, blending the real and the unconscious to reveal a poetic sensibility. \n“Abstrait Liquide” is a series of acrylic paintings inspired by the movement of natural water systems. Filmed above and below the surface\, subtle ripples\, reflections\, and light guide each brushstroke. The works capture fleeting moments of water\, inviting reflection on nature’s rhythms and patterns. \nThe exhibition will be on view from September 9 to October 6. We warmly invite you to the opening reception on September 19\, where you can experience the spirit of the exhibition firsthand. Register below to join us!
URL:https://cspaceprojects.com/event/exhibition-abstrait-liquide-by-patricia-lortie/
LOCATION:cSPACE Marda Loop\, 1721 29 Avenue Southwest\, Calgary\, AB\, T2T 6T7\, Canada
CATEGORIES:Gallery Level 3
ATTACH;FMTTYPE=image/jpeg:https://cspaceprojects.com/wp-content/uploads/2025/09/3.-patricia-lortie-liquid-abstract-3-2024-acrylique-sur-canvas-95h-x-94v_626xa-ngpAqJ.jpg
END:VEVENT
BEGIN:VEVENT
DTSTART;VALUE=DATE:20251005
DTEND;VALUE=DATE:20251007
DTSTAMP:20260425T222928
CREATED:20250913T191714Z
LAST-MODIFIED:20251005T233209Z
UID:10001802-1759622400-1759795199@cspaceprojects.com
SUMMARY:Roommate Theatre: Voiceless-Undone بی صدا-بی سرانجام
DESCRIPTION:Roommate Art Company presents:\n🎭 Voiceless-Undone (In Farsi) – بی صدا-بی سرانجام 🎭 \nVoiceless-Undone is a story that unveils the challenges and struggles faced by a high school girl in Iran. \nWriter and Director: Saeid Asgarian (Inspired by Verb written by Mohammad Rezaee Rad) \nProducer: Roommate Art Company \nActors: Mostafa Pouralamdari\, Golsa Kafili\, Zahra Masoumi\, Termeh Tohidi\, Safoura Naghavi\, Kimiya Ghasemi\, Bahareh Yekkehkhany and Reza Hedayati (voice) \nProduction Manager: Reza Hedayati\nStage Manager: Sati Pedram\nStage Assistant: Soheil Ghazizadeh \nDesigner: Saeid Asgarian\nPoster Designer: Ali Khosroshahi \n📍 Location: cSpace Marda Loop\, Calgary \n🕖 Time: Oct 5-6\, 2025\, in three showtimes: \n1️⃣ Oct 5 – 4:00 PM – 5:45 PM \n2️⃣ Oct 5 – 7:00 PM – 8:45 PM \n3️⃣ Oct 6 – 6:30 PM – 8:15 PM \nQ&A sessions time (free for everyone):\n \n1️⃣ Oct 5 – 9:00 PM – 9:45 PM \n2️⃣ Oct 6 – 8:30 PM – 9:15 PM \n(please arrive at the show venue 30 minutes before your scheduled session) \nRunning time: 105 minutes \n⚠️ Watching this show is not recommended for people under 13 years old. \n🚫 Out of consideration for our audience and team\, we are unable to admit latecomers after the door has been closed. \nℹ️ The show is in Farsi Language. \n  \nTICKETS: https://www.showpass.com/voiceless/ 
URL:https://cspaceprojects.com/event/roommate-theatre-voiceless-undone-%d8%a8%db%8c-%d8%b5%d8%af%d8%a7-%d8%a8%db%8c-%d8%b3%d8%b1%d8%a7%d9%86%d8%ac%d8%a7%d9%85/
LOCATION:cSPACE Marda Loop\, 1721 29 Avenue Southwest\, Calgary\, AB\, T2T 6T7\, Canada
CATEGORIES:Studio Theatre
ATTACH;FMTTYPE=image/jpeg:https://cspaceprojects.com/wp-content/uploads/2025/09/wg4mmp-97f919de-8fd-74Nawp.jpg
END:VEVENT
BEGIN:VEVENT
DTSTART;VALUE=DATE:20251006
DTEND;VALUE=DATE:20251101
DTSTAMP:20260425T222928
CREATED:20250926T221116Z
LAST-MODIFIED:20250926T225800Z
UID:10001808-1759708800-1761955199@cspaceprojects.com
SUMMARY:Exhibition: 15th Annual Chrysalis Art Show
DESCRIPTION:15th Annual Chrysalis Art Show \ncSPACE Marda Loop\nGallery Level 4\nOctober 6 – 31\, 2025\n8:00 AM – 8:00 PM (Closed Sundays) \nYou’re invited to experience the creativity and talent of artists supported by Chrysalis at our 15th Annual Art Exhibition in Calgary. \nThroughout October\, the Level 4 Hallway Gallery at cSPACE Marda Loop will feature a vibrant collection of original artwork created by adults with disabilities. Each piece represents a personal journey and is a powerful reflection of change\, growth\, and opportunity. \nThis free\, public exhibition is open to all\, and many of the pieces are available for purchase. The majority of each sale goes directly back to the artist\, supporting their confidence\, independence\, and continued creative growth. \nWe also invite you to attend our Art Exhibition Reception on Friday\, October 25\, where you can meet the artists\, enjoy refreshments\, and experience the full heart of this exhibition. \nWhether you stop by for a quiet moment or join us for the reception\, your presence helps celebrate the unique voices and abilities of the artists we support. \nReception:\nFriday\, October 25th\, 2025\n4:00 PM – 7:30 PM\n4th Floor Treehouse Hallway\, cSPACE Marda Loop (1721 29th Avenue SW\, Calgary\, AB) \nClick HERE to RSVP \n 
URL:https://cspaceprojects.com/event/15th-annual-chrysalis-art-show-exhibition/
LOCATION:cSPACE Marda Loop\, 1721 29 Avenue Southwest\, Calgary\, AB\, T2T 6T7\, Canada
CATEGORIES:Gallery Level 4
ATTACH;FMTTYPE=image/jpeg:https://cspaceprojects.com/wp-content/uploads/2025/09/1080x1080_chrysalis_annual_art_exhibition-1.jpg
END:VEVENT
BEGIN:VEVENT
DTSTART;VALUE=DATE:20251006
DTEND;VALUE=DATE:20251101
DTSTAMP:20260425T222928
CREATED:20250926T224639Z
LAST-MODIFIED:20250926T224639Z
UID:10001809-1759708800-1761955199@cspaceprojects.com
SUMMARY:Reception: 15th Annual Chrysalis Art Show
DESCRIPTION:Reception: 15th Annual Chrysalis Art Show \ncSPACE Marda Loop\nGallery Level 4\nOctober 25th\, 2025\n4:00 PM – 7:30 PM \n\nJoin us in Calgary for a special evening of art\, connection\, and celebration at the Chrysalis 15th Annual Art Exhibition Reception. \nThis in-person event is a wonderful opportunity to explore the full exhibition\, connect with the artists\, and enjoy a welcoming\, community-centred atmosphere. You’ll be surrounded by meaningful conversations\, inspiring creativity\, and the joyful spirit of inclusion. \nLocation: 4th Floor Treehouse Hallway\, cSpace Marda Loop (1721 29th Avenue SW\, Calgary\, AB)\nDate: Friday\, October 25\, 2025\nTime: 4:00 PM – 7:30 PM \nWhat to expect: \nA stunning display of original artwork\nA chance to meet and celebrate the artists\nLight refreshments and good company\nArtwork available for purchase\, with most of the proceeds going directly to the artists\nThe reception is the heart of our annual show\, and we’d love to see you there. Whether you’re an art enthusiast\, a supporter of Chrysalis\, or simply looking for a meaningful evening out\, this is an event that promises to leave a lasting impression. \nCome celebrate change\, growth\, and opportunity through art\, through connection\, and community. \n\n\nRSVP link: https://form-can.keela.co/2025-oct-calgary-art-exhibit-rsvp\nExhibition:\nOctober 6th – 31st\, 2025\n8:00 AM – 8:00 PM (Closed Sundays)\n4th Floor Treehouse Hallway\, cSPACE Marda Loop (1721 29th Avenue SW\, Calgary\, AB \n 
URL:https://cspaceprojects.com/event/reception-15th-annual-chrysalis-art-show/
LOCATION:cSPACE Marda Loop\, 1721 29 Avenue Southwest\, Calgary\, AB\, T2T 6T7\, Canada
CATEGORIES:Gallery Level 4
ATTACH;FMTTYPE=image/jpeg:https://cspaceprojects.com/wp-content/uploads/2025/09/1080x1080_chrysalis_annual_art_exhibition-1.jpg
END:VEVENT
BEGIN:VEVENT
DTSTART;VALUE=DATE:20251006
DTEND;VALUE=DATE:20251101
DTSTAMP:20260425T222928
CREATED:20250927T000215Z
LAST-MODIFIED:20251006T223213Z
UID:10001811-1759708800-1761955199@cspaceprojects.com
SUMMARY:Exhibition: 15th Annual Chrysalis Art Show
DESCRIPTION:Exhibition: 15th Annual Chrysalis Art Show\ncSPACE Marda Loop\nGallery Level 4\nOctober 6 – 31\, 2025\n8:00 AM – 8:00 PM (Closed Sundays) \n\n\nYou’re invited to experience the creativity and talent of artists supported by Chrysalis at our 15th Annual Art Exhibition in Calgary. \nThroughout October\, the Level 4 Hallway Gallery at cSPACE Marda Loop will feature a vibrant collection of original artwork created by adults with disabilities. Each piece represents a personal journey and is a powerful reflection of change\, growth\, and opportunity. \nThis free\, public exhibition is open to all\, and many of the pieces are available for purchase. The majority of each sale goes directly back to the artist\, supporting their confidence\, independence\, and continued creative growth. \nWe also invite you to attend our Art Exhibition Reception on Friday\, October 25\, where you can meet the artists\, enjoy refreshments\, and experience the full heart of this exhibition. \nWhether you stop by for a quiet moment or join us for the reception\, your presence helps celebrate the unique voices and abilities of the artists we support. \n\n\nReception: \nFriday\, October 25th\, 2025\n4:00 PM – 7:30 PM\n4th Floor Treehouse Hallway\, cSPACE Marda Loop 1721 29th Avenue SW\, Calgary\, AB\n\nRSVP HERE (FREE)
URL:https://cspaceprojects.com/event/exhibition-15th-annual-chrysalis-art-show/
LOCATION:cSPACE Marda Loop\, 1721 29 Avenue Southwest\, Calgary\, AB\, T2T 6T7\, Canada
CATEGORIES:Gallery Level 4
ATTACH;FMTTYPE=image/jpeg:https://cspaceprojects.com/wp-content/uploads/2025/09/1080x1080_chrysalis_annual_art_exhibition-1-neJm9D.jpg
END:VEVENT
END:VCALENDAR