BEGIN:VCALENDAR
VERSION:2.0
PRODID:-//cSPACE Projects - ECPv6.15.20//NONSGML v1.0//EN
CALSCALE:GREGORIAN
METHOD:PUBLISH
X-WR-CALNAME:cSPACE Projects
X-ORIGINAL-URL:https://cspaceprojects.com
X-WR-CALDESC:Events for cSPACE Projects
REFRESH-INTERVAL;VALUE=DURATION:PT1H
X-Robots-Tag:noindex
X-PUBLISHED-TTL:PT1H
BEGIN:VTIMEZONE
TZID:UTC
BEGIN:STANDARD
TZOFFSETFROM:+0000
TZOFFSETTO:+0000
TZNAME:UTC
DTSTART:20240101T000000
END:STANDARD
END:VTIMEZONE
BEGIN:VEVENT
DTSTART;TZID=UTC:20250630T080000
DTEND;TZID=UTC:20250728T170000
DTSTAMP:20260424T030507
CREATED:20250619T163122Z
LAST-MODIFIED:20250630T234612Z
UID:10001706-1751270400-1753722000@cspaceprojects.com
SUMMARY:Midsummer Escapade
DESCRIPTION:Exhibition: Midsummer Escapade\nA group exhibition presented by Artpoint Gallery and Studios Society \ncSPACE Marda Loop\nGallery Level 3\nJune 30 – July 28\, 2025\n8:00 AM – 5:00 PM (Closed Sundays) \n\nWarm days and a journey of art! \nLearn more at: www.artpoint.ca \nOpening reception:\n* July 3 from 5-8pm \nArtists in the exhibition:\n@simonaitchison\nJanis burns\n@kcopithorne_illustration\n@ravenbluecreative\n@foxbrenda33\n@freed.erin\n@night.sun.saturn\n@raha.jazayeri.art\n@natashafayejensen\nCharlene Kroeger\n@dianne_j_leong_art\nTerra McDonald\n@lilmolstad\n@nacim.rt\n@bjsosaart\n@sharonthompson.ca\n@dreamsplats
URL:https://cspaceprojects.com/event/midsummer-escapade/
LOCATION:cSPACE Marda Loop\, 1721 29 Avenue Southwest\, Calgary\, AB\, T2T 6T7\, Canada
CATEGORIES:Gallery Level 3
ATTACH;FMTTYPE=image/jpeg:https://cspaceprojects.com/wp-content/uploads/2025/06/9d575b6a-d54b-4f11-a277-f68948ce973e-FlwRcT.jpg
END:VEVENT
BEGIN:VEVENT
DTSTART;TZID=UTC:20250703T100000
DTEND;TZID=UTC:20250703T120000
DTSTAMP:20260424T030507
CREATED:20250405T220522Z
LAST-MODIFIED:20250703T225208Z
UID:10001600-1751536800-1751544000@cspaceprojects.com
SUMMARY:CALL Member Weekly Guitar Jam
DESCRIPTION:Invitation to Calgary Association of Lifelong Learners (CALL) members.\nBring your guitar and a favourite song and join other CALL members for Guitar Jam. Weekly events are held in the CALL room\, Suite #310\, at cSPACE Marda Loop. \nThursdays 10am-12pm. \nNot yet a CALL member? Now is a great time to join and enjoy a full year of “making music” or joining other Interest Groups at cSPACE Marda Loop. Annual fee $50 — learn more: https://calgarylifelonglearners.ca/Membership
URL:https://cspaceprojects.com/event/call-member-weekly-guitar-jam-43/
LOCATION:cSPACE Marda Loop\, 1721 29 Avenue Southwest\, Calgary\, AB\, T2T 6T7\, Canada
CATEGORIES:Suite #310
ATTACH;FMTTYPE=image/jpeg:https://cspaceprojects.com/wp-content/uploads/2024/09/guitar-jam-yh9uRE.tmp_.jpg
ORGANIZER;CN="Calgary Association of Lifelong Learners":MAILTO:communications@calgarylifelonglearners.ca
END:VEVENT
END:VCALENDAR