BEGIN:VCALENDAR
VERSION:2.0
PRODID:-//cSPACE Projects - ECPv6.15.20//NONSGML v1.0//EN
CALSCALE:GREGORIAN
METHOD:PUBLISH
X-ORIGINAL-URL:https://cspaceprojects.com
X-WR-CALDESC:Events for cSPACE Projects
REFRESH-INTERVAL;VALUE=DURATION:PT1H
X-Robots-Tag:noindex
X-PUBLISHED-TTL:PT1H
BEGIN:VTIMEZONE
TZID:UTC
BEGIN:STANDARD
TZOFFSETFROM:+0000
TZOFFSETTO:+0000
TZNAME:UTC
DTSTART:20240101T000000
END:STANDARD
END:VTIMEZONE
BEGIN:VTIMEZONE
TZID:America/Edmonton
BEGIN:DAYLIGHT
TZOFFSETFROM:-0700
TZOFFSETTO:-0600
TZNAME:MDT
DTSTART:20240310T090000
END:DAYLIGHT
BEGIN:STANDARD
TZOFFSETFROM:-0600
TZOFFSETTO:-0700
TZNAME:MST
DTSTART:20241103T080000
END:STANDARD
BEGIN:DAYLIGHT
TZOFFSETFROM:-0700
TZOFFSETTO:-0600
TZNAME:MDT
DTSTART:20250309T090000
END:DAYLIGHT
BEGIN:STANDARD
TZOFFSETFROM:-0600
TZOFFSETTO:-0700
TZNAME:MST
DTSTART:20251102T080000
END:STANDARD
BEGIN:DAYLIGHT
TZOFFSETFROM:-0700
TZOFFSETTO:-0600
TZNAME:MDT
DTSTART:20260308T090000
END:DAYLIGHT
BEGIN:STANDARD
TZOFFSETFROM:-0600
TZOFFSETTO:-0700
TZNAME:MST
DTSTART:20261101T080000
END:STANDARD
END:VTIMEZONE
BEGIN:VEVENT
DTSTART;VALUE=DATE:20250603
DTEND;VALUE=DATE:20250701
DTSTAMP:20260422T183133
CREATED:20250520T181900Z
LAST-MODIFIED:20250604T065803Z
UID:10001668-1748908800-1751327999@cspaceprojects.com
SUMMARY:Exhibition: Life in Warm Colors
DESCRIPTION:Exhibition: Life in Warm Colors\ncSPACE Marda Loop (Level 1)\, Calgary \nJune 3rd – 30th\, 2025\n 8:00 AM – 8:00 PM (Mon – Sat)\nLife in Warm Colors is a striking eco-art exhibition that explores the effects of global warming through a vivid palette of warm hues. Featuring eight original paintings\, this collection brings to life the emotional and environmental toll of global warming. \nOpening Reception: June 4 | 5:00 PM – 7:00 PM \nRSVP at: https://www.olamideadedipe.com/event-details/life-in-warm-colors-art-exhibit/form
URL:https://cspaceprojects.com/event/exhibition-life-in-warm-colors/
LOCATION:cSPACE Marda Loop\, 1721 29 Avenue Southwest\, Calgary\, AB\, T2T 6T7\, Canada
ATTACH;FMTTYPE=image/jpeg:https://cspaceprojects.com/wp-content/uploads/2025/05/working-event-calendar-squares-8.5-x-8.5-in-Jar2uh.jpg
END:VEVENT
BEGIN:VEVENT
DTSTART;TZID=UTC:20250621T100000
DTEND;TZID=UTC:20250621T140000
DTSTAMP:20260422T183133
CREATED:20250331T092343Z
LAST-MODIFIED:20250621T224612Z
UID:10001590-1750500000-1750514400@cspaceprojects.com
SUMMARY:ReFashion with Riyoko Work/Shop
DESCRIPTION:Come explore how to deconstruct and reconstruct clothing into one-of-a-kind pieces of your own.\nIn this class\, students will learn techniques on how to take apart\, and put back together clothing* to create new fashion pieces of their own. From appliqué and patches to making a vest from a jacket\, the possibilities are whatever one can imagine (within the functionality of construction;))! And with the right instruction\, it can be fun and sew much fun to dive into! \n*A few weeks prior to class students will be contacted by the instructor to get a feel for what your projects are. \nThis course is two 4-hour sessions each. The session dates are: \nSaturday March 15 & 22 \nand/ or \nSaturday March 29 & April 5 \nand/ or \nSaturday June 7 & 14 \nand/ or \nSaturday June 21 & 28 \nMore info here: https://riyoko.ca/products/refashion
URL:https://cspaceprojects.com/event/refashion-with-riyoko-work-shop-7/
LOCATION:1721 29 Ave SW\, 1721 29 Avenue Southwest\, Calgary\, AB\, T2T 1P5\, Canada
CATEGORIES:Riyoko Suite #445
ATTACH;FMTTYPE=image/jpeg:https://cspaceprojects.com/wp-content/uploads/2025/02/re-fashion-8.5-x-11-in-GcSSuZ.tmp_.jpg
ORGANIZER;CN="Riyoko Work/Shop":MAILTO:info@riyoko.ca
END:VEVENT
BEGIN:VEVENT
DTSTART;TZID=UTC:20250621T100000
DTEND;TZID=UTC:20250621T140000
DTSTAMP:20260422T183133
CREATED:20250424T064228Z
LAST-MODIFIED:20250621T224612Z
UID:10001614-1750500000-1750514400@cspaceprojects.com
SUMMARY:Farmers & Makers Market at cSPACE Marda Loop
DESCRIPTION:Farmers & Makers Market at cSPACE Marda Loop\nFrom May 24 to October 4\, 2025\, join us every Saturday from 10 AM to 2 PM for the Farmers & Makers Market at cSPACE Marda Loop: an unforgettable shopping\, arts\, and entertainment experience! \nMarket: This curated Alberta-approved farmers’ market showcases a diverse lineup of local growers\, artisans\, and creative entrepreneurs. Explore fresh produce\, handcrafted goods\, and unique treasures that reflect Calgary’s thriving maker community. \nArtist Alley: For those who love discovering new artistic talent\, Artist Alley is your must-visit stop. This dedicated space highlights emerging and semi-professional artists\, creative entrepreneurs\, and community impact groups\, offering a platform to share their work with the community. \nSarina Builds Stage: The Farmers and Makers Market experience is never complete without music! Relax and enjoy performances by some of Calgary’s most talented local musicians on the Sarina Builds Stage. With a rotating lineup of artists\, every Saturday brings a fresh soundtrack to your market visit. \nLink: https://cspacemardaloop.com/farmers-makers-market/
URL:https://cspaceprojects.com/event/farmers-makers-market-at-cspace-marda-loop-5/
LOCATION:cSPACE Marda Loop – Art Park
CATEGORIES:Art Park
ATTACH;FMTTYPE=image/jpeg:https://cspaceprojects.com/wp-content/uploads/2025/04/fmm-artist-alley-5-R6E8Yv.jpg
END:VEVENT
BEGIN:VEVENT
DTSTART;TZID=America/Edmonton:20250621T120000
DTEND;TZID=America/Edmonton:20250621T160000
DTSTAMP:20260422T183133
CREATED:20250614T221617Z
LAST-MODIFIED:20250621T224613Z
UID:10001701-1750507200-1750521600@cspaceprojects.com
SUMMARY:Craft Rocks
DESCRIPTION:Join Alberta Craft for a drop-in make and take activity to create and adopt your very own Pet Rock\n\n\nJoin Alberta Craft at The Works Art & Design Festival for a drop-in make and take activity to create and adopt your very own Pet Rock—a no-maintenance friend that’s full of personality. \n\nFREE drop-in event—no RSVP required\nAges 6+ (kids under 10 must be supervised)\nAll supplies included
URL:https://cspaceprojects.com/event/craft-rocks/
LOCATION:Churchill Square\, 10205 102A Avenue Northwest\, Edmonton\, AB\, T5J 3N5\, Canada
ATTACH;FMTTYPE=image/jpeg:https://cspaceprojects.com/wp-content/uploads/2025/06/6e6c0d76a2aa6478089150259ee4847e-C6ivXc.jpg
END:VEVENT
BEGIN:VEVENT
DTSTART;TZID=America/Edmonton:20250621T140000
DTEND;TZID=America/Edmonton:20250621T160000
DTSTAMP:20260422T183133
CREATED:20250614T221622Z
LAST-MODIFIED:20250621T224616Z
UID:10001702-1750514400-1750521600@cspaceprojects.com
SUMMARY:Reception: Craft Perspectives
DESCRIPTION:Join Alberta Craft and the artists in attendance for the opening reception of Craft Perspectives.\n\n\nThis year\, Alberta Craft is celebrating 45 years of promoting and advocating for Craft in our province. As part of the celebration\, we are presenting Craft Perspectives\, which invites artists to reflect on the past while considering the future of Craft in Alberta. \nCraft Perspectives showcases new works inspired by historical objects\, archival collections\, and cultural artifacts found across the province. Artists have delved into museum vaults\, explored archival treasures\, and uncovered forgotten stories—reimagining them through the lens of contemporary Craft. \nFree | Everyone Welcome
URL:https://cspaceprojects.com/event/reception-craft-perspectives/
LOCATION:Alberta Craft Gallery & Shop – Edmonton\, 10186 106 Street\, Edmonton\, AB\, T5J 1H4\, Canada
ATTACH;FMTTYPE=image/jpeg:https://cspaceprojects.com/wp-content/uploads/2025/06/ac1a2b5dbfb46cf4024c8e069b9782e9-1-Zx6bjB.jpg
END:VEVENT
END:VCALENDAR