BEGIN:VCALENDAR
VERSION:2.0
PRODID:-//cSPACE Projects - ECPv6.15.20//NONSGML v1.0//EN
CALSCALE:GREGORIAN
METHOD:PUBLISH
X-ORIGINAL-URL:https://cspaceprojects.com
X-WR-CALDESC:Events for cSPACE Projects
REFRESH-INTERVAL;VALUE=DURATION:PT1H
X-Robots-Tag:noindex
X-PUBLISHED-TTL:PT1H
BEGIN:VTIMEZONE
TZID:UTC
BEGIN:STANDARD
TZOFFSETFROM:+0000
TZOFFSETTO:+0000
TZNAME:UTC
DTSTART:20240101T000000
END:STANDARD
END:VTIMEZONE
BEGIN:VEVENT
DTSTART;VALUE=DATE:20250331
DTEND;VALUE=DATE:20250427
DTSTAMP:20260424T112444
CREATED:20250320T191140Z
LAST-MODIFIED:20250331T092345Z
UID:10001580-1743379200-1745711999@cspaceprojects.com
SUMMARY:Exhibition: “Celebrating Light in Living Spaces” – Tony Settari
DESCRIPTION:cSPACE Marda Loop\nGallery Level 2\nThe Month of April \n\nMotto:  \nThere is a crack\, a crack in everything. \nThat’s how the light gets in. \n(Leonard Cohen\, Anthem) \n\nA collection of B&W photographs that explores the power of the sun light and its interaction with our daily living. The photographs will take the viewer through the same apartment at different times of the day\, from waking to night. The images let you discover new interesting details of the living spaces that may be otherwise forgotten. \n\nArtist’s Statement – Tony Settari\nTony Settari\, born and trained in the Czech Republic\, developed an early passion for art and music alongside a career in engineering. After moving to Calgary in 1969\, he was inspired by an Ansel Adams retrospective\, which ignited his interest in large-format photography. While his professional career in academia and consulting limited his artistic pursuits for some time\, retirement allowed him to fully return to photography. Today\, his work blends traditional analog techniques with digital processes\, focusing primarily on black-and-white imagery that emphasizes simplicity and minimal reliance on technology.
URL:https://cspaceprojects.com/event/exhibition-celebrating-light-in-living-spaces-tony-settari/
LOCATION:cSPACE Marda Loop\, 1721 29 Avenue Southwest\, Calgary\, AB\, T2T 6T7\, Canada
CATEGORIES:Gallery Level 2
ATTACH;FMTTYPE=image/jpeg:https://cspaceprojects.com/wp-content/uploads/2025/03/advertising_dsc00412_edited1-i4v0Ta.tmp_.jpg
END:VEVENT
BEGIN:VEVENT
DTSTART;VALUE=DATE:20250422
DTEND;VALUE=DATE:20250429
DTSTAMP:20260424T112444
CREATED:20250412T091316Z
LAST-MODIFIED:20250424T064230Z
UID:10001601-1745280000-1745884799@cspaceprojects.com
SUMMARY:Exhibition: “Blooming Diversity – Echoes of Nature” Art Show + Opening Gala
DESCRIPTION:cSPACE Marda Loop \nLevel 4 Hallway Gallery \nApril 22 – 28\, 2025 \nGala Reception: RGO Treehouse \nSaturday\, April 26\, 5-8pm \nGala Cost: $25 \nThis show reflects the deep connections between women\, creativity\, and the natural world. \nFour artists—Maya Corona\, Ariadna Sly\, Carolina Durán\, and Mile Vásquez—come together to share work rooted in Alberta’s landscapes\, shaped by meaningful conversations in the wild\, and inspired by the strength of community. We celebrate diversity\, resilience\, and our bond with the land through visual arts\, mixed media\, and creative expression. \nEach piece captures a moment of connection between the artists\, ourselves\, and the landscapes that shape us. This exhibition invites you to explore\, connect\, and rediscover the joy of the outdoors just beyond our doorsteps. It serves as a reminder that we grow—through adventure\, art\, and each other. \nArt Auction for Bolivia Kids \nAs part of this show\, we’re hosting an exclusive art auction. 100% of the proceeds will go to Bolivia Kids\, which supports education and opportunities for children in need. \nSponsors: Casa Mexico\, Bolivia Kids\, The Bear and Unicorn\, Must do Canada \nLink: https://www.instagram.com/bloomingdiversity/reel/DH6W41SPTNZ/
URL:https://cspaceprojects.com/event/exhibition-blooming-diversity-echoes-of-nature-art-show-opening-gala/
LOCATION:cSPACE Marda Loop\, 1721 29 Avenue Southwest\, Calgary\, AB\, T2T 6T7\, Canada
CATEGORIES:Gallery Level 4
ATTACH;FMTTYPE=image/jpeg:https://cspaceprojects.com/wp-content/uploads/2025/04/poster-echoes-of-nature-blooming-diversity2025-Wbfeq2.tmp_.jpg
END:VEVENT
BEGIN:VEVENT
DTSTART;TZID=UTC:20250425T080000
DTEND;TZID=UTC:20250425T170000
DTSTAMP:20260424T112444
CREATED:20250220T045153Z
LAST-MODIFIED:20250226T071757Z
UID:10001549-1745568000-1745600400@cspaceprojects.com
SUMMARY:Sewing 101 with Ryoko Work/Shop
DESCRIPTION:Come learn how to sew\, and start making your own projects.\nJoin us in the spacious and inspiring new Riyoko Work/Shop and learn the fundamental beginner skills to get on your way to exploring and creating! In this class\, students will learn their way around the machine through various projects and gain the foundational sewing skills to translate into future projects for themselves. Students will learn how to read patterns\, and how to choose fabrics and patterns right for the projects they are making. They will make a reversible\, lined gift bag\, pyjama pants\, and learn how to hem pants\, and sew zippers. The skills of sewing can seem daunting\, but with the right instruction\, it can be fun and sew much easier than you think! \nThis course is three 3-hour sessions. The next sessions are: \nMonday March 3\, 10 & 17 – 6 pm to 9 pm \nor \nFriday April 4\, 11 & 25 – 10 am to 1 pm \nor \nMay 12\, 26 & June 2 – 6 pm to 9 pm
URL:https://cspaceprojects.com/event/sewing-101-with-ryoko-work-shop-6/
LOCATION:1721 29 Ave SW\, 1721 29 Avenue Southwest\, Calgary\, AB\, T2T 1P5\, Canada
CATEGORIES:Riyoko Suite #445
ATTACH;FMTTYPE=image/jpeg:https://cspaceprojects.com/wp-content/uploads/2025/02/copy-of-sewing-101-8.5-x-11-in-1.jpg-1-254IXn.tmp_.jpg
ORGANIZER;CN="Riyoko Work/Shop":MAILTO:info@riyoko.ca
END:VEVENT
BEGIN:VEVENT
DTSTART;TZID=UTC:20250425T100000
DTEND;TZID=UTC:20250425T130000
DTSTAMP:20260424T112444
CREATED:20250306T091118Z
LAST-MODIFIED:20250424T064231Z
UID:10001565-1745575200-1745586000@cspaceprojects.com
SUMMARY:Sewing 101 with Ryoko Work/Shop
DESCRIPTION:Come learn how to sew\, and start making your own projects.\nJoin us in the spacious and inspiring new Riyoko Work/Shop and learn the fundamental beginner skills to get on your way to exploring and creating! In this class\, students will learn their way around the machine through various projects and gain the foundational sewing skills to translate into future projects for themselves. Students will learn how to read patterns\, and how to choose fabrics and patterns right for the projects they are making. They will make a reversible\, lined gift bag\, pyjama pants\, and learn how to hem pants\, and sew zippers. The skills of sewing can seem daunting\, but with the right instruction\, it can be fun and sew much easier than you think! \nThis course is three 3-hour sessions. The next sessions are: \nMonday March 3\, 10 & 17 – 6 pm to 9 pm \nor \nFriday April 4\, 11 & 25 – 10 am to 1 pm \nor \nMay 12\, 26 & June 2 – 6 pm to 9 pm
URL:https://cspaceprojects.com/event/sewing-101-with-ryoko-work-shop-10/
LOCATION:1721 29 Ave SW\, 1721 29 Avenue Southwest\, Calgary\, AB\, T2T 1P5\, Canada
CATEGORIES:Riyoko Suite #445
ATTACH;FMTTYPE=image/jpeg:https://cspaceprojects.com/wp-content/uploads/2025/02/copy-of-sewing-101-8.5-x-11-in-1.jpg-1-254IXn.tmp_.jpg
ORGANIZER;CN="Riyoko Work/Shop":MAILTO:info@riyoko.ca
END:VEVENT
END:VCALENDAR