BEGIN:VCALENDAR
VERSION:2.0
PRODID:-//cSPACE Projects - ECPv6.15.20//NONSGML v1.0//EN
CALSCALE:GREGORIAN
METHOD:PUBLISH
X-WR-CALNAME:cSPACE Projects
X-ORIGINAL-URL:https://cspaceprojects.com
X-WR-CALDESC:Events for cSPACE Projects
REFRESH-INTERVAL;VALUE=DURATION:PT1H
X-Robots-Tag:noindex
X-PUBLISHED-TTL:PT1H
BEGIN:VTIMEZONE
TZID:UTC
BEGIN:STANDARD
TZOFFSETFROM:+0000
TZOFFSETTO:+0000
TZNAME:UTC
DTSTART:20230101T000000
END:STANDARD
END:VTIMEZONE
BEGIN:VEVENT
DTSTART;VALUE=DATE:20240515
DTEND;VALUE=DATE:20240526
DTSTAMP:20260426T024558
CREATED:20240429T221331Z
LAST-MODIFIED:20240515T232858Z
UID:10001037-1715731200-1716681599@cspaceprojects.com
SUMMARY:Gerry Mulhall Exhibition
DESCRIPTION:Up Your Alley\ncSPACE Marda Loop\nGallery Level 2\nMay 15-25th \nArtist Reception: Saturday May 18th\, 2-5pm \nGerry Mulhall\, a Canadian artist from Toronto\, captures the essence of nature and human experience in his vibrant paintings. Inspired by the Canadian wilderness and urban life\, his work explores the interplay between the natural and the man-made with bold colours and fluid brushstrokes. Exhibited in galleries worldwide\, Mulhall’s distinctive style and masterful technique invite viewers to contemplate the beauty and complexity of his subjects\, whether sweeping landscapes or intimate portraits\, showcasing his profound connection to the world around him.
URL:https://cspaceprojects.com/event/gerry-mulhall-exhibition/
LOCATION:cSPACE Marda Loop\, 1721 29 Avenue Southwest\, Calgary\, AB\, T2T 6T7\, Canada
CATEGORIES:Gallery Level 2
ATTACH;FMTTYPE=image/jpeg:https://cspaceprojects.com/wp-content/uploads/2024/04/up-your-alley-oil-painting-exhibition-by-gerard-mulhall_20240425_185828_0000-EMTjC0.tmp_.jpg
END:VEVENT
BEGIN:VEVENT
DTSTART;TZID=UTC:20240521T180000
DTEND;TZID=UTC:20240521T210000
DTSTAMP:20260426T024558
CREATED:20240326T231328Z
LAST-MODIFIED:20240327T202850Z
UID:10000951-1716314400-1716325200@cspaceprojects.com
SUMMARY:All About Sleeves: Sleeve Pattern Making Workshop
DESCRIPTION:Riyoko Work/Shop hosts All About Sleeves.  \nThis is a great follow-up to Pattern Making 101 offering skills to continue learning about fitting a beautifully tailored garment. Topics of discussion will include: \n1) proper measuring of the arm and how to alter the pattern accordingly\n2) how to calculate the perfect amount of sleeve cap ease\n3) what to do with those elbow darts!\n4) common and popular sleeve designs \nWorking hands-on\, students will develop their own reference pattern making notes. This course will be jam packed with serious skills. \nNext sessions is: \nTuesday April 16\, 23 & 30 – 6 pm to 9 pm \n*Prerequisite for this class is intermediate experience\, or Patternmaking 101 (https://riyoko.ca/products/patternmaking-103) \n*Class fees include all supplies except rulers\, tape\, and fabric scissors. Rulers are available for purchase from the instructor during the class.
URL:https://cspaceprojects.com/event/all-about-sleeves-sleeve-pattern-making-workshop-6/
LOCATION:cSPACE Marda Loop (formerly cSPACE King Edward)\, 29 Avenue Southwest\, Calgary\, AB\, Canada\, 1721 29 Avenue Southwest\, Calgary\, AB\, T2T 6T7\, Canada
CATEGORIES:Riyoko Suite #445
ATTACH;FMTTYPE=image/jpeg:https://cspaceprojects.com/wp-content/uploads/2024/03/allaboutsleeves_webshop-RBAgsc.tmp_.jpg
ORGANIZER;CN="Riyoko Work/Shop":MAILTO:info@riyoko.ca
END:VEVENT
END:VCALENDAR