BEGIN:VCALENDAR
VERSION:2.0
PRODID:-//cSPACE Projects - ECPv6.15.20//NONSGML v1.0//EN
CALSCALE:GREGORIAN
METHOD:PUBLISH
X-WR-CALNAME:cSPACE Projects
X-ORIGINAL-URL:https://cspaceprojects.com
X-WR-CALDESC:Events for cSPACE Projects
REFRESH-INTERVAL;VALUE=DURATION:PT1H
X-Robots-Tag:noindex
X-PUBLISHED-TTL:PT1H
BEGIN:VTIMEZONE
TZID:UTC
BEGIN:STANDARD
TZOFFSETFROM:+0000
TZOFFSETTO:+0000
TZNAME:UTC
DTSTART:20230101T000000
END:STANDARD
END:VTIMEZONE
BEGIN:VEVENT
DTSTART;TZID=UTC:20240324T190000
DTEND;TZID=UTC:20240324T210000
DTSTAMP:20260425T103346
CREATED:20240321T005820Z
LAST-MODIFIED:20240324T234315Z
UID:10000909-1711306800-1711314000@cspaceprojects.com
SUMMARY:Beyond Circus: A Works-in-Progress Showcase
DESCRIPTION:Beyond Circus:\nA Works-in-Progress Showcase from the Screaming Goats Collective\nGet ready to be immersed in new circus creation by talented artists pushing the boundaries of traditional circus arts. This intimate event is a unique opportunity to witness creative works in development\, providing a sneak peek into the future of circus entertainment. Don’t miss out on this one-of-a-kind experience! \nThe performance includes a post-show talk back with audiences where people can meet with the artists and have a deeper dialogue about the art of circus creation. \nAges 18+
URL:https://cspaceprojects.com/event/beyond-circus-a-works-in-progress-showcase/
LOCATION:cSPACE Marda Loop-  Studio Theatre\, 1721 29th Ave. SW\, Calgary\, AB\, T2T 6T7\, Canada
CATEGORIES:Studio Theatre
ATTACH;FMTTYPE=image/jpeg:https://cspaceprojects.com/wp-content/uploads/2024/03/beyond-circus-poster-1-349-RAE4OV.tmp_.jpg
END:VEVENT
END:VCALENDAR