BEGIN:VCALENDAR
VERSION:2.0
PRODID:-//cSPACE Projects - ECPv6.15.20//NONSGML v1.0//EN
CALSCALE:GREGORIAN
METHOD:PUBLISH
X-ORIGINAL-URL:https://cspaceprojects.com
X-WR-CALDESC:Events for cSPACE Projects
REFRESH-INTERVAL;VALUE=DURATION:PT1H
X-Robots-Tag:noindex
X-PUBLISHED-TTL:PT1H
BEGIN:VTIMEZONE
TZID:UTC
BEGIN:STANDARD
TZOFFSETFROM:+0000
TZOFFSETTO:+0000
TZNAME:UTC
DTSTART:20220101T000000
END:STANDARD
END:VTIMEZONE
BEGIN:VEVENT
DTSTART;TZID=UTC:20231028T100000
DTEND;TZID=UTC:20231028T120000
DTSTAMP:20260423T090303
CREATED:20230730T001819Z
LAST-MODIFIED:20231028T235942Z
UID:10000284-1698487200-1698494400@cspaceprojects.com
SUMMARY:CALL of the UKE
DESCRIPTION:Do you enjoy singing and playing in a group setting? If so\, the CALL of the UKE Interest Group is for you!\nYou should have an understanding of the ukulele and basic chord formations. Group participants will introduce and lead a song of their choice each week . Facilitators will assist as required. \nSaturdays\, 10am – 12pm\nRoom #310\ncSPACE Marda Loop \nRegister on the Calgary Association of Lifelong Learners website. Free for CALL members. Drop-ins are welcome for one session.
URL:https://cspaceprojects.com/event/call-of-the-uke-15/
LOCATION:cSPACE Marda Loop\, 1721 29 Avenue Southwest\, Calgary\, AB\, T2T 6T7\, Canada
ATTACH;FMTTYPE=image/jpeg:https://cspaceprojects.com/wp-content/uploads/2023/07/call-of-the-uke-IkyRWQ.tmp_.jpg
ORGANIZER;CN="Calgary Association of Lifelong Learners":MAILTO:communications@calgarylifelonglearners.ca
END:VEVENT
BEGIN:VEVENT
DTSTART;TZID=UTC:20231028T110000
DTEND;TZID=UTC:20231028T180000
DTSTAMP:20260423T090303
CREATED:20230808T202901Z
LAST-MODIFIED:20231005T151711Z
UID:10000407-1698490800-1698516000@cspaceprojects.com
SUMMARY:Dark Recess Open House with Karolina Gajewska
DESCRIPTION:Experience a fully immersive art installation designed to stimulate and evoke emotional responses common to horror themes. An element of this will include a large format horror inspired silk screened installation by printmaker Karolina Gajewska. \nDark Recess is a multi-faceted arts installation\, dialog incubator and arts residency that unveils the emotions of loss\, grief\, pain\, fear\, darkness and trauma and how they are expressed culturally through art and various film horror genres. Inspired by the month of October and the resurrection of things arguably left better to dead\, we’ll peel back the layers of which we express Dark Recess.
URL:https://cspaceprojects.com/event/dark-recess-open-house-with-karolina-gajewska-16/
LOCATION:cSPACE Eau Claire Neighbourhood Hub\, 381 2 Avenue Southwest\, Calgary\, AB\, T2P 0C5\, Canada
CATEGORIES:Artist Talk,cSPACE Eau Claire Neighbourhood Hub,Event,Open Studio,Residency,Workshop
ATTACH;FMTTYPE=image/jpeg:https://cspaceprojects.com/wp-content/uploads/2023/10/medusas-mirror-11x17-rev1-scaled-u8a3xQ.tmp_.jpg
END:VEVENT
BEGIN:VEVENT
DTSTART;TZID=UTC:20231028T130000
DTEND;TZID=UTC:20231028T180000
DTSTAMP:20260423T090303
CREATED:20231005T162821Z
LAST-MODIFIED:20231028T231417Z
UID:10000653-1698498000-1698516000@cspaceprojects.com
SUMMARY:Dark Recess Open House with Karolina Gajewska
DESCRIPTION:Experience a fully immersive art installation designed to stimulate and evoke emotional responses common to horror themes. An element of this will include a large format horror inspired silk screened installation by printmaker Karolina Gajewska. \nDark Recess is a multi-faceted arts installation\, dialog incubator and arts residency that unveils the emotions of loss\, grief\, pain\, fear\, darkness and trauma and how they are expressed culturally through art and various film horror genres. Inspired by the month of October and the resurrection of things arguably left better to dead\, we’ll peel back the layers of which we express Dark Recess.
URL:https://cspaceprojects.com/event/dark-recess-open-house-with-karolina-gajewska-31/
LOCATION:cSPACE Eau Claire Neighbourhood Hub\, 381 2 Avenue Southwest\, Calgary\, AB\, T2P 0C5\, Canada
CATEGORIES:Artist Talk,cSPACE Eau Claire Neighbourhood Hub,Event,Open Studio,Residency,Workshop
ATTACH;FMTTYPE=image/jpeg:https://cspaceprojects.com/wp-content/uploads/2023/10/medusas-mirror-11x17-rev1-scaled-u8a3xQ.tmp_.jpg
END:VEVENT
END:VCALENDAR