BEGIN:VCALENDAR
VERSION:2.0
PRODID:-//cSPACE Projects - ECPv6.15.20//NONSGML v1.0//EN
CALSCALE:GREGORIAN
METHOD:PUBLISH
X-WR-CALNAME:cSPACE Projects
X-ORIGINAL-URL:https://cspaceprojects.com
X-WR-CALDESC:Events for cSPACE Projects
REFRESH-INTERVAL;VALUE=DURATION:PT1H
X-Robots-Tag:noindex
X-PUBLISHED-TTL:PT1H
BEGIN:VTIMEZONE
TZID:UTC
BEGIN:STANDARD
TZOFFSETFROM:+0000
TZOFFSETTO:+0000
TZNAME:UTC
DTSTART:20220101T000000
END:STANDARD
END:VTIMEZONE
BEGIN:VTIMEZONE
TZID:America/Edmonton
BEGIN:DAYLIGHT
TZOFFSETFROM:-0700
TZOFFSETTO:-0600
TZNAME:MDT
DTSTART:20220313T090000
END:DAYLIGHT
BEGIN:STANDARD
TZOFFSETFROM:-0600
TZOFFSETTO:-0700
TZNAME:MST
DTSTART:20221106T080000
END:STANDARD
BEGIN:DAYLIGHT
TZOFFSETFROM:-0700
TZOFFSETTO:-0600
TZNAME:MDT
DTSTART:20230312T090000
END:DAYLIGHT
BEGIN:STANDARD
TZOFFSETFROM:-0600
TZOFFSETTO:-0700
TZNAME:MST
DTSTART:20231105T080000
END:STANDARD
BEGIN:DAYLIGHT
TZOFFSETFROM:-0700
TZOFFSETTO:-0600
TZNAME:MDT
DTSTART:20240310T090000
END:DAYLIGHT
BEGIN:STANDARD
TZOFFSETFROM:-0600
TZOFFSETTO:-0700
TZNAME:MST
DTSTART:20241103T080000
END:STANDARD
END:VTIMEZONE
BEGIN:VEVENT
DTSTART;TZID=UTC:20231013T110000
DTEND;TZID=UTC:20231013T180000
DTSTAMP:20260421T091612
CREATED:20230808T202857Z
LAST-MODIFIED:20231005T151709Z
UID:10000381-1697194800-1697220000@cspaceprojects.com
SUMMARY:Dark Recess Open House with Karolina Gajewska
DESCRIPTION:Experience a fully immersive art installation designed to stimulate and evoke emotional responses common to horror themes. An element of this will include a large format horror inspired silk screened installation by printmaker Karolina Gajewska. \nDark Recess is a multi-faceted arts installation\, dialog incubator and arts residency that unveils the emotions of loss\, grief\, pain\, fear\, darkness and trauma and how they are expressed culturally through art and various film horror genres. Inspired by the month of October and the resurrection of things arguably left better to dead\, we’ll peel back the layers of which we express Dark Recess.
URL:https://cspaceprojects.com/event/dark-recess-open-house-with-karolina-gajewska-7/
LOCATION:cSPACE Eau Claire Neighbourhood Hub\, 381 2 Avenue Southwest\, Calgary\, AB\, T2P 0C5\, Canada
CATEGORIES:Artist Talk,cSPACE Eau Claire Neighbourhood Hub,Event,Open Studio,Residency,Workshop
ATTACH;FMTTYPE=image/jpeg:https://cspaceprojects.com/wp-content/uploads/2023/10/medusas-mirror-11x17-rev1-scaled-u8a3xQ.tmp_.jpg
END:VEVENT
BEGIN:VEVENT
DTSTART;TZID=UTC:20231013T151500
DTEND;TZID=UTC:20231013T180000
DTSTAMP:20260421T091612
CREATED:20230901T000020Z
LAST-MODIFIED:20231013T230321Z
UID:10000601-1697210100-1697220000@cspaceprojects.com
SUMMARY:Hong Kong Mah Jong with CALL
DESCRIPTION:This weekly group starts Friday\, September 1st and continues until the end of the year.\nSharpen your memory while having fun! \nHere’s another reason to renew your CALL membership – or to join now.\nRegister on our website.
URL:https://cspaceprojects.com/event/hong-kong-mah-jong-with-call-7/
LOCATION:cSPACE Marda Loop\, 1721 29 Avenue Southwest\, Calgary\, AB\, T2T 6T7\, Canada
ATTACH;FMTTYPE=image/jpeg:https://cspaceprojects.com/wp-content/uploads/2023/09/hong-kong-mah-jong-TF3OCH.tmp_.jpg
ORGANIZER;CN="Calgary Association of Lifelong Learners":MAILTO:communications@calgarylifelonglearners.ca
END:VEVENT
BEGIN:VEVENT
DTSTART;TZID=UTC:20231013T163000
DTEND;TZID=UTC:20231013T213000
DTSTAMP:20260421T091612
CREATED:20231005T162820Z
LAST-MODIFIED:20231013T232907Z
UID:10000644-1697214600-1697232600@cspaceprojects.com
SUMMARY:Dark Recess Open House with Karolina Gajewska
DESCRIPTION:Experience a fully immersive art installation designed to stimulate and evoke emotional responses common to horror themes. An element of this will include a large format horror inspired silk screened installation by printmaker Karolina Gajewska. \nDark Recess is a multi-faceted arts installation\, dialog incubator and arts residency that unveils the emotions of loss\, grief\, pain\, fear\, darkness and trauma and how they are expressed culturally through art and various film horror genres. Inspired by the month of October and the resurrection of things arguably left better to dead\, we’ll peel back the layers of which we express Dark Recess.
URL:https://cspaceprojects.com/event/dark-recess-open-house-with-karolina-gajewska-22/
LOCATION:cSPACE Eau Claire Neighbourhood Hub\, 381 2 Avenue Southwest\, Calgary\, AB\, T2P 0C5\, Canada
CATEGORIES:Artist Talk,cSPACE Eau Claire Neighbourhood Hub,Event,Open Studio,Residency,Workshop
ATTACH;FMTTYPE=image/jpeg:https://cspaceprojects.com/wp-content/uploads/2023/10/medusas-mirror-11x17-rev1-scaled-u8a3xQ.tmp_.jpg
END:VEVENT
BEGIN:VEVENT
DTSTART;TZID=America/Edmonton:20231013T190000
DTEND;TZID=America/Edmonton:20231013T210000
DTSTAMP:20260421T091612
CREATED:20230716T004354Z
LAST-MODIFIED:20230802T155145Z
UID:10000264-1697223600-1697230800@cspaceprojects.com
SUMMARY:Empty the House
DESCRIPTION:Join Ammolite Opera in our opening gala in Calgary featuring Rene Orth and Mark Campbell’s chamber opera Empty the House.
URL:https://cspaceprojects.com/event/empty-the-house-4/
LOCATION:cSPACE Marda Loop-  Studio Theatre\, 1721 29th Ave. SW\, Calgary\, AB\, T2T 6T7\, Canada
CATEGORIES:Studio Theatre
ATTACH;FMTTYPE=image/jpeg:https://cspaceprojects.com/wp-content/uploads/2023/07/b28e00a25e31dad5de45fcc528291297-1-z7geKg.tmp_.jpg
END:VEVENT
BEGIN:VEVENT
DTSTART;TZID=America/Edmonton:20231013T190000
DTEND;TZID=America/Edmonton:20231013T210000
DTSTAMP:20260421T091612
CREATED:20230716T004355Z
LAST-MODIFIED:20231014T235901Z
UID:10000265-1697223600-1697230800@cspaceprojects.com
SUMMARY:Empty the House
DESCRIPTION:Join Ammolite Opera in our opening gala in Calgary featuring Rene Orth and Mark Campbell’s chamber opera Empty the House.
URL:https://cspaceprojects.com/event/empty-the-house-5/
LOCATION:cSPACE Marda Loop-  Studio Theatre\, 1721 29th Ave. SW\, Calgary\, AB\, T2T 6T7\, Canada
CATEGORIES:Studio Theatre
ATTACH;FMTTYPE=image/jpeg:https://cspaceprojects.com/wp-content/uploads/2023/07/b28e00a25e31dad5de45fcc528291297-1-z7geKg.tmp_.jpg
END:VEVENT
END:VCALENDAR