BEGIN:VCALENDAR
VERSION:2.0
PRODID:-//cSPACE Projects - ECPv6.15.20//NONSGML v1.0//EN
CALSCALE:GREGORIAN
METHOD:PUBLISH
X-ORIGINAL-URL:https://cspaceprojects.com
X-WR-CALDESC:Events for cSPACE Projects
REFRESH-INTERVAL;VALUE=DURATION:PT1H
X-Robots-Tag:noindex
X-PUBLISHED-TTL:PT1H
BEGIN:VTIMEZONE
TZID:UTC
BEGIN:STANDARD
TZOFFSETFROM:+0000
TZOFFSETTO:+0000
TZNAME:UTC
DTSTART:20220101T000000
END:STANDARD
END:VTIMEZONE
BEGIN:VEVENT
DTSTART;VALUE=DATE:20230529
DTEND;VALUE=DATE:20230626
DTSTAMP:20260425T172914
CREATED:20230524T204510Z
LAST-MODIFIED:20230529T231317Z
UID:10000155-1685318400-1687737599@cspaceprojects.com
SUMMARY:Northern Dreams
DESCRIPTION:Artist Statement – Inna Nagaytseva\nIn a week my personal exhibition “Northern Dreams” will open in Calgary.\n\n\n\nNorthern Dreams is not just watercolour paintings. This is the strength and beauty of the most picturesque places for me. They symbolize silence and tranquility\, they move consciousness to where the soul connects with nature\, which for me\, as an artist\, is a very important factor in the development of a person. I invite you to visit these places with me\, through my paintings\, which I painted with extraordinary love.\n\n\n\nAll works presented at the exhibition are available for purchase\, 20% of sales will be sent to help families in Ukraine.\n\n\n\nIf you are unable to attend Calgary\, the exhibition will be available online on my website. To purchase a painting\, you can contact me through the feedback form on the site or by e-mail\, which is indicated next to the images.\n\n\n\nAll paintings are unique and have a certificate of authenticity.\n\n\n\nI really hope that my paintings will be able to touch your hearts and you will plunge into the magical world of watercolor with me.\n\n\ninnanagaytseva.com/northerndreams
URL:https://cspaceprojects.com/event/northern-dreams/
LOCATION:cSPACE Marda Loop\, 1721 29 Avenue Southwest\, Calgary\, AB\, T2T 6T7\, Canada
CATEGORIES:Gallery Level 1
ATTACH;FMTTYPE=image/jpeg:https://cspaceprojects.com/wp-content/uploads/2023/05/northern-dreams-exhibition-OuyHBB.tmp_.jpg
END:VEVENT
BEGIN:VEVENT
DTSTART;TZID=UTC:20230606T120000
DTEND;TZID=UTC:20230704T120000
DTSTAMP:20260425T172914
CREATED:20230606T173408Z
LAST-MODIFIED:20230606T230251Z
UID:10000183-1686052800-1688472000@cspaceprojects.com
SUMMARY:Alberta University of the Arts : Grad Showcase & Sale
DESCRIPTION:Congratulations to the @albertauarts graduating class of 2023!\nTo celebrate\, we are showcasing work by 5 of our graduating artists at our second annual Grad Showcase\, June 6th – July 4th at SPACE creative hub in Marda Loop. \nCheck out the artwork in-person on the 4th floor of the SPACE creative hub in Marda Loop and online at www.showandsale.ca .
URL:https://cspaceprojects.com/event/alberta-university-of-the-arts-grad-showcase-sale/
LOCATION:cSPACE Marda Loop\, 1721 29 Avenue Southwest\, Calgary\, AB\, T2T 6T7\, Canada
CATEGORIES:Gallery Level 4,Level 4 Cupola Gallery
ATTACH;FMTTYPE=image/jpeg:https://cspaceprojects.com/wp-content/uploads/2023/06/img_08281-DDGvvr.tmp_.jpg
END:VEVENT
BEGIN:VEVENT
DTSTART;TZID=UTC:20230620T113000
DTEND;TZID=UTC:20230620T153000
DTSTAMP:20260425T172914
CREATED:20230601T182048Z
LAST-MODIFIED:20230609T211317Z
UID:10000179-1687260600-1687275000@cspaceprojects.com
SUMMARY:We Don’t Bite – Come\, Meet an Artist!
DESCRIPTION:Have you always wanted to meet an artist? Now’s your chance! Dale Lee Kwong hosts a daily meet and greet featuring different artists from the Calgary area. There will be a short interview at 12 noon to learn about the artist\, their creative practice and any Q and A\, followed by an open house. Ask anything you want\, artists don’t bite!
URL:https://cspaceprojects.com/event/we-dont-bite-come-meet-an-artist-7/
LOCATION:cSPACE Eau Claire Neighbourhood Hub\, 381 2 Avenue Southwest\, Calgary\, AB\, T2P 0C5\, Canada
CATEGORIES:Artist Talk,cSPACE Eau Claire Neighbourhood Hub
ATTACH;FMTTYPE=image/jpeg:https://cspaceprojects.com/wp-content/uploads/2023/06/dale-kwong3-fgvQj2.tmp_.jpg
END:VEVENT
BEGIN:VEVENT
DTSTART;TZID=UTC:20230620T113000
DTEND;TZID=UTC:20230620T153000
DTSTAMP:20260425T172914
CREATED:20230609T221346Z
LAST-MODIFIED:20230620T232816Z
UID:10000193-1687260600-1687275000@cspaceprojects.com
SUMMARY:We Don’t Bite – Come\, Meet an Artist! Col Cseke
DESCRIPTION:Have you always wanted to meet an artist? Now’s your chance! Dale Lee Kwong hosts a daily meet and greet featuring different artists from the Calgary area. There will be a short interview at 12 noon to learn about the artist\, their creative practice and any Q and A\, followed by an open house. Ask anything you want\, artists don’t bite! \nCol Cseke \nCol lives\, works\, and makes plays on Treaty 7 land. He’s the Artistic & Executive Director of Inside Out Theatre\, a Deaf\, Disabled\, and Mad theatre company\, and spearheads non-fiction story telling projects under the banner Field Work. Some favourite past projects include the documentary play Parts & Labour\, which documents the intense world of Temporary Foreign Workers and meat packing in Alberta\, In The Wake\, with the Downstage Creation Ensemble\, which tells an epic tale of climate change on a tiny platform\, and The Magpie Treasure Talks\, co-created with Ellen Close\, which presents expert talks on unexpected topics by homeless Calgarians. Previously Col served as Co-Artistic Director at Verb Theatre\, Playwright in Residence at Alberta Theatre Projects\, and Artistic Associate at The Scottish Opera during the Commonwealth Cultural Festival in Glasgow.
URL:https://cspaceprojects.com/event/we-dont-bite-come-meet-an-artist-col-cseke/
LOCATION:cSPACE Eau Claire Neighbourhood Hub\, 381 2 Avenue Southwest\, Calgary\, AB\, T2P 0C5\, Canada
CATEGORIES:Artist Talk,cSPACE Eau Claire Neighbourhood Hub
ATTACH;FMTTYPE=image/jpeg:https://cspaceprojects.com/wp-content/uploads/2023/06/wncof-scaled-e1686681247932-40xwFQ.tmp_.jpg
END:VEVENT
END:VCALENDAR